BEGIN:VCALENDAR
VERSION:2.0
PRODID:-//The Domme Kat - ECPv6.15.20//NONSGML v1.0//EN
CALSCALE:GREGORIAN
METHOD:PUBLISH
X-WR-CALNAME:The Domme Kat
X-ORIGINAL-URL:https://www.thedominakatarina.com
X-WR-CALDESC:Events for The Domme Kat
REFRESH-INTERVAL;VALUE=DURATION:PT1H
X-Robots-Tag:noindex
X-PUBLISHED-TTL:PT1H
BEGIN:VTIMEZONE
TZID:America/New_York
BEGIN:DAYLIGHT
TZOFFSETFROM:-0500
TZOFFSETTO:-0400
TZNAME:EDT
DTSTART:20250309T070000
END:DAYLIGHT
BEGIN:STANDARD
TZOFFSETFROM:-0400
TZOFFSETTO:-0500
TZNAME:EST
DTSTART:20251102T060000
END:STANDARD
BEGIN:DAYLIGHT
TZOFFSETFROM:-0500
TZOFFSETTO:-0400
TZNAME:EDT
DTSTART:20260308T070000
END:DAYLIGHT
BEGIN:STANDARD
TZOFFSETFROM:-0400
TZOFFSETTO:-0500
TZNAME:EST
DTSTART:20261101T060000
END:STANDARD
BEGIN:DAYLIGHT
TZOFFSETFROM:-0500
TZOFFSETTO:-0400
TZNAME:EDT
DTSTART:20270314T070000
END:DAYLIGHT
BEGIN:STANDARD
TZOFFSETFROM:-0400
TZOFFSETTO:-0500
TZNAME:EST
DTSTART:20271107T060000
END:STANDARD
END:VTIMEZONE
BEGIN:VEVENT
DTSTART;TZID=America/New_York:20260328T190000
DTEND;TZID=America/New_York:20260328T214500
DTSTAMP:20260425T084837
CREATED:20260302T051442Z
LAST-MODIFIED:20260317T050546Z
UID:1366-1774724400-1774734300@www.thedominakatarina.com
SUMMARY:Wrestling Workshop and Demo Bottom Opportunity at Geekaholic Munch
DESCRIPTION:Get used during my latest workshop that I’m teaching for Geekaholic and then enjoy board games\, card games\, video games\, D&D\, Jamaican food\, adoptable turtles and more at NYC’s largest munch!\nI’m teaching an in-person wrestling workshop for Geekaholic NYC and I need a bottom or jobber that I can use while demonstrating the moves. \nYou are required to arrive by 7 p.m. before the class starts (8 p.m.) so we can check-in with each other and I can show you any safety you need before the class. Do not be late! \nTotal workshop time is 1.5 hours. \nEnjoy everything the munch has to offer before and after the workshop!\nLearn more about the munch here. \nI will cover beginner (101) moves like:\n– takedown variations\n– grapevine pin\n– chokes (like rear naked chokes\, scissorholds)\n– victory poses\nand others as time permits. \nAccessibility note: The entrance to the building is ground level\, but the workshop area is up a flight of stairs. \nThis is not a session or a pornographic film set. This is an educational workshop with attendees of Geekaholic munch. Proper hygiene is required. \nTicket sales end 3/26 at midnight. \n— Katarina “The Domme Kat” Pierce \nP.S. SW and QTPOC\, if you want to attend the munch\, entry is by donation. Workshop is free when you attend the munch\, but spots are limited. Sign up at the front desk when you arrive.
URL:https://www.thedominakatarina.com/event/wrestling-workshop-at-geekaholic-munch/
LOCATION:Prime Produce\, 424 West 54th Street\, New York\, NY\, United States
CATEGORIES:Announcements & Social Media,Munch,The Domme Kat at...,Workshops
ATTACH;FMTTYPE=image/png:https://www.thedominakatarina.com/wp-content/uploads/2026/03/ISO.png
END:VEVENT
BEGIN:VEVENT
DTSTART;VALUE=DATE:20260329
DTEND;VALUE=DATE:20260330
DTSTAMP:20260425T084837
CREATED:20260325T073453Z
LAST-MODIFIED:20260325T073453Z
UID:1408-1774742400-1774828799@www.thedominakatarina.com
SUMMARY:Customs and Double Sessions with Queen Gia Love
DESCRIPTION:Queen Gia Love and I are available to make your wrestling\, kink\, fetish and FemDom fantasies come to life in Manhattan and Brooklyn! Order your custom clip or book a double–don’t wait and get the sads later because you missed out on the time of your life.
URL:https://www.thedominakatarina.com/event/customs-and-double-sessions-with-queen-gia-love/
LOCATION:NYC\, NY\, United States
CATEGORIES:Announcements & Social Media,Double Sessions,Visiting Providers in NYC
ATTACH;FMTTYPE=image/jpeg:https://www.thedominakatarina.com/wp-content/uploads/2026/03/HEPRC_LbYAAfz3T.jpeg
ORGANIZER;CN="Queen Gia Love":MAILTO:QueenGiaLove@gmail.com
END:VEVENT
BEGIN:VEVENT
DTSTART;TZID=America/New_York:20260403T080000
DTEND;TZID=America/New_York:20260413T170000
DTSTAMP:20260425T084837
CREATED:20260403T054102Z
LAST-MODIFIED:20260403T054131Z
UID:1432-1775203200-1776099600@www.thedominakatarina.com
SUMMARY:April and May 2026 with The Domme Kat
DESCRIPTION:Check out this line up of events for April and May 2026 with The Domme Kat: wrestling\, sapphic events\, pegging\, wax play\, verbal Domination and more!
URL:https://www.thedominakatarina.com/event/april-and-may-2026-with-the-domme-kat/
LOCATION:NY
CATEGORIES:Announcements & Social Media
ATTACH;FMTTYPE=image/jpeg:https://www.thedominakatarina.com/wp-content/uploads/2025/08/Wrestling-TheDommeKat-DominaKatarina-Ass-BareFeet-CFNM-BDSM_CJ-1.jpg
ORGANIZER;CN="The Domme Kat":MAILTO:theDommeKat@protonmail.com
END:VEVENT
BEGIN:VEVENT
DTSTART;TZID=America/New_York:20260403T160000
DTEND;TZID=America/New_York:20260403T170000
DTSTAMP:20260425T084837
CREATED:20260403T041250Z
LAST-MODIFIED:20260403T041250Z
UID:1413-1775232000-1775235600@www.thedominakatarina.com
SUMMARY:Wow! Have you missed me here? FACE SITTING & KINK TASTINGS *TONIGHT*
DESCRIPTION:I’ve been having so much fun with you at parties\, workshops and other events that I haven’t gotten to tell you what else I have going on! \nReady? Try to keep up! \nTODAY is Sit & Punish\, a breath play and face sitting workshop in lower Manhattan through The Taillor Group AND kink tastings at Kinklesque\, a sexy show and play party by Pagans Paradise.
URL:https://www.thedominakatarina.com/event/wow-have-you-missed-me-here-face-sitting-kink-tastings-tonight/
LOCATION:secret location in lower Mahattan
CATEGORIES:Announcements & Social Media,MiniSessions,Party,Play Party,Play Party,The Domme Kat at...,Workshops
ATTACH;FMTTYPE=image/jpeg:https://www.thedominakatarina.com/wp-content/uploads/2026/03/sitpunish_taillors.jpg
END:VEVENT
BEGIN:VEVENT
DTSTART;TZID=America/New_York:20260406T193000
DTEND;TZID=America/New_York:20260406T210000
DTSTAMP:20260425T084837
CREATED:20260403T055400Z
LAST-MODIFIED:20260403T055400Z
UID:1438-1775503800-1775509200@www.thedominakatarina.com
SUMMARY:Mandatory Consent with The Domme Kat and Charlotte Taillor
DESCRIPTION:A webinar everyone should attend by Domina Katarina Pierce & Queen Charlotte Taillor\n\n\n\n\nConsent isn’t just a concept for the bedroom — it shows up in every relationship in your life. Whether you’re navigating dynamics at work\, with a partner\, in a friendship\, or in your family\, understanding consent changes how you communicate\, how you set boundaries\, and how you show up for others. \nIn this live webinar\, educators Domina Katarina and Charlotte Taillor explain why this subject matters\, talk about what consent is and what it isn’t\, when and how to ask for it\, the inherent pressures and trauma responses that shape our ability to say yes or no\, and what to do when consent is violated — because getting this right really is important. \nThis webinar is for anyone and everyone who cares about respecting consent. \n\n\nIf you miss it\, join us every other month on the 1st Monday!
URL:https://www.thedominakatarina.com/event/mandatory-consent-with-the-domme-kat-and-charlotte-taillor/
LOCATION:online
CATEGORIES:Announcements & Social Media,Collabs,The Domme Kat at...,Workshops
ATTACH;FMTTYPE=image/jpeg:https://www.thedominakatarina.com/wp-content/uploads/2026/04/WhatsApp-Image-2026-03-29-at-18.45.03.jpeg
ORGANIZER;CN="The Domme Kat":MAILTO:theDommeKat@protonmail.com
END:VEVENT
BEGIN:VEVENT
DTSTART;TZID=America/New_York:20260410T150000
DTEND;TZID=America/New_York:20260412T160000
DTSTAMP:20260425T084837
CREATED:20260403T042933Z
LAST-MODIFIED:20260403T042933Z
UID:1422-1775833200-1776009600@www.thedominakatarina.com
SUMMARY:The Domme Kat is heading to Chicago!
DESCRIPTION:I’ll be at the Zodl (ZCash) booth at Exxxotica Chicago\, but I’m available for sessions and filming! \nProducers\, email BOOKtheDommeKat@protonmail.com\nClients and Fans\, submit your request here.
URL:https://www.thedominakatarina.com/event/the-domme-kat-is-heading-to-chicago/
LOCATION:Exxxotica – Chicago\, Chicago\, United States
CATEGORIES:Announcements & Social Media,The Domme Kat at...
ATTACH;FMTTYPE=image/jpeg:https://www.thedominakatarina.com/wp-content/uploads/2025/08/THURS-12p-Primal-8_16.jpg
ORGANIZER;CN="The Domme Kat":MAILTO:theDommeKat@protonmail.com
END:VEVENT
BEGIN:VEVENT
DTSTART;TZID=America/New_York:20260416T190000
DTEND;TZID=America/New_York:20260416T220000
DTSTAMP:20260425T084837
CREATED:20260317T040422Z
LAST-MODIFIED:20260403T041948Z
UID:1395-1776366000-1776376800@www.thedominakatarina.com
SUMMARY:SOLD OUT! Be The Domme Kat's Wrestling Workshop Demo Bottom
DESCRIPTION:Get used during Power Plays: Kinky Wrestling 101!\n\n\nThe class will be taught in-person on April 16 in NYC.\n\nDEMO BOTTOM TICKET SOLD OUT! Secure your spot to attend Power Plays: Kinky Wrestling 101 (separate ticket from my demo bottom).\nDemo bottom ticket is not associated with the workshop organizer and is separate from entry ticket for the workshop itself. \nSW\, QTPOC: If finances are a barrier to your attendance\, ask the organizer about their scholarship program. \n\nI’m teaching an in-person wrestling workshop for TES and I need a bottom or jobber that I can use while demonstrating the moves. \nYou are required to arrive no later than 30 minutes before the class starts (7:30 p.m.). Do not be late! \nI will cover beginner (101) moves like: \n\ntakedown variations\ngrapevine pin\nsmothers (like chest smothering\, face sitting)\nchokes (like rear naked chokes\, scissorholds)\nvictory poses\nand others as time permits.\n\nTotal workshop time is 2.5 hours. I will be demonstrating on you approx. 1.5-2 hours. \nLearn more about the workshop here. \n \nThis is not a session or a pornographic film set. This is an educational workshop that will be watched by members of The Eulenspiegel Society. Proper hygiene is required. \nTicket sales end the week before on 4/9 at midnight. \n— Katarina “The Domme Kat” Pierce \n\n\n\n\n \n\n\n\n\nP.S. SW and QTPOC\, I am not producing Power Plays\, so I can not offer any discounted tickets. If you want to attend the workshop as a participant (not as my demo bottom) and finances are an obstacle\, please contact @TES-NYC and ask about their scholarship program. \nJoin The Domme Kat’s Events or check out my LinkTree for more exciting workshops\, parties\, jams and other events coming up!
URL:https://www.thedominakatarina.com/event/be-the-domme-kats-wrestling-workshop-demo-bottom/
LOCATION:provided in ticket confirmation email\, near Union Square\, New York\, NY\, United States
CATEGORIES:Announcements & Social Media,The Domme Kat at...,Workshops
ATTACH;FMTTYPE=image/png:https://www.thedominakatarina.com/wp-content/uploads/2026/03/ISO-in-person.png
ORGANIZER;CN="The Domme Kat":MAILTO:theDommeKat@protonmail.com
END:VEVENT
BEGIN:VEVENT
DTSTART;VALUE=DATE:20260417
DTEND;VALUE=DATE:20260423
DTSTAMP:20260425T084837
CREATED:20260416T084001Z
LAST-MODIFIED:20260416T084713Z
UID:1449-1776384000-1776902399@www.thedominakatarina.com
SUMMARY:Birthday Special! Find Out How to Get a FULL Nude Photoset!
DESCRIPTION:I’m taking some birthday (suit) photos this weekend and I’m only sharing them with those who spoil me!\n\nThis is a special reward for those who are willing to go the extra step to keep both of us safer.\n\nTip using the Zodl app* (ZEC\, most private way to send)\, CashApp** (buy crypto on the app) or a crypto wallet to send a digital currency*** via the QR codes below. \nScroll down to see your options and what your thank-you gift will be! \n \n  \nTip $100 for the full Birthday (Suit) photo set\, plus any extra naughties I shoot or film that day!\nYou may opt out of receiving nudes and I’ll only send the clothed photos. \n  \n  \n  \n\n\nOR\n  \n \n  \n  \nTip $25 for 3 Birthday (Suit) photos!\nYou may opt out of receiving nudes and I’ll only send the clothed photos. \n  \n  \n  \n  \n  \nIf you send the transaction using encryption\, write your email address in the note (Zodl is end-to-end encrypted) so I know where to send the pics! If your transaction is visible on the blockchain\, email a screenshot. \n* My Zodl wallet accepts about 200 kinds of crypto currency and is encrypted\, which means the only thing the blockchain can see if that a transaction occurred. Not how much\, who we are\, etc. And\, Zodl won’t kick me off like CashApp or Venmo will! \n** If you buy BitCoin on CashApp (or another wallet)\, it’ll take about three days to get to me.  \n*** Even if you don’t use Zodl\, the app will convert the currency to private cash\, offering you a little bit of privacy. Want total privacy? Get Zodl and read this fantastic guide on how to pay your favorite adult entertainer without the whole world knowing. \nI promise you\, it’s actually super quick to set up (how fast is your WiFi?) and simple to navigate.
URL:https://www.thedominakatarina.com/event/birthday-special-find-out-how-to-get-a-full-nude-photoset/
LOCATION:NY
CATEGORIES:Announcements & Social Media,Specials and Sales,Virtual/Online Services
ATTACH;FMTTYPE=image/jpeg:https://www.thedominakatarina.com/wp-content/uploads/2025/08/Fiesty-Feminista-Beach-Topless-DommeKat_Imogen-20.jpg
ORGANIZER;CN="The Domme Kat":MAILTO:theDommeKat@protonmail.com
END:VEVENT
BEGIN:VEVENT
DTSTART;TZID=America/New_York:20260417T160000
DTEND;TZID=America/New_York:20260417T170000
DTSTAMP:20260425T084837
CREATED:20260416T085701Z
LAST-MODIFIED:20260416T092920Z
UID:1448-1776441600-1776445200@www.thedominakatarina.com
SUMMARY:Foot Fetish for My Birthday Weekend!
DESCRIPTION:Join me and the Taillor Group in a sexy spot in Manhattan THIS FRIDAY for Oh My Feet! A Foot Fetish Workshop at 4 p.m. Let’s talk about what we love doing with or having done to our feet. Why do we like them? Do we like shoes/socks/pantyhose? I know I love a good foot massage!\nRemembering a sweet gift for my birthday weekend would be much appreciated! I always spoil those who spoil me back… Best gift? CASH or ZEC! But I also love gummy candy (like Peelerz and High Chew)\, edible 420 treats for sleep\, skincare for my booty\, a mani/pedicure\, chocolate-covered strawberries and cherries\, sneakers (8.5 usually)\, workout clothes (XL pants\, L top is usually a safe guess)\, items from my wishlist\, gift cards (Seamless/GrubHub\, Lyft\, Amazon\, Visa).  \nBe my demo bottom when you purchase the participating sub ticket. You might even get stepped on by the Taillor Dommes! Dominant Femmes\, opt for the FemDom ticket and get in on the fun. If you want to watch\, select the General Admission ticket. \n\nThis workshop is produced by The Taillor Group. If you have any questions\, please contact The Crown.
URL:https://www.thedominakatarina.com/event/foot-fetish-for-my-birthday-weekend/
LOCATION:secret location in lower Mahattan
CATEGORIES:Announcements & Social Media,The Domme Kat at...,Workshops
ATTACH;FMTTYPE=image/png:https://www.thedominakatarina.com/wp-content/uploads/2026/02/fsb_8.png
END:VEVENT
END:VCALENDAR