BEGIN:VCALENDAR
VERSION:2.0
PRODID:-//The Domme Kat - ECPv6.15.20//NONSGML v1.0//EN
CALSCALE:GREGORIAN
METHOD:PUBLISH
X-WR-CALNAME:The Domme Kat
X-ORIGINAL-URL:https://www.thedominakatarina.com
X-WR-CALDESC:Events for The Domme Kat
REFRESH-INTERVAL;VALUE=DURATION:PT1H
X-Robots-Tag:noindex
X-PUBLISHED-TTL:PT1H
BEGIN:VTIMEZONE
TZID:America/New_York
BEGIN:DAYLIGHT
TZOFFSETFROM:-0500
TZOFFSETTO:-0400
TZNAME:EDT
DTSTART:20230312T070000
END:DAYLIGHT
BEGIN:STANDARD
TZOFFSETFROM:-0400
TZOFFSETTO:-0500
TZNAME:EST
DTSTART:20231105T060000
END:STANDARD
BEGIN:DAYLIGHT
TZOFFSETFROM:-0500
TZOFFSETTO:-0400
TZNAME:EDT
DTSTART:20240310T070000
END:DAYLIGHT
BEGIN:STANDARD
TZOFFSETFROM:-0400
TZOFFSETTO:-0500
TZNAME:EST
DTSTART:20241103T060000
END:STANDARD
BEGIN:DAYLIGHT
TZOFFSETFROM:-0500
TZOFFSETTO:-0400
TZNAME:EDT
DTSTART:20250309T070000
END:DAYLIGHT
BEGIN:STANDARD
TZOFFSETFROM:-0400
TZOFFSETTO:-0500
TZNAME:EST
DTSTART:20251102T060000
END:STANDARD
BEGIN:DAYLIGHT
TZOFFSETFROM:-0500
TZOFFSETTO:-0400
TZNAME:EDT
DTSTART:20260308T070000
END:DAYLIGHT
BEGIN:STANDARD
TZOFFSETFROM:-0400
TZOFFSETTO:-0500
TZNAME:EST
DTSTART:20261101T060000
END:STANDARD
BEGIN:DAYLIGHT
TZOFFSETFROM:-0500
TZOFFSETTO:-0400
TZNAME:EDT
DTSTART:20270314T070000
END:DAYLIGHT
BEGIN:STANDARD
TZOFFSETFROM:-0400
TZOFFSETTO:-0500
TZNAME:EST
DTSTART:20271107T060000
END:STANDARD
END:VTIMEZONE
BEGIN:VEVENT
DTSTART;TZID=America/New_York:20260406T193000
DTEND;TZID=America/New_York:20260406T210000
DTSTAMP:20260424T020354
CREATED:20260403T055400Z
LAST-MODIFIED:20260403T055400Z
UID:1438-1775503800-1775509200@www.thedominakatarina.com
SUMMARY:Mandatory Consent with The Domme Kat and Charlotte Taillor
DESCRIPTION:A webinar everyone should attend by Domina Katarina Pierce & Queen Charlotte Taillor\n\n\n\n\nConsent isn’t just a concept for the bedroom — it shows up in every relationship in your life. Whether you’re navigating dynamics at work\, with a partner\, in a friendship\, or in your family\, understanding consent changes how you communicate\, how you set boundaries\, and how you show up for others. \nIn this live webinar\, educators Domina Katarina and Charlotte Taillor explain why this subject matters\, talk about what consent is and what it isn’t\, when and how to ask for it\, the inherent pressures and trauma responses that shape our ability to say yes or no\, and what to do when consent is violated — because getting this right really is important. \nThis webinar is for anyone and everyone who cares about respecting consent. \n\n\nIf you miss it\, join us every other month on the 1st Monday!
URL:https://www.thedominakatarina.com/event/mandatory-consent-with-the-domme-kat-and-charlotte-taillor/
LOCATION:online
CATEGORIES:Announcements & Social Media,Collabs,The Domme Kat at...,Workshops
ATTACH;FMTTYPE=image/jpeg:https://www.thedominakatarina.com/wp-content/uploads/2026/04/WhatsApp-Image-2026-03-29-at-18.45.03.jpeg
ORGANIZER;CN="The Domme Kat":MAILTO:theDommeKat@protonmail.com
END:VEVENT
BEGIN:VEVENT
DTSTART;VALUE=DATE:20250301
DTEND;VALUE=DATE:20250302
DTSTAMP:20260424T020354
CREATED:20250211T032205Z
LAST-MODIFIED:20250211T032205Z
UID:788-1740787200-1740873599@www.thedominakatarina.com
SUMMARY:Doubles and Customs with Emma Switch
DESCRIPTION:I’m offering double sessions and custom clips with Dominatrix and powerful fetish wrestler Emma Switch! \nContact me at BOOKtheDommeKat@protonmail.com if interested in a custom clip. Please provide your script when you message me\, including actions desired\, props or costumes requested\, camera angles\, location\, length\, etc. \nRequest a double session on my session request form.
URL:https://www.thedominakatarina.com/event/doubles-and-customs-with-emma-switch/
CATEGORIES:Announcements & Social Media,Collabs,Double Sessions,Visiting Providers in NYC
ATTACH;FMTTYPE=image/png:https://www.thedominakatarina.com/wp-content/uploads/2025/02/DoublesCustoms-Blue-EmmaSwitch-TheDommeKat.png
END:VEVENT
BEGIN:VEVENT
DTSTART;TZID=America/New_York:20250224T190000
DTEND;TZID=America/New_York:20250224T200000
DTSTAMP:20260424T020354
CREATED:20241209T090629Z
LAST-MODIFIED:20250122T061247Z
UID:644-1740423600-1740427200@www.thedominakatarina.com
SUMMARY:Drip - Wax Play Workshop NOW ON THE 4TH MONDAY OF EVERY MONTH
DESCRIPTION:I’m sharing my love of wax play with my Taillor Group friends at The Crown. Experience the lush sensuality of hot candle wax dripping on bare skin in an intimate workshop every third Monday of the month. \n “Too Hot to Candle” \nBDSM isn’t all about whips and chains; there’s a softer side! Sensation play focuses on the dance our five senses do. With wax play\, we’ll focus on the skin and the pleasure we receive through it. And cleaning up can be just as fun as getting messy! We’ll discuss the various ways to remove the wax from your partner’s skin. From sensual oil massage to the sting of hot wax dripping on bare skin\, let’s explore together. \nGet your tickets from The Taillor Group on Eventbrite.
URL:https://www.thedominakatarina.com/event/drip-wax-play-workshop-3/
LOCATION:The Crown\, Brooklyn\, NY\, 11207\, United States
CATEGORIES:Collabs,The Domme Kat at...,Workshops
ATTACH;FMTTYPE=image/png:https://www.thedominakatarina.com/wp-content/uploads/2024/12/Drip-TooHotToCandle.png
END:VEVENT
BEGIN:VEVENT
DTSTART;VALUE=DATE:20250222
DTEND;VALUE=DATE:20250224
DTSTAMP:20260424T020354
CREATED:20250203T023447Z
LAST-MODIFIED:20250203T023528Z
UID:763-1740182400-1740355199@www.thedominakatarina.com
SUMMARY:Sexceptional Weekend: My Therapist is a P*rn Star
DESCRIPTION:SW Survival Guide is representing at an online conference called Ethical & Legal Perspectives of Diverse and Alternative Communities produced by Jet Setting Jasmine and Sexual Health Alliance! \nTiana “GlittersaurusRex” and I will be presenting Beyond the Stigma: Building Bridges through Harm Reduction and Empathetic Communication with Sex Workers on Saturday\, Feb. 22 and participating in a panel on Sunday\, Feb. 23. \nJoin us as we guide mental health care professionals through empathetic communication with SWs!
URL:https://www.thedominakatarina.com/event/sexceptional-weekend-my-therapist-is-a-prn-star/
LOCATION:online
CATEGORIES:Announcements & Social Media,Collabs,The Domme Kat at...,Virtual/Online Services,Workshops
ATTACH;FMTTYPE=image/png:https://www.thedominakatarina.com/wp-content/uploads/2025/02/1-b4b5334e-0d2a-4b15-bac5-3b8cf9e09b62.png
END:VEVENT
BEGIN:VEVENT
DTSTART;TZID=America/New_York:20250217T190000
DTEND;TZID=America/New_York:20250217T213000
DTSTAMP:20260424T020354
CREATED:20250116T222429Z
LAST-MODIFIED:20250122T054610Z
UID:731-1739818800-1739827800@www.thedominakatarina.com
SUMMARY:FemDom Wrestling 101 & 201 - EVERY 3RD MONDAY OF THE MONTH
DESCRIPTION:FemDom Wrestling 101 will get you into the action more safely every third Monday of the month at 7 p.m. \nFemDom Wrestling 201 will take you beyond the into into more classic fetish wrestling holds and submissions. Love chokes and smothers? This is the class for you\, but it is highly recommended you take both the 101 and 201 class. FemDom Wrestling 201 is every third Monday of the month at 8:30 p.m. \n 
URL:https://www.thedominakatarina.com/event/femdom-wrestling-101-and-201-every-3rd-monday-of-the-month/
LOCATION:The Crown\, Brooklyn\, NY\, 11207\, United States
CATEGORIES:Collabs,The Domme Kat at...,Workshops
ATTACH;FMTTYPE=image/jpeg:https://www.thedominakatarina.com/wp-content/uploads/2025/01/The-Domme-Kat-is.jpg
ORGANIZER;CN="The Domme Kat":MAILTO:theDommeKat@protonmail.com
END:VEVENT
BEGIN:VEVENT
DTSTART;TZID=America/New_York:20250120T203000
DTEND;TZID=America/New_York:20250120T213000
DTSTAMP:20260424T020354
CREATED:20241209T085803Z
LAST-MODIFIED:20241231T045948Z
UID:642-1737405000-1737408600@www.thedominakatarina.com
SUMMARY:Drip - Wax Play Workshop
DESCRIPTION:I’m sharing my love of wax play with my Taillor Group friends at The Crown. Experience the lush sensuality of hot candle wax dripping on bare skin in an intimate workshop every third Monday of the month. \n “Too Hot to Candle” \nBDSM isn’t all about whips and chains; there’s a softer side! Sensation play focuses on the dance our five senses do. With wax play\, we’ll focus on the skin and the pleasure we receive through it. And cleaning up can be just as fun as getting messy! We’ll discuss the various ways to remove the wax from your partner’s skin. From sensual oil massage to the sting of hot wax dripping on bare skin\, let’s explore together. \nGet your tickets from The Taillor Group on Eventbrite.
URL:https://www.thedominakatarina.com/event/drip-wax-play-workshop-2/
LOCATION:The Crown\, Brooklyn\, NY\, 11207\, United States
CATEGORIES:Collabs,Guest Instructor or Collaboration,Workshops
ATTACH;FMTTYPE=image/png:https://www.thedominakatarina.com/wp-content/uploads/2024/12/Drip-TooHotToCandle.png
END:VEVENT
BEGIN:VEVENT
DTSTART;TZID=America/New_York:20250120T190000
DTEND;TZID=America/New_York:20250120T200000
DTSTAMP:20260424T020354
CREATED:20241231T045738Z
LAST-MODIFIED:20241231T045738Z
UID:715-1737399600-1737403200@www.thedominakatarina.com
SUMMARY:FemDom Wrestling Workshop with The Taillor Group at The Crown in Brooklyn
DESCRIPTION:Join me once again (and every 3rd Monday of the month) for a FemDom Wrestling Workshop! \n \nThe workshop is presented by The Taillor Group at The Crown. Purchase tickets through the Taillor Group on Eventbrite.
URL:https://www.thedominakatarina.com/event/femdom-wrestling-workshop-with-the-taillor-group-at-the-crown-in-brooklyn/
LOCATION:The Crown\, Brooklyn\, NY\, 11207\, United States
CATEGORIES:Announcements & Social Media,Collabs,The Domme Kat at...,Workshops
ATTACH;FMTTYPE=image/jpeg:https://www.thedominakatarina.com/wp-content/uploads/2024/12/https___cdn.evbuc_.com_images_891539743_246534882945_1_original.jpeg
END:VEVENT
BEGIN:VEVENT
DTSTART;TZID=America/New_York:20250117T160000
DTEND;TZID=America/New_York:20250117T170000
DTSTAMP:20260424T020354
CREATED:20241231T050704Z
LAST-MODIFIED:20241231T050704Z
UID:719-1737129600-1737133200@www.thedominakatarina.com
SUMMARY:Oh My Feet! A Workshop from The Taillor Group
DESCRIPTION:I’m teaching FEET! \nJoin me on the 3rd Friday of every month at 4 p.m. for a lesson on foot fetish. Get the address to the secret location in Manhattan when you purchase your ticket through The Taillor Group on Eventbrite. \nWe’ll chat about massage\, worship\, trampling\, shoes\, bare feet\, scent play\, foot jobs and oh so much more. If you’d like to be a demo bottom/experience the play\, get the participating sub ticket!
URL:https://www.thedominakatarina.com/event/oh-my-feet-a-workshop-from-the-taillor-group/
LOCATION:provided in ticket confirmation email\, near Union Square\, New York\, NY\, United States
CATEGORIES:Collabs,The Domme Kat at...,Workshops
ATTACH;FMTTYPE=image/jpeg:https://www.thedominakatarina.com/wp-content/uploads/2024/12/https___cdn.evbuc_.com_images_819717149_246534882945_1_original.jpeg
END:VEVENT
BEGIN:VEVENT
DTSTART;TZID=America/New_York:20241216T203000
DTEND;TZID=America/New_York:20241216T213000
DTSTAMP:20260424T020354
CREATED:20241209T084914Z
LAST-MODIFIED:20241209T091004Z
UID:638-1734381000-1734384600@www.thedominakatarina.com
SUMMARY:Drip - Wax Play Workshop
DESCRIPTION:I’m sharing my love of wax play with my Taillor Group friends at The Crown every third Monday of the month! \n “Too Hot to Candle” \nBDSM isn’t all about whips and chains; there’s a softer side! Sensation play focuses on the dance our five senses do. With wax play\, we’ll focus on the skin and the pleasure we receive through it. And cleaning up can be just as fun as getting messy! We’ll discuss the various ways to remove the wax from your partner’s skin. From sensual oil massage to the sting of hot wax dripping on bare skin\, let’s explore together. \nGet your tickets from The Taillor Group on Eventbrite.
URL:https://www.thedominakatarina.com/event/drip-wax-play-workshop/
LOCATION:The Crown\, Brooklyn\, NY\, 11207\, United States
CATEGORIES:Collabs,Guest Instructor or Collaboration,Workshops
ATTACH;FMTTYPE=image/png:https://www.thedominakatarina.com/wp-content/uploads/2024/12/Drip-TooHotToCandle.png
END:VEVENT
BEGIN:VEVENT
DTSTART;VALUE=DATE:20241009
DTEND;VALUE=DATE:20241011
DTSTAMP:20260424T020354
CREATED:20240820T205046Z
LAST-MODIFIED:20241003T014334Z
UID:523-1728432000-1728604799@www.thedominakatarina.com
SUMMARY:POSTPONED TOUR DATES: East Brunswick\, NJ with Fiesty Feminista
DESCRIPTION:I’m heading to East Brunswick\, NJ in October and offering doubles and customs with Fiesty Feminista! \nWe’re also available for giantess customs through SizePlay
URL:https://www.thedominakatarina.com/event/tour-dates-east-brunswick-nj-with-fiesty-feminista/
CATEGORIES:Collabs,Double Sessions,Sessions,Tour Dates
ATTACH;FMTTYPE=image/jpeg:https://www.thedominakatarina.com/wp-content/uploads/2024/08/Fiesty-Feminista-Beach-Topless-DommeKat_Imogen-15.jpg
END:VEVENT
BEGIN:VEVENT
DTSTART;VALUE=DATE:20240831
DTEND;VALUE=DATE:20240901
DTSTAMP:20260424T020354
CREATED:20240831T063854Z
LAST-MODIFIED:20240831T063946Z
UID:549-1725062400-1725148799@www.thedominakatarina.com
SUMMARY:TOUR DATES: Newark\, NJ
DESCRIPTION:I’m filming some pro-style with KO Queens on Saturday\, Aug. 31. Order your customs with me\, Fiesty Feminista and Nadia White now.
URL:https://www.thedominakatarina.com/event/tour-dates-newark-nj/
CATEGORIES:Collabs,Double Sessions,Tour Dates
ATTACH;FMTTYPE=image/jpeg:https://www.thedominakatarina.com/wp-content/uploads/2024/07/TheDommeKatLookBoots.jpg
END:VEVENT
END:VCALENDAR