BEGIN:VCALENDAR
VERSION:2.0
PRODID:-//The Domme Kat - ECPv6.15.20//NONSGML v1.0//EN
CALSCALE:GREGORIAN
METHOD:PUBLISH
X-WR-CALNAME:The Domme Kat
X-ORIGINAL-URL:https://www.thedominakatarina.com
X-WR-CALDESC:Events for The Domme Kat
REFRESH-INTERVAL;VALUE=DURATION:PT1H
X-Robots-Tag:noindex
X-PUBLISHED-TTL:PT1H
BEGIN:VTIMEZONE
TZID:America/New_York
BEGIN:DAYLIGHT
TZOFFSETFROM:-0500
TZOFFSETTO:-0400
TZNAME:EDT
DTSTART:20240310T070000
END:DAYLIGHT
BEGIN:STANDARD
TZOFFSETFROM:-0400
TZOFFSETTO:-0500
TZNAME:EST
DTSTART:20241103T060000
END:STANDARD
BEGIN:DAYLIGHT
TZOFFSETFROM:-0500
TZOFFSETTO:-0400
TZNAME:EDT
DTSTART:20250309T070000
END:DAYLIGHT
BEGIN:STANDARD
TZOFFSETFROM:-0400
TZOFFSETTO:-0500
TZNAME:EST
DTSTART:20251102T060000
END:STANDARD
BEGIN:DAYLIGHT
TZOFFSETFROM:-0500
TZOFFSETTO:-0400
TZNAME:EDT
DTSTART:20260308T070000
END:DAYLIGHT
BEGIN:STANDARD
TZOFFSETFROM:-0400
TZOFFSETTO:-0500
TZNAME:EST
DTSTART:20261101T060000
END:STANDARD
END:VTIMEZONE
BEGIN:VEVENT
DTSTART;TZID=America/New_York:20251017T180000
DTEND;TZID=America/New_York:20251017T230000
DTSTAMP:20260425T112335
CREATED:20241212T110143Z
LAST-MODIFIED:20251009T073002Z
UID:664-1760724000-1760742000@www.thedominakatarina.com
SUMMARY:Surrender: Wrestling and Pet Play (a kinky wrestling play party)
DESCRIPTION:Friday\, October 17\n6 p.m. – 11 p.m.\nNear Union Square\, NYC (address in confirmation email)\nYour favorite kinky\, queer wrestling party is back—this time with a tail-wagging twist: PET PLAY 🐾 \nWhether you’re a playful pup\, a curious kitten\, a mischievous bunny or just love the energy of the animal kingdom\, tonight’s your chance to romp\, wrestle and explore your inner creature. Dress-up encouraged—collars\, ears\, tails\, harnesses\, paw gloves\, muzzles\, masks… the more animalistic\, the better. \n🐕 New to pet play? Don’t miss the included pre-party workshop\, where TBA will guide you through the roles\, dynamics and body language of pets and handlers. Learn how to embody your animal self\, negotiate play and find your stride (or slink\, or scamper) in the kink menagerie. \n✨ Already in your beast mode? Strut your tail\, practice your best purr or challenge a fellow creature on the mats. \n💥 WHAT TO EXPECT:\nSurrender isn’t just one thing—it’s a house party\, a kink-positive lab\, and a body-positive mat-fueled fantasy. \n💪 Open mat wrestling all night long — take down your prey\, tussle with the pack\, or let your handler show you off in style \n🧠 Consent + safety briefings + intro lessons (perfect for first-timers\, whether you’re new to wrestling\, pet play or both) \n🔥 Workshop: Pet Play 101 \n🎁 Vendors: Elevated treats\, flash tattoo\, SW Survival Guide\, Fantasy Features \n🧸 Cuddle puddle room (designated smoke & chill zone) — perfect for curling up with fellow pets after a good romp \n🛡️ Referees present to keep play consensual & safe \nAll types of fetish wrestling welcome: struggle play\, primal grappling\, BJJ\, Judo\, pins\, rope wrestling\, tickle fights\, submission\, fantasy\, Zentai… The style is yours to choose. The vibe is RACK: Risk-Aware Consensual Kink. \nhttps://www.thedominakatarina.com/wp-content/uploads/2024/12/Sweet-Dreams.mp4\n🌟 FIRST TIME WRESTLING?\nYou’re in the right place. The party begins with safety demos and consent primers\, and our team of referees will be available all night to monitor the mats. Play is at your own risk\, but our top priority is ensuring you have what you need to explore with confidence. \n❤️ SAFETY\, CONSENT & COMMUNITY\nWe have a zero tolerance policy for harassment or boundary violations. Consent is always mandatory. If anything feels off\, speak to Katarina\, GlittersaurusRex or one of our LED-armband consent monitors. \nThis is a welcoming space for all identities. Discrimination of any kind—including racism\, transphobia\, fatphobia\, kink shaming or ableism—will not be tolerated. \n🚫 Unfortunately\, the venue is not wheelchair accessible.\n🌡️ No-touch temperature checks will be taken at the door or Covid tests will be required. TBD. \n🎟️ TICKETS & ACCESS\nOnline sales close: October 17 at 12 a.m. ET\nDoor tickets: $80 (register online to get the address + info) \nNo refunds \n🎟️ Queer and transgender people of color and sex workers can request a pay-what-you-can code from Katarina. (Limited number available)\n🎁 Want to help make the party more accessible? Add a donation to support community ticketing. \n🛑 Reminder:\nSurrender Parties are intended for educational and entertainment purposes. All activities are consensual\, respectful\, and professionally guided. Attendees participate at their own risk and agree to take personal responsibility for their well-being.
URL:https://www.thedominakatarina.com/event/coming-soon-surrender-x-bite-club-wrestling-play-party/
LOCATION:provided in ticket confirmation email\, near Union Square\, New York\, NY\, United States
CATEGORIES:Guest Instructor or Collaboration,MiniSessions,Party,Play Party,Play Party,SessionGirls,Visiting Providers in NYC,Workshops
ATTACH;FMTTYPE=image/jpeg:https://www.thedominakatarina.com/wp-content/uploads/2024/12/SURRENDER-PET-10_17-Main-with-The-Cheshire-Domme-Kat-2.jpg
ORGANIZER;CN="The Domme Kat":MAILTO:theDommeKat@protonmail.com
END:VEVENT
END:VCALENDAR