BEGIN:VCALENDAR
VERSION:2.0
PRODID:-//The Domme Kat - ECPv6.15.20//NONSGML v1.0//EN
CALSCALE:GREGORIAN
METHOD:PUBLISH
X-WR-CALNAME:The Domme Kat
X-ORIGINAL-URL:https://www.thedominakatarina.com
X-WR-CALDESC:Events for The Domme Kat
REFRESH-INTERVAL;VALUE=DURATION:PT1H
X-Robots-Tag:noindex
X-PUBLISHED-TTL:PT1H
BEGIN:VTIMEZONE
TZID:America/New_York
BEGIN:DAYLIGHT
TZOFFSETFROM:-0500
TZOFFSETTO:-0400
TZNAME:EDT
DTSTART:20240310T070000
END:DAYLIGHT
BEGIN:STANDARD
TZOFFSETFROM:-0400
TZOFFSETTO:-0500
TZNAME:EST
DTSTART:20241103T060000
END:STANDARD
BEGIN:DAYLIGHT
TZOFFSETFROM:-0500
TZOFFSETTO:-0400
TZNAME:EDT
DTSTART:20250309T070000
END:DAYLIGHT
BEGIN:STANDARD
TZOFFSETFROM:-0400
TZOFFSETTO:-0500
TZNAME:EST
DTSTART:20251102T060000
END:STANDARD
BEGIN:DAYLIGHT
TZOFFSETFROM:-0500
TZOFFSETTO:-0400
TZNAME:EDT
DTSTART:20260308T070000
END:DAYLIGHT
BEGIN:STANDARD
TZOFFSETFROM:-0400
TZOFFSETTO:-0500
TZNAME:EST
DTSTART:20261101T060000
END:STANDARD
END:VTIMEZONE
BEGIN:VEVENT
DTSTART;TZID=America/New_York:20250530T190000
DTEND;TZID=America/New_York:20250530T230000
DTSTAMP:20260425T084704
CREATED:20250426T222029Z
LAST-MODIFIED:20250426T222029Z
UID:886-1748631600-1748646000@www.thedominakatarina.com
SUMMARY:Mini-Sessions at Surrender Wrestling Party on 5/30
DESCRIPTION:I’m offering mini-sessions on May 30 at the next Surrender wrestling party! \nMini-sessions offer a taste of whatever kink you’re craving! I have a wide range of skills\, including impact\, wax play\, electro\, anal training/pegging\, golden showers\, CBT\, sensual Domination\, dirty talk\, verbal humiliation\, objectification and more. \nAt the party\, I’m offering my specialities: fetish wrestling\, face sitting\, scissorholds\, chokes\, smothers (breath play)\, foot Domination and trash talk. \nMicro-dose on Domination with a mini-session of 5\, 10\, 15 or 20 minutes! Email me to inquire: BOOKtheDommeKat@protonmail.com \nThink you’re up for the challenge of a multi-Domme gang up? Ask me about doubles\, trios or group scenes with other featured providers. \n20 minutes isn’t enough for you? Book a full session with me on another day.
URL:https://www.thedominakatarina.com/event/mini-sessions-at-surrender-wrestling-party-on-5-30/
LOCATION:provided in ticket confirmation email\, near Union Square\, New York\, NY\, United States
CATEGORIES:Announcements & Social Media,Double Sessions,MiniSessions,Party,Play Party,Play Party,Visiting Providers in NYC
ATTACH;FMTTYPE=image/png:https://www.thedominakatarina.com/wp-content/uploads/2024/12/Katarina-Pierce.png
ORGANIZER;CN="The Domme Kat":MAILTO:theDommeKat@protonmail.com
END:VEVENT
END:VCALENDAR