BEGIN:VCALENDAR
VERSION:2.0
PRODID:-//The Domme Kat - ECPv6.15.20//NONSGML v1.0//EN
CALSCALE:GREGORIAN
METHOD:PUBLISH
X-WR-CALNAME:The Domme Kat
X-ORIGINAL-URL:https://www.thedominakatarina.com
X-WR-CALDESC:Events for The Domme Kat
REFRESH-INTERVAL;VALUE=DURATION:PT1H
X-Robots-Tag:noindex
X-PUBLISHED-TTL:PT1H
BEGIN:VTIMEZONE
TZID:America/New_York
BEGIN:DAYLIGHT
TZOFFSETFROM:-0500
TZOFFSETTO:-0400
TZNAME:EDT
DTSTART:20240310T070000
END:DAYLIGHT
BEGIN:STANDARD
TZOFFSETFROM:-0400
TZOFFSETTO:-0500
TZNAME:EST
DTSTART:20241103T060000
END:STANDARD
BEGIN:DAYLIGHT
TZOFFSETFROM:-0500
TZOFFSETTO:-0400
TZNAME:EDT
DTSTART:20250309T070000
END:DAYLIGHT
BEGIN:STANDARD
TZOFFSETFROM:-0400
TZOFFSETTO:-0500
TZNAME:EST
DTSTART:20251102T060000
END:STANDARD
BEGIN:DAYLIGHT
TZOFFSETFROM:-0500
TZOFFSETTO:-0400
TZNAME:EDT
DTSTART:20260308T070000
END:DAYLIGHT
BEGIN:STANDARD
TZOFFSETFROM:-0400
TZOFFSETTO:-0500
TZNAME:EST
DTSTART:20261101T060000
END:STANDARD
END:VTIMEZONE
BEGIN:VEVENT
DTSTART;VALUE=DATE:20250601
DTEND;VALUE=DATE:20250602
DTSTAMP:20260425T082926
CREATED:20250526T053645Z
LAST-MODIFIED:20250526T055711Z
UID:947-1748736000-1748822399@www.thedominakatarina.com
SUMMARY:Double (Bubble 🍑) Sessions and Custom Clips with Goddess D
DESCRIPTION:Oooo! This weekend is going to be 🔥🔥 & I don’t just mean at Surrender wrestling party Friday night! The heat continues all weekend with double sessions & custom clip requests with the sultry smothering deity Goddess D! \nREQUEST NOW!\nSessions: bit.ly/BOOKtheDommeKat  \nPlease complete the booking form for an exact session rate. The answers you provide there will give Us all the information We need to create a mutually pleasurable experience.  \nCustoms: email theDommeKat@protonmail.com  \nPlease include desired length of custom clip\, what fetishes/kinks and actions you wish to see (script)\, requested attire and props and any other information that will help Us craft your fantasy-cum-to-life. \n \n 
URL:https://www.thedominakatarina.com/event/double-sessions-custom-clips-goddess-d/
LOCATION:NYC\, NY\, United States
CATEGORIES:Announcements & Social Media,Double Sessions,Visiting Providers in NYC
ATTACH;FMTTYPE=image/jpeg:https://www.thedominakatarina.com/wp-content/uploads/2025/05/Doubles-and-Customs-with-Goddess-D.jpg
ORGANIZER;CN="The Domme Kat":MAILTO:theDommeKat@protonmail.com
END:VEVENT
END:VCALENDAR