BEGIN:VCALENDAR
VERSION:2.0
PRODID:-//The Domme Kat - ECPv6.15.20//NONSGML v1.0//EN
CALSCALE:GREGORIAN
METHOD:PUBLISH
X-ORIGINAL-URL:https://www.thedominakatarina.com
X-WR-CALDESC:Events for The Domme Kat
REFRESH-INTERVAL;VALUE=DURATION:PT1H
X-Robots-Tag:noindex
X-PUBLISHED-TTL:PT1H
BEGIN:VTIMEZONE
TZID:America/New_York
BEGIN:DAYLIGHT
TZOFFSETFROM:-0500
TZOFFSETTO:-0400
TZNAME:EDT
DTSTART:20240310T070000
END:DAYLIGHT
BEGIN:STANDARD
TZOFFSETFROM:-0400
TZOFFSETTO:-0500
TZNAME:EST
DTSTART:20241103T060000
END:STANDARD
BEGIN:DAYLIGHT
TZOFFSETFROM:-0500
TZOFFSETTO:-0400
TZNAME:EDT
DTSTART:20250309T070000
END:DAYLIGHT
BEGIN:STANDARD
TZOFFSETFROM:-0400
TZOFFSETTO:-0500
TZNAME:EST
DTSTART:20251102T060000
END:STANDARD
BEGIN:DAYLIGHT
TZOFFSETFROM:-0500
TZOFFSETTO:-0400
TZNAME:EDT
DTSTART:20260308T070000
END:DAYLIGHT
BEGIN:STANDARD
TZOFFSETFROM:-0400
TZOFFSETTO:-0500
TZNAME:EST
DTSTART:20261101T060000
END:STANDARD
END:VTIMEZONE
BEGIN:VEVENT
DTSTART;TZID=America/New_York:20251031T200000
DTEND;TZID=America/New_York:20251031T230000
DTSTAMP:20260425T112325
CREATED:20251022T044651Z
LAST-MODIFIED:20251022T045739Z
UID:1190-1761940800-1761951600@www.thedominakatarina.com
SUMMARY:Femdom Hell-oween Token Party
DESCRIPTION:You’ve entered the Gates of Hell. Pick your sin\, and be punished accordingly.\n\n\n\n\n\n\n\nFriday\, October 31 · 8 – 11pm EDT – Brooklyn\, New York\n\n\n\n\n\n\n\n\n\n\n\n\n\n♡ TICKET PRICES WILL INCREASE AS EVENT DATE GETS CLOSER ♡ \nHost: Dream the Demiurge \nFemdom Hell-oween Token Party is a Halloween themed BDSM play-party with tokens\, femdom stations\, and lots of kinky fun.\nTHIS WHORE-LOWEEN: Descend with Dream into the depths of hell\, one circle at a time. This is no ordinary token party\, the dommes you know have transformed into deadly sins: Lust\, Greed\, Treachery… They have devised tempting trials for you to test your souls. Be seduced by their demonic powers and find yourself sinking deeper into the pit of ultimate depravity.\nTOKENS are the cute little wooden crown coins accepted at prodomme stations. Guests with any of the ticket types are welcome to purchase tokens. \n\n\n\n\nPlease Note *MUST READ*: this is a supportive\, DIY community environment. Any kind of hate is not welcome in our space – that means no racism\, homophobia\, misogyny or misogynoir\, kinkshaming\, fatphobia or body shaming\, ableism\, etc. Consent is MANDATORY for all interactions. If you are violated or discriminated against\, please find one of our hosts or any Taillor’s dommes and report if you are comfortable doing so so that we can do our best to remove the threat and make you feel safe. In kind\, if you are found violating anybody’s consent or discriminating against anybody and being a lame hater\, you will be ejected without a refund and you will not be welcome back into our space. \nThis event is 21+. The Taillor Group plays R.A.C.K. (Risk Aware Consensual Kink). \n \n\n\n\n\nAbout this event:This is a femdom play-party. We welcome new and experienced kinksters alike to our play space! \nBYOB:Bring some tasty treats or beverages and share responsibly. The refrigerator is at your disposal. We’ll provide the cups! But please note: While this is not a sober space\, intoxication will not be tolerated in play. Be mindful of your consumption and behavior or you will be asked to leave. \nHouse Rules:The Crown is a space for everyone to feel safe\, welcome\, and uplifted. \nWe have a zero-tolerance policy towards any kind of hate within our space. Ableism\, racism\, fatphobia\, transphobia\, homophobia\, misogyny\, and/or misogynoir will result in immediate expulsion. If you see this occurring or you are being bullied or harassed\, please immediately report this to any of our Taillor’s domme/xs present and we will take care of the matter. \nConsent is mandatory for all activities. Please always ASK FIRST prior to touching\, photographing\, filming\, or engaging in any type of play with another person or people\, and please maintain ongoing enthusiastic consent during play. If someone is making you uncomfortable\, violating your boundaries\, or harassing you\, please immediately report this to any of our Taillor’s domme/xs present and we will help you. Stay safe and have fun! \nDress Code:Fetish gear + Halloween costume encouraged. For playsubs\, undressing is allowed however full nudity only by request (just so nothing leaks out of your holes and onto our furniture). \nWho are we again?The Taillor Group is a collective of fierce femme-identifying prodommes headquartered in our residential dungeon in Brooklyn. We are dedicated to the BDSM lifestyle and community\, and offer a range of ways to be involved. \nWhere is The Crown located?In Prospect Lefferts Garden\, Brooklyn. Walking distance from the train. Exact address on confirmation page\, and ticket after purchasing. \nDOOR TIMES:Doors for the event will open precisely 5 minutes before starting time. Please do not arrive earlier\, unless you are a volunteer working at the party. \nSTILL HAVE QUESTIONS?Call or text us at +1 (347) 855 4877\, or send an email to events@taillors.com \nNO REFUNDS
URL:https://www.thedominakatarina.com/event/femdom-halloween-token-party-taillor-group/
LOCATION:The Crown\, Brooklyn\, NY\, 11207\, United States
CATEGORIES:Announcements & Social Media,MiniSessions,Party
ATTACH;FMTTYPE=image/png:https://www.thedominakatarina.com/wp-content/uploads/2025/10/Workshops_3x4_29.png
END:VEVENT
END:VCALENDAR