BEGIN:VCALENDAR
VERSION:2.0
PRODID:-//The Domme Kat - ECPv6.15.20//NONSGML v1.0//EN
CALSCALE:GREGORIAN
METHOD:PUBLISH
X-ORIGINAL-URL:https://www.thedominakatarina.com
X-WR-CALDESC:Events for The Domme Kat
REFRESH-INTERVAL;VALUE=DURATION:PT1H
X-Robots-Tag:noindex
X-PUBLISHED-TTL:PT1H
BEGIN:VTIMEZONE
TZID:America/New_York
BEGIN:DAYLIGHT
TZOFFSETFROM:-0500
TZOFFSETTO:-0400
TZNAME:EDT
DTSTART:20230312T070000
END:DAYLIGHT
BEGIN:STANDARD
TZOFFSETFROM:-0400
TZOFFSETTO:-0500
TZNAME:EST
DTSTART:20231105T060000
END:STANDARD
BEGIN:DAYLIGHT
TZOFFSETFROM:-0500
TZOFFSETTO:-0400
TZNAME:EDT
DTSTART:20240310T070000
END:DAYLIGHT
BEGIN:STANDARD
TZOFFSETFROM:-0400
TZOFFSETTO:-0500
TZNAME:EST
DTSTART:20241103T060000
END:STANDARD
BEGIN:DAYLIGHT
TZOFFSETFROM:-0500
TZOFFSETTO:-0400
TZNAME:EDT
DTSTART:20250309T070000
END:DAYLIGHT
BEGIN:STANDARD
TZOFFSETFROM:-0400
TZOFFSETTO:-0500
TZNAME:EST
DTSTART:20251102T060000
END:STANDARD
BEGIN:DAYLIGHT
TZOFFSETFROM:-0500
TZOFFSETTO:-0400
TZNAME:EDT
DTSTART:20260308T070000
END:DAYLIGHT
BEGIN:STANDARD
TZOFFSETFROM:-0400
TZOFFSETTO:-0500
TZNAME:EST
DTSTART:20261101T060000
END:STANDARD
END:VTIMEZONE
BEGIN:VEVENT
DTSTART;TZID=America/New_York:20250418T200000
DTEND;TZID=America/New_York:20250418T230000
DTSTAMP:20260424T101854
CREATED:20250417T235341Z
LAST-MODIFIED:20250417T235341Z
UID:876-1745006400-1745017200@www.thedominakatarina.com
SUMMARY:Taillor Token Party - A FemDom Play Party!
DESCRIPTION:I’m hosting the Taillor Group’s Token Party\, everyone’s favorite play party! While I won’t be playing at my own Domme station\, I’ll be there as a host. Plus\, I’m raffling off two clips that aren’t available in my clipstores! \n \nLEARN MORE ABOUT THIS HOT TAILLOR EVENT BELOW\nAbout this event\nThis is a femdom play-party. We welcome new and experienced kinksters alike to our play space. Be respectful. Make friends. \nTOKENS\nPlease note tokens are only valid until the end of the party in which you purchase them. If you are not able to spend them all\, please speak to the token trader before you leave. \nBYOB\nBring some tasty treats or beverages and share responsibly. The refrigerator is at your disposal. We’ll provide the cups! But please note: While this is not a sober space\, intoxication will not be tolerated in play. Be mindful of your consumption and behavior or you will be asked to leave. \nHouse Rules\nThe Crown is a space for everyone to feel safe\, welcome\, and uplifted. \nWe have a zero-tolerance policy towards any kind of hate within our space. Ableism\, racism\, fatphobia\, transphobia\, homophobia\, misogyny\, and/or misogynoir will result in immediate expulsion. If you see this occurring or you are being bullied or harassed\, please immediately report this to any of our Taillor’s domme/xs present and we will take care of the matter. \nConsent is mandatory for all activities. Please always ASK FIRST prior to touching\, photographing\, filming\, or engaging in any type of play with another person or people\, and please maintain ongoing enthusiastic consent during play. If someone is making you uncomfortable\, violating your boundaries\, or harassing you\, please immediately report this to any of our Taillor’s domme/xs present and we will help you. Stay safe and have fun! \nDress Code\nFetish gear + color green encouraged. For playsubs\, undressing is allowed however full nudity only by request (just so nothing leaks out of your holes and onto our furniture). \nWho are we again?\nThe Taillor Group is a collective of fierce femme-identifying prodommes headquartered in our residential dungeon in Brooklyn. We are dedicated to the BDSM lifestyle and community\, and offer a range of ways to be involved. \nWhere is The Crown located?\nIn Prospect Lefferts Garden\, Brooklyn. Walking distance from the train. Exact address on confirmation page\, and ticket after purchasing. \nDOOR TIMES\nDoors for the event will open precisely 5 minutes before starting time. Please do not arrive earlier\, unless you are a volunteer working at the party. \nSTILL HAVE QUESTIONS?\nCall or text us at +1 (347) 855 4877\, or send an email to events@taillors.com \nNO REFUNDS \nPlease Note *MUST READ*: this is a supportive\, DIY community environment. Any kind of hate is not welcome in our space – that means no racism\, homophobia\, misogyny or misogynoir\, kinkshaming\, fatphobia or body shaming\, ableism\, etc. Consent is MANDATORY for all interactions. If you are violated or discriminated against\, please find one of our hosts or any Taillor’s dommes and report if you are comfortable doing so so that we can do our best to remove the threat and make you feel safe. In kind\, if you are found violating anybody’s consent or discriminating against anybody and being a lame hater\, you will be ejected without a refund and you will not be welcome back into our space. \nThis event is 21+. The Taillor Group plays R.A.C.K. (Risk Aware Consensual Kink).
URL:https://www.thedominakatarina.com/event/taillor-token-party-a-femdom-play-party/
LOCATION:The Crown\, Brooklyn\, NY\, 11207\, United States
CATEGORIES:Party,Play Party,Play Party,The Domme Kat at...
ATTACH;FMTTYPE=image/jpeg:https://www.thedominakatarina.com/wp-content/uploads/2024/07/TheDommeKatPaddle.jpg
END:VEVENT
BEGIN:VEVENT
DTSTART;TZID=America/New_York:20250412T200000
DTEND;TZID=America/New_York:20250412T230000
DTSTAMP:20260424T101854
CREATED:20250316T074438Z
LAST-MODIFIED:20250411T024221Z
UID:843-1744488000-1744498800@www.thedominakatarina.com
SUMMARY:Domme-Nation CFNM NYC BDSM Play Party
DESCRIPTION:PARTY INFO ON FETLIFE\nNEW LOCATION! HOSTING @ HIT ME UP!\nHit Me Up located at 120 Walker St Floor 6 (not 6 R)\, New York\, NY 10013 \nDomme-Nation NYC is a Femdom event where ALL subs no matter how you may identify can sub\, bottom to and serve the Dommes! You’re welcome to bring your own toys\, but we also have 2 tables set up with lots of toys to borrow. If you plan on borrowing anything you must leave something with our toy table person (ID card\, keys..) to ensure we receive our toys back. \n \nTemptations NYC is a BYOB venue. \n\nThis event will feature Pro-Domme Hosts..\nEmpress Valoria @Empress_Valoria\nDomina Katarina @theDommeKat\nMistress Gigi @MistresssGigi\n\nThis event is the opening event before DARK-SIDE: A BDSM EXPERIENCE!! Single and combo event pricing available! Check the Dark-Side event listing for more info! \n\nRules To Follow..\n\n\nNever Touch ANYBODY without consent.\nNo pictures or videos allowed. If you would like a picture in your outfit/scene\, you may ask the Host or a DM for permission and they will arrange it and watch over it and do it very quickly so that everyone’s privacy is respected.\nAlways treat others with respect.\nDo NOT interrupt a scene in progress\, give the people in the scene respectful distance while watching and if you would like to speak to them…give them time to come down from the scene they were just partaking in before approaching them.\nClean ALL furniture/toys used after use so that the next person(s) may begin with clean equipment.\nDo NOT harass anybody to play. If you ask and they say no\, leave them be and do not ask them again. If they want to play with you\, they will let you know.\nNO ALWAYS MEANS NO.\nIf we need to correct you on any of these rules more than once\, you will be escorted out by security. Once is a mistake\, twice is disrespect. There is no 3rd strike.
URL:https://www.thedominakatarina.com/event/domme-nation-nyc-bdsm-play-party/
LOCATION:Hit Me Up\, 120 Walker Street\, 10013\, United States
CATEGORIES:MiniSessions,Party,Play Party,Play Party,The Domme Kat at...
ATTACH;FMTTYPE=image/jpeg:https://www.thedominakatarina.com/wp-content/uploads/2025/03/Image-3-16-25-at-3.41 AM.jpeg
END:VEVENT
BEGIN:VEVENT
DTSTART;TZID=America/New_York:20250406T180000
DTEND;TZID=America/New_York:20250406T185500
DTSTAMP:20260424T101854
CREATED:20250316T070947Z
LAST-MODIFIED:20250316T070947Z
UID:833-1743962400-1743965700@www.thedominakatarina.com
SUMMARY:Forced Bi The Taillors
DESCRIPTION:Ever thought about sucking dick? Or having another man suck your dick? \nBring your exhibitionism and we’ll bring the flavored condoms and party playlist! Compete with other guests to see who is the dick suckinest winner of them all while entertaining a gang of fierce Femmes. \nLook below for a glimpse at our first forced bi party co-hosted with Queen Charlotte! \n \nhttps://www.thedominakatarina.com/wp-content/uploads/2025/03/Forced-Bi-Taillors-DominaKatarina-TheDommeKat.mp4
URL:https://www.thedominakatarina.com/event/forced-bi-the-taillors/
LOCATION:The Crown\, Brooklyn\, NY\, 11207\, United States
CATEGORIES:Party,Play Party,Socials
ATTACH;FMTTYPE=image/png:https://www.thedominakatarina.com/wp-content/uploads/2025/01/ForcedBi-IG-2.png
END:VEVENT
BEGIN:VEVENT
DTSTART;TZID=America/New_York:20250321T180000
DTEND;TZID=America/New_York:20250321T230000
DTSTAMP:20260424T101854
CREATED:20241212T104342Z
LAST-MODIFIED:20250116T221435Z
UID:655-1742580000-1742598000@www.thedominakatarina.com
SUMMARY:Surrender: Wrestling & Beatdowns
DESCRIPTION:The next Surrender Wrestling & Fetish Party will be on March 21. Fiesty Feminista will teach a workshop on Beatdowns! \nEarly bird tickets are on sale. Guests of the 12/13 party will receive a promo code to unlock $27 tickets. \n \nbit.ly/SurrenderMarch21 \nOnline ticket sales are usually $40. Door tickets are $60. \nPay-what-you-can tickets are available for SW and QTPOC. Ask Katarina for the promo code. \nRegister for free if you plan to pay at the door. You will receive a confirmation email with the link to submit your negative Covid test\, venue address and other important information. \nRefunds will not be available for this party. If your COVID test pops positive\, you feel otherwise ill or something comes up and you just can’t make it\, you can either: \n1. Donate your ticket to someone with financial hardship \n2. Email me and ask to apply your ticket purchase to the next Surrender party. One transfer per ticket.
URL:https://www.thedominakatarina.com/event/surrender-fetish-wrestling-play-party-nyc/
LOCATION:provided in ticket confirmation email\, near Union Square\, New York\, NY\, United States
CATEGORIES:Guest Instructor or Collaboration,MiniSessions,Party,Play Party,Play Party,SessionGirls,Workshops
ATTACH;FMTTYPE=image/png:https://www.thedominakatarina.com/wp-content/uploads/2024/12/Wrestling-_____.zip-1.png
ORGANIZER;CN="The Domme Kat":MAILTO:theDommeKat@protonmail.com
END:VEVENT
BEGIN:VEVENT
DTSTART;VALUE=DATE:20250316
DTEND;VALUE=DATE:20250501
DTSTAMP:20260424T101854
CREATED:20250316T065612Z
LAST-MODIFIED:20250316T071107Z
UID:828-1742083200-1746057599@www.thedominakatarina.com
SUMMARY:Workshops\, Parties and Other Events I'm Attending
DESCRIPTION:Here are a few places in NYC you might catch me: \nQueen Charlotte’s Token Party Birthday Bash Thursday\, March 27 \nSit and Stay (Pet Play 101) Wednesday\, April 2 \nBimboland (a BDSM workshop on feminization) Thursday\, April 3 \nHumiliation Nation (the BDSM art of shaming & other belittlements) Thursday\, April 3 \nTie & Bust — a BDSM Workshop on CBT Thursday\, April 10 \nBonded: Bondage Workshop With No Ropes Thursday\, April 10 \nKinky Knives— A BDSM Workshop Friday\, April 11 \nFinding Prostate Thursday\, April 17 \nPeg·Fest — Taillor’s Famous BDSM & Pegging Workshop Thursday\, April 17 \nRoleplay & OTK Friday\, April 18 \nTaillor Happy Hour Mixer Friday\, April 18 \n  \n 
URL:https://www.thedominakatarina.com/event/workshops-parties-and-other-events-im-attending/
LOCATION:NY
CATEGORIES:Party,Play Party,Socials,Workshops
ATTACH;FMTTYPE=image/jpeg:https://www.thedominakatarina.com/wp-content/uploads/2024/07/IMG_7527-e1721811514197.jpeg
END:VEVENT
BEGIN:VEVENT
DTSTART;TZID=America/New_York:20250302T180000
DTEND;TZID=America/New_York:20250302T190000
DTSTAMP:20260424T101854
CREATED:20250212T033558Z
LAST-MODIFIED:20250212T033617Z
UID:795-1740938400-1740942000@www.thedominakatarina.com
SUMMARY:Forced Bi The Taillors Party (EVERY 1st SUNDAY)
DESCRIPTION:G-g-gag on it!\n \nJoin us for the 2nd “Forced” Bi party! \nLocation\n\n\n\nThe Crown – Exact address will be sent to you via email. Brooklyn\, NY 11205 \n\n\n\n\n\n\n\n\n\n\n\nRefund Policy\n\nRefunds up to 7 days before event – Eventbrite’s fee is nonrefundable.\n\n\n\n\n\n\n\nAbout this event\n\n\n\n\n\n\nNo Voyeur option. Strictly participant only event\, if a ticket holder decides to not participate\, we respect his/her decision but there will be no refunds. \nBe guided and entranced with the erotic joys of man-on-man under the direction of a welcoming domina. You’ll be gently seduced into my own personal gay fantasy and ordered into all sorts of positions. So cum play with gentlemen\, pretty-boys. \n#KINKY #PLAY #FORCEDBI #M4M \nThis is a 21+ event. \n#TaillorCollective #ToEitherPleaseOrEducate \nWho are we? \nThe Taillor Group is a collective of fierce femme-identifying Dommes headquartered in our beautiful residential dungeon in Brooklyn. We are dedicated to the BDSM lifestyle and community\, and offer a range of ways to be involved. \nWhat is this event? \nOur workshops are social\, group gatherings that bring members of the BDSM community together in a playful and educational setting. Workshops generally run one hour long are intended to be spaces of learning\, and practicing techniques honed in the class. Workshops are not open play-time (unless specifically stated otherwise). \nWhere is The Crown located? \nIn Prospect Lefferts Gardens\, Brooklyn. Walking distance from the train. Exact address on confirmation page\, and ticket after purchasing. \nDOOR TIMES: \nDoors for the event will open precisely 5 minutes before starting time and close precisely at 10 minutes after. Please arrive on time for all events. \nTICKETS: \nParticipating Sub Ticket: to participate and be used. We welcome participating subs of all genders. \nVoyeur Ticket: only to watch. \nParticipating Domme Ticket: For outside dommes\, or dominant femme identifying folk who wish to try out what they learn in class. \nSingle submissive attendees are especially encouraged to attend\, as we use workshops to hone our techniques and better our craft as Dommes. We know you need us… desperately. But\, we need you! \nDress Code: \nCDUS (Clothed Dominant\, Unclothed Submissive) encouraged. Cross-Dressing and fetishwear appreciated. \nGOOD TO KNOW: \nThis event is 21+- The Taillor Collective plays SSC (safe\, sane\, and consensual) \nSTILL HAVE QUESTIONS? \nCall or text us at +1 (347) 855 4877\, or send an email to events@taillors.com \nNO REFUNDS \n\n\n\n\n\n\n\n\n\n\n\n\n\nOrganized by\n\n\n\nThe Taillor Group
URL:https://www.thedominakatarina.com/event/forced-bi-the-taillors-party-every-1st-sunday/
LOCATION:The Crown\, Brooklyn\, NY\, 11207\, United States
CATEGORIES:Play Party,Play Party,The Domme Kat at...,Workshops
ATTACH;FMTTYPE=image/png:https://www.thedominakatarina.com/wp-content/uploads/2025/01/ForcedBi-IG-2.png
END:VEVENT
BEGIN:VEVENT
DTSTART;VALUE=DATE:20250210
DTEND;VALUE=DATE:20250301
DTSTAMP:20260424T101854
CREATED:20250211T034734Z
LAST-MODIFIED:20250213T000346Z
UID:792-1739145600-1740787199@www.thedominakatarina.com
SUMMARY:Where I'll be (February): Workshops\, Mixers\, Other Events I'm Attending
DESCRIPTION:Want to be in my presence? Here are some places you might run into me: \nTie & Bust — a BDSM Workshop on CBT (Thursday\, February 13 at 7 p.m. in Brooklyn) \n^^ RESCHEDULED TO MARCH 13 ^^ \nBonded: Bondage Workshop With No Ropes (Thursday\, February 13 at 8:30 p.m. in Brooklyn) \n^^ RESCHEDULED TO MARCH 13 ^^ \nKnotty – a BDSM Workshop on Ropes – Valentine’s Day Edition (Friday\, February 14 at 4 p.m. in lower Manhattan) \nForniphilia 101 — a Workshop on Human Furniture (Friday\, February 14 at 5 p.m. in lower Manhattan) \nTaillor Happy Hour Mixer – Sapphic Valentine’s Day Edition (Friday\, February 14 at 6 p.m. in lower Manhattan) \nRoleplay & OTK — a Workshop (Friday\, February 21 at 5 p.m. in lower Manhattan) \nSmothering 101 — a BDSM Workshop (Tuesday\, February 25 at 7 p.m. in Brooklyn)
URL:https://www.thedominakatarina.com/event/where-ill-be-february-workshops-mixers-other-events-im-attending/
LOCATION:NY
CATEGORIES:Announcements & Social Media,Play Party,Play Party,Socials,Workshops
ATTACH;FMTTYPE=image/jpeg:https://www.thedominakatarina.com/wp-content/uploads/2024/07/TheDommeKat_MelissaAVitale.jpg
END:VEVENT
BEGIN:VEVENT
DTSTART;TZID=America/New_York:20250207T190000
DTEND;TZID=America/New_York:20250207T230000
DTSTAMP:20260424T101854
CREATED:20250204T210352Z
LAST-MODIFIED:20250206T042207Z
UID:771-1738954800-1738969200@www.thedominakatarina.com
SUMMARY:The Domme Kat at The Taillor Group's Token Party
DESCRIPTION:Dream of serving your Domina\, but haven’t sessioned yet? \nI’ll be at The Crown on Friday collecting your tokens. Cum join me! \nThere’s enough mat room for face sitting\, scissorholds and other fetish-y fun! \nP.S. For every Taillor Domme you invite (with your tokens) to join us for our mini-sesh\, I’ll add minutes on to *our* time together. So our scene would start with a group!
URL:https://www.thedominakatarina.com/event/the-domme-kat-at-the-taillor-groups-token-party/
LOCATION:The Crown\, Brooklyn\, NY\, 11207\, United States
CATEGORIES:MiniSessions,Party,Play Party,Play Party,Sessions,Specials and Sales,The Domme Kat at...
ATTACH;FMTTYPE=image/jpeg:https://www.thedominakatarina.com/wp-content/uploads/2025/02/TaillorTokenParty-Eventbrite-Main.jpeg
END:VEVENT
BEGIN:VEVENT
DTSTART;TZID=America/New_York:20250202T180000
DTEND;TZID=America/New_York:20250202T184500
DTSTAMP:20260424T101854
CREATED:20250122T054201Z
LAST-MODIFIED:20250122T054201Z
UID:738-1738519200-1738521900@www.thedominakatarina.com
SUMMARY:New Forced Bi Party! (1st Sunday\, monthly)
DESCRIPTION:Queen Charlotte Taillor and I have something new for you: a forced bi party! \n\nAbout this event\n\n\n\n\n\n\nNo Voyeur option. Strictly participant only event\, if a ticket holder decides to not participate\, we respect his/her decision but there will be no refunds. \nBe guided and entranced with the erotic joys of man-on-man under the direction of a welcoming domina. You’ll be gently seduced into my own personal gay fantasy and ordered into all sorts of positions. So cum play with gentlemen\, pretty-boys. \n#KINKY #PLAY #FORCEDBI #M4M \nThis is a 21+ event. \n#TaillorCollective #ToEitherPleaseOrEducate \nWho are we? \nThe Taillor Group is a collective of fierce femme-identifying Dommes headquartered in our beautiful residential dungeon in Brooklyn. We are dedicated to the BDSM lifestyle and community\, and offer a range of ways to be involved. \nWhat is this event? \nOur workshops are social\, group gatherings that bring members of the BDSM community together in a playful and educational setting. Workshops generally run one hour long are intended to be spaces of learning\, and practicing techniques honed in the class. Workshops are not open play-time (unless specifically stated otherwise). \nWhere is The Crown located? \nIn Prospect Lefferts Gardens\, Brooklyn. Walking distance from the train. Exact address on confirmation page\, and ticket after purchasing. \nDOOR TIMES: \nDoors for the event will open precisely 5 minutes before starting time and close precisely at 10 minutes after. Please arrive on time for all events. \nTICKETS: \nParticipating Sub Ticket: to participate and be used. We welcome participating subs of all genders. \nVoyeur Ticket: only to watch. \nParticipating Domme Ticket: For outside dommes\, or dominant femme identifying folk who wish to try out what they learn in class. \nSingle submissive attendees are especially encouraged to attend\, as we use workshops to hone our techniques and better our craft as Dommes. We know you need us… desperately. But\, we need you! \nDress Code: \nCDUS (Clothed Dominant\, Unclothed Submissive) encouraged. Cross-Dressing and fetishwear appreciated. \nGOOD TO KNOW: \nThis event is 21+- The Taillor Collective plays SSC (safe\, sane\, and consensual) \nSTILL HAVE QUESTIONS? \nCall or text us at +1 (347) 855 4877\, or send an email to events@taillors.com \nNO REFUNDS \n\n\n\n\n\n 
URL:https://www.thedominakatarina.com/event/new-forced-bi-party-1st-sunday-monthly/
LOCATION:The Crown\, Brooklyn\, NY\, 11207\, United States
CATEGORIES:Party,Play Party,Play Party,The Domme Kat at...
ATTACH;FMTTYPE=image/png:https://www.thedominakatarina.com/wp-content/uploads/2025/01/ForcedBi-IG.png
END:VEVENT
BEGIN:VEVENT
DTSTART;TZID=America/New_York:20241213T180000
DTEND;TZID=America/New_York:20241213T230000
DTSTAMP:20260424T101854
CREATED:20240817T043349Z
LAST-MODIFIED:20241209T094258Z
UID:515-1734112800-1734130800@www.thedominakatarina.com
SUMMARY:Surrender Fetish Wrestling Blacklight Party
DESCRIPTION:Tl;dr \nDoors open 6 p.m. and the workshop follows. Party and mini-sessions start at 7 p.m. \nMore info and tickets: bit.ly/WrestlingPro \nAll info (including vendors\, featured providers\, other announcements): bit.ly/Surrender-Wrestling \nFull description follows: \n \nBlacklight Fetish Wrestling Party with ProStyle Workshop & More!\n \nNYC’s Hottest Fetish Wrestling Party with LOTS to do! \nStruggle play\, grappling\, BJJ\, Judo\, primal play\, wrestling for pins\, tickle wrestling\, bondage wrestling\, submission wrestling\, fantasy wrestling… it’s up to you! \n \nEver been to a house party with wrestling mats? Join us!\nSurrender Wrestling Parties includes a workshop with a guest instructor plus 4 full hours of party time!\n\nFriday\, December 13\n6 p.m. – 11 p.m.\nNYC near Union Square (address provided in ticket confirmation email)\nPLEASE NOTE: There is no virtual option for this Surrender party.\n\nAll types of wrestling are welcome at Surrender: tickle\, pins\, bondage\, strip\, primal\, submissions\, BJJ\, struggle play. Come with friends or alone! A play partner isn’t guaranteed\, but we do our best get everyone (who consents!) on the mats. \nSurrender is one party with lots to do! \n\nWrestle on the open public mat with the friends you bring and the ones you’ll make\nLearn safety and maybe a few new moves (like bondage wrestling!)\nParticipate in the included pro-wrestling workshop\nIndulge in fetishes and kinks that pair well with grappling/struggle play\nBYOB\nMeet likeminded fetish friends\nVisit our vendors & enjoy elevated treats\nGet a free gift from woman-owned adult fantasy toy company Lust Arts\nLet Maxie Tattoo decorate your body with flash tattoo\nChill out in the cuddle puddle room (designated smoke & chill area)\nBuy SW Survival Guide rainbow pride merch and our new totes!\n(Proceeds help keep SW Survival Guide educational resources & events free!)\nCheck out what’s new with Fantasy Features\, by GlittersaurusRex\n\nFULL PARTY INFO AVAILABLE ON FETLIFE \nNever wrestled? This is the perfect place to try it! The party begins with lessons\, demos and primers on wrestling safety and consent. Referees will be available on the public mat to keep us all from smashing into each other.\nAlways ASK before touching anyone. If someone is violating your boundaries or harassing you\, please speak to Katarina\, GlittersaurusRex\, referees/mat safety monitors or volunteers. We have a zero tolerance policy for harassment. If you feel something\, say something\, and we will help. \nThis is a space for everyone to feel welcome. Racism\, sexism\, ableism\, ageism\, fatphobia\, homophobia\, transphobia or any other form of discrimination will not be tolerated. \nThe space is unfortunately not wheelchair accessible. \nJoin us on FetLife to stay in-the-know for upcoming parties\, connect with fetish wrestling community and get extra details on each party. Have a question? Check out the FAQs posted there. \nIn the interest of harm reduction\, proof of a negative Covid test required for entry. Rapid and at-home OK. You may submit your results up to 48 hours prior or show it at the door. Information on submitting your test results provided in ticket confirmation email. If you feel ill\, please stay home. If your test is positive or you have any other signs and symptoms of illness\, you can refund your ticket up to one hour before the party start.\nOnline ticket sales will end on Dec. 13 at 12 noon ET. You may register for free to get the address and other party info if you plan to pay at the door.\nNeed more info? Read FAQs here. \nPlease be aware that wrestling is RACK (Risk Aware Consensual Kink). While safety measures have been put in place\, wrestle at your own risk. Consent and scene negotiations will be reviewed before the party begins. \n \n 
URL:https://www.thedominakatarina.com/event/surrender-fetish-wrestling-party-pro-style-with-mini-sessions-and-workshop/
LOCATION:provided in ticket confirmation email\, near Union Square\, New York\, NY\, United States
CATEGORIES:MiniSessions,Party,Play Party,Play Party,Workshops
ATTACH;FMTTYPE=image/jpeg:https://www.thedominakatarina.com/wp-content/uploads/2024/08/Main-with-Snowflake-Wrestlers.jpg
ORGANIZER;CN="The Domme Kat":MAILTO:theDommeKat@protonmail.com
END:VEVENT
BEGIN:VEVENT
DTSTART;TZID=America/New_York:20240927T180000
DTEND;TZID=America/New_York:20240927T230000
DTSTAMP:20260424T101854
CREATED:20240724T083448Z
LAST-MODIFIED:20240831T064245Z
UID:410-1727460000-1727478000@www.thedominakatarina.com
SUMMARY:Surrender: Wrestling & Impact Play Party with Workshop
DESCRIPTION:3-2-1 Contact!\nGet ready for NYC’s HOTTEST fetish wrestling party! \n\n\n\n\n\n\n\nAnd yes\, there are MINI-SESSIONS! \nWhen: Friday\, September 27 from 6 p.m. to 11 p.m.\nWhere: NYC near Union Square (address sent in ticket confirmation email)\nSurrender Wrestling Parties includes a workshop with a guest instructor plus 4 full hours of party time!\nAll types of wrestling are welcome at Surrender: tickle\, pins\, bondage\, strip\, primal\, submissions\, BJJ\, struggle play. Come with friends or alone! A play partner isn’t guaranteed\, but we do our best get everyone (who consents!) on the mats. \nSurrender is one party with lots to do! \n\nWrestle on the open public mat with the friends you bring and the ones you’ll make\nLearn safety and maybe a few new moves\nParticipate in the included impact play workshop with Emperor Akasha Onyx\nIndulge in fetishes and kinks that pair well with grappling/struggle play\nBYOB\nMeet likeminded fetish friends\nVisit our vendors & enjoy elevated treats\nGet a free gift from Lust Arts\, custom fantasy adult toy maker\nLet Maxie Tattoo decorate your body\nChill out in the cuddle puddle room\nBuy SW Survival Guide rainbow pride merch (Proceeds help keep SW Survival Guide educational resources and events free!)\n\nFULL PARTY INFO AVAILABLE ON FETLIFE plus FAQs \n\nNever wrestled? This is the perfect place to try it! The party begins with lessons\, demos and primers on wrestling safety and consent.\nReferees will be available on the public mat to keep us all from smashing into each other. \nAlways ASK before touching anyone. If someone is violating your boundaries or harassing you\, please speak to Katarina\, GlittersaurusRex\, referees/mat safety monitors or volunteers. We have a zero tolerance policy for harassment. If you feel something\, say something\, and we will help. \nThis is a space for everyone to feel welcome. Racism\, sexism\, ableism\, ageism\, fatphobia\, homophobia\, transphobia or any other form of discrimination will not be tolerated. \nThe space is unfortunately not wheelchair accessible. \nTICKETS ON SALE NOW
URL:https://www.thedominakatarina.com/event/surrender-wrestling-impact-play/
LOCATION:provided in ticket confirmation email\, near Union Square\, New York\, NY\, United States
CATEGORIES:Double Sessions,MiniSessions,Party,Play Party,Workshops
ATTACH;FMTTYPE=image/jpeg:https://www.thedominakatarina.com/wp-content/uploads/2024/07/Main-Event-SAVE-THE-DATE-Image.jpg
END:VEVENT
END:VCALENDAR