BEGIN:VCALENDAR
VERSION:2.0
PRODID:-//The Domme Kat - ECPv6.15.20//NONSGML v1.0//EN
CALSCALE:GREGORIAN
METHOD:PUBLISH
X-ORIGINAL-URL:https://www.thedominakatarina.com
X-WR-CALDESC:Events for The Domme Kat
REFRESH-INTERVAL;VALUE=DURATION:PT1H
X-Robots-Tag:noindex
X-PUBLISHED-TTL:PT1H
BEGIN:VTIMEZONE
TZID:America/New_York
BEGIN:DAYLIGHT
TZOFFSETFROM:-0500
TZOFFSETTO:-0400
TZNAME:EDT
DTSTART:20240310T070000
END:DAYLIGHT
BEGIN:STANDARD
TZOFFSETFROM:-0400
TZOFFSETTO:-0500
TZNAME:EST
DTSTART:20241103T060000
END:STANDARD
BEGIN:DAYLIGHT
TZOFFSETFROM:-0500
TZOFFSETTO:-0400
TZNAME:EDT
DTSTART:20250309T070000
END:DAYLIGHT
BEGIN:STANDARD
TZOFFSETFROM:-0400
TZOFFSETTO:-0500
TZNAME:EST
DTSTART:20251102T060000
END:STANDARD
BEGIN:DAYLIGHT
TZOFFSETFROM:-0500
TZOFFSETTO:-0400
TZNAME:EDT
DTSTART:20260308T070000
END:DAYLIGHT
BEGIN:STANDARD
TZOFFSETFROM:-0400
TZOFFSETTO:-0500
TZNAME:EST
DTSTART:20261101T060000
END:STANDARD
END:VTIMEZONE
BEGIN:VEVENT
DTSTART;TZID=America/New_York:20250816T180000
DTEND;TZID=America/New_York:20250816T230000
DTSTAMP:20260425T111929
CREATED:20250815T014143Z
LAST-MODIFIED:20250815T014143Z
UID:1051-1755367200-1755385200@www.thedominakatarina.com
SUMMARY:Primal Play Workshop at Geekaholic's Munch
DESCRIPTION:Explore the thrill of predator/prey dynamics\, energy exchange and instinctual movement in this lecture-driven primal workshop with some hands-on practice. Learn how to stalk\, pin\, and play safely while tapping into your body’s raw energy and unmasked instincts. \n \n⚔️ Board Game Munch w/ Icebreakers & more\n📅 Date: Saturday\, August 16th\, 2025\n⏰ Time: 06:00 PM – 11:00 PM \nEducational Workshop – Primal Play (7:30pm – 8:30pm)\n*by @theDommeKat *\nJoin us for a workshop where you’ll learn and discuss the basics of Primal Play! Tap into your inner wild side and go on the hunt\, tackle\, grapple\, and revel in the throws of animal passion\, and how to do it safely. \n📍 Location: 424 West 54th Street\n🎟️ RSVP: https://fetlife.com/events/1778854\n❄️ Icebreakers: 06:30 PM – 07:00 PM\n🍹 Post-Event Drinks: 11:00 PM – 01:00 AM \n  \n 
URL:https://www.thedominakatarina.com/event/primal-play-workshop-at-geekaholics-munch/
LOCATION:Prime Produce\, 424 West 54th Street\, New York\, NY\, United States
CATEGORIES:Socials,The Domme Kat at...,Workshops
ATTACH;FMTTYPE=image/jpeg:https://www.thedominakatarina.com/wp-content/uploads/2025/08/TUES-12p-Primal-Workshop-8_16.jpg
END:VEVENT
END:VCALENDAR