BEGIN:VCALENDAR
VERSION:2.0
PRODID:-//The Domme Kat - ECPv6.15.20//NONSGML v1.0//EN
CALSCALE:GREGORIAN
METHOD:PUBLISH
X-ORIGINAL-URL:https://www.thedominakatarina.com
X-WR-CALDESC:Events for The Domme Kat
REFRESH-INTERVAL;VALUE=DURATION:PT1H
X-Robots-Tag:noindex
X-PUBLISHED-TTL:PT1H
BEGIN:VTIMEZONE
TZID:America/New_York
BEGIN:DAYLIGHT
TZOFFSETFROM:-0500
TZOFFSETTO:-0400
TZNAME:EDT
DTSTART:20250309T070000
END:DAYLIGHT
BEGIN:STANDARD
TZOFFSETFROM:-0400
TZOFFSETTO:-0500
TZNAME:EST
DTSTART:20251102T060000
END:STANDARD
BEGIN:DAYLIGHT
TZOFFSETFROM:-0500
TZOFFSETTO:-0400
TZNAME:EDT
DTSTART:20260308T070000
END:DAYLIGHT
BEGIN:STANDARD
TZOFFSETFROM:-0400
TZOFFSETTO:-0500
TZNAME:EST
DTSTART:20261101T060000
END:STANDARD
BEGIN:DAYLIGHT
TZOFFSETFROM:-0500
TZOFFSETTO:-0400
TZNAME:EDT
DTSTART:20270314T070000
END:DAYLIGHT
BEGIN:STANDARD
TZOFFSETFROM:-0400
TZOFFSETTO:-0500
TZNAME:EST
DTSTART:20271107T060000
END:STANDARD
END:VTIMEZONE
BEGIN:VEVENT
DTSTART;TZID=America/New_York:20260112T190000
DTEND;TZID=America/New_York:20260112T210000
DTSTAMP:20260424T034623
CREATED:20260109T062436Z
LAST-MODIFIED:20260109T220411Z
UID:1251-1768244400-1768251600@www.thedominakatarina.com
SUMMARY:Arts & Cuffs - Kinky figure drawing
DESCRIPTION:Overview\n\n\n\n\n\nKinky figure drawing and other fun arts and shafts\n\n\n\n…and you can drink\, too! BYOB. \nFor artists wishing figure drawing classes were a little racier and exhibitionists who long to be a muse: the after-hours of your regular drink and draw\, for artsy kinksters and curious creatives. \nFAQs\nI’m an artist but I’m new to kink – what should I expect? Welcome! We’re glad you’re here. This event will extract moments from typical BDSM sessions and reinterpret them for figure drawing tableaus. You can look forward to: themed poses\, dynamic scenes\, crazy props\, and extremely obedient models. \nI’m a sub\, but I’ve never posed before! That’s okay – as long as you can follow instructions from a Domina (you can\, can’t you?) and hold still\, you’ll do just fine. We will go over M.I.T.S.* before poses just like any other scene. \nI’m confused; is this figure drawing?\nKink & Draw will be hosted by a Taillor Domme\, who will direct submissive male models into timed kinky poses for artists to sketch. Other Dommes may also volunteer to model with subs for longer scenes (CFNM*). \nDo I need to bring anything? Some materials (paper\, pencils\, etc.) and props/toys will be provided. Models and artists are welcome and encouraged to bring additional materials\, props\, and/or toys. \nStill have questions? Call us at +1 (347) 855-4877\, or send an email to events@taillors.com \n_______*M.I.T.S. – Mandatory conversation prior to any BDSM scene to ensure the best communication and safe\, sane\, and consensual playtime. Stands for: Marks\, Injuries/Illnesses\, Triggers/Limits\, Safeword.*Fetishwear & crossdressing permitted. \n#FigureDrawing #LifeDrawing #FigureModel #KinkySketching #SketchyKinks #BDSM #FemdomArt #DYI #BrooklynArtists #Feminist #AlternativeArts #Lifestyle #CreativeNYC #DrinkAndDraw #DateNight #Activities #ThingsToDo #Adult #Brooklyn #New York \nWho are we? \nThe Taillor Group is a collective of fierce femme-identifying Dommes headquartered in our beautiful residential dungeon in Brooklyn. We are dedicated to the BDSM lifestyle and community\, and offer a range of ways to be involved. \nWhat is this event? \nOur workshops are social\, group gatherings that bring members of the BDSM community together in a playful and educational setting. Workshops generally run one hour long are intended to be spaces of learning\, and practicing techniques honed in the class. Workshops are not open play-time (unless specifically stated otherwise). \nWhere is The Crown located? \nIn Bushwick\, Brooklyn. Walking distance from the train. Exact address on confirmation page\, and ticket after purchasing. \nDOOR TIMES: \nDoors for the event will open precisely 5 minutes before starting time and close precisely at 10 minutes after. Please arrive on time for all events. \nTICKETS: \nArtist Ticket: to draw & sketch fetish figures in a Femdom setting.\nModel Sub Ticket: to be drawn and used by a prodomme. We welcome participating subs of all genders.\nParticipating Domme Ticket: To participate in the scene and engage with subs. \nDress Code: \nCDUS (Clothed Dominant\, Unclothed Submissive) encouraged. Cross-Dressing and fetishwear appreciated. \nGOOD TO KNOW: \nThis event is 21+ \nThe Taillor Collective plays SSC (safe\, sane\, and consensual). \nThe Crown is a space for everyone to feel safe and welcomed. We have a zero-tolerance policy towards any kind of hate within our space. Ableism\, racism\, fatphobia\, transphobia\, homophobia\, misogyny\, and/or misogynoir will result in immediate expulsion. \nSTILL HAVE QUESTIONS? \nCall or text us at +1 (347) 855 4877\, or send an email to events@taillors.com \nNO REFUNDS
URL:https://www.thedominakatarina.com/event/arts-cuffs-kinky-figure-drawing/
LOCATION:The Crown\, Brooklyn\, NY\, 11207\, United States
CATEGORIES:Socials,The Domme Kat at...
ATTACH;FMTTYPE=image/png:https://www.thedominakatarina.com/wp-content/uploads/2026/01/arts_and_cuffs_square_1_13.png
END:VEVENT
BEGIN:VEVENT
DTSTART;TZID=America/New_York:20260127T190000
DTEND;TZID=America/New_York:20260127T220000
DTSTAMP:20260424T034623
CREATED:20251012T053513Z
LAST-MODIFIED:20260127T071907Z
UID:1178-1769540400-1769551200@www.thedominakatarina.com
SUMMARY:The Aftercare Fair: A Community Day for Kinksters
DESCRIPTION:After a weekend of fun\, join us for a free day of self- and community-care. Entry is FREE. Services are donation-based or offered at reduced rates (check with each facilitator).\nCome unwind\, connect and care for your body and spirit at the Aftercare Fair — a community day dedicated to rest\, recovery and reconnection. Whether you’ve been tied up\, turned on or simply stretched thin\, this is your space to recharge among fellow kinksters\, creatives and caretakers. \nFeaturing: \nRope (Floor Ties) with Knotty_Chris \nTarot by WildDandyLion \nMassage with CuddleKnight \n\nneck\, shoulder and foot massages with massage oil candles\n\nHaircuts by beatonthebrat (Domina Darja) \n\ndry cuts\, bang trims and scalp massages\n\nNails by GliTtTerButt \nPhotos by LittleBigSpoon98 \n“Build-a-Bondage-Bear” by Emji \n\ntie your own or buy a ready-made stuffy!\n\nClothing & Gear Swap — bring something\, take something \nBring your body\, your curiosity\, your used kink gear and your community spirit. Stay for a few hours or the whole day — this space is for slowing down and taking care of yourself and each other. \nTuesday\, Jan. 27 | 7-10 p.m. | Talon Bar*\, 220 Wyckoff Ave.\, Brooklyn (NYC) * Upstairs bar will be open with drinks for purchase. If the kitchen is not open\, there is a pizza joint across the street. (UPDATE: The venue confirmed their kitchen will be open!) \nOrganized by Knotty Chris and The Domme Kat \nJOIN THE CONVERSATION ON FETLIFE! \n  \n 
URL:https://www.thedominakatarina.com/event/the-aftercare-fair-community-day-kinksters/
LOCATION:Talon Bar\, 220 WYCKOFF AVE.\, Brooklyn\, 11237\, United States
CATEGORIES:Announcements & Social Media,Socials
ATTACH;FMTTYPE=image/jpeg:https://www.thedominakatarina.com/wp-content/uploads/2025/10/Black-and-Pink-Dynamic-Zumba-Dance-Class-Instagram-Post.jpg
ORGANIZER;CN="The Domme Kat":MAILTO:theDommeKat@protonmail.com
END:VEVENT
END:VCALENDAR