BEGIN:VCALENDAR
VERSION:2.0
PRODID:-//The Domme Kat - ECPv6.15.20//NONSGML v1.0//EN
CALSCALE:GREGORIAN
METHOD:PUBLISH
X-WR-CALNAME:The Domme Kat
X-ORIGINAL-URL:https://www.thedominakatarina.com
X-WR-CALDESC:Events for The Domme Kat
REFRESH-INTERVAL;VALUE=DURATION:PT1H
X-Robots-Tag:noindex
X-PUBLISHED-TTL:PT1H
BEGIN:VTIMEZONE
TZID:America/New_York
BEGIN:DAYLIGHT
TZOFFSETFROM:-0500
TZOFFSETTO:-0400
TZNAME:EDT
DTSTART:20240310T070000
END:DAYLIGHT
BEGIN:STANDARD
TZOFFSETFROM:-0400
TZOFFSETTO:-0500
TZNAME:EST
DTSTART:20241103T060000
END:STANDARD
BEGIN:DAYLIGHT
TZOFFSETFROM:-0500
TZOFFSETTO:-0400
TZNAME:EDT
DTSTART:20250309T070000
END:DAYLIGHT
BEGIN:STANDARD
TZOFFSETFROM:-0400
TZOFFSETTO:-0500
TZNAME:EST
DTSTART:20251102T060000
END:STANDARD
BEGIN:DAYLIGHT
TZOFFSETFROM:-0500
TZOFFSETTO:-0400
TZNAME:EDT
DTSTART:20260308T070000
END:DAYLIGHT
BEGIN:STANDARD
TZOFFSETFROM:-0400
TZOFFSETTO:-0500
TZNAME:EST
DTSTART:20261101T060000
END:STANDARD
END:VTIMEZONE
BEGIN:VEVENT
DTSTART;VALUE=DATE:20250526
DTEND;VALUE=DATE:20250701
DTSTAMP:20260423T161909
CREATED:20250526T063029Z
LAST-MODIFIED:20250526T063029Z
UID:960-1748217600-1751327999@www.thedominakatarina.com
SUMMARY:New Masturbation Speaker Series on YouTube
DESCRIPTION:SW Survival Guide’s free education about masturbation\, “Maysturbation\,” IS LIVE on our YouTube channel! \nThank you to Chris who gave an incredibly informative and entertaining presentation. \n \nMUSIC “It’s Business” BY King Noire USED WITH PERMISSION. Get that hit and others by the King himself when you visit his website KingNoire.com. 👑 \nVisit SW Survival Guide on YouTube for more of our FREE education for SW and allies! Visit our Linktree for replays of past events and other educational resources like a Know Your Rights PDF and Harm Redux slideshow! \nP.S. Did you know: 100% of all donations (minus any payment platform fees 💳 ) to SW Survival Guide to help keep our educational events and resources FREE for all SWs and allies? 🏳️‍🌈 🏳️‍⚧️ ✊
URL:https://www.thedominakatarina.com/event/swsurvivalguide-sexwork-masturbation-education-free/
LOCATION:online
CATEGORIES:Announcements & Social Media,Speaker Series (online),SW Survival Guide free educational resources
ATTACH;FMTTYPE=image/jpeg:https://www.thedominakatarina.com/wp-content/uploads/2025/05/32.jpg
ORGANIZER;CN="SW Survival Guide":MAILTO:SWSurvivalGuide@protonmail.com
END:VEVENT
BEGIN:VEVENT
DTSTART;TZID=America/New_York:20250525T150000
DTEND;TZID=America/New_York:20250525T160000
DTSTAMP:20260423T161909
CREATED:20250518T230933Z
LAST-MODIFIED:20250518T230933Z
UID:931-1748185200-1748188800@www.thedominakatarina.com
SUMMARY:Maysturbation: Exploring an Expression of Love | SW Survival Guide Speaker Series
DESCRIPTION:Masturbation: the act of stimulating genitals for pleasure is a sacred act of love between self or partners. It can be simple. It can be complex. The only required elements of masturbation are lubrication and consent. Are you curious to explore genital stimulation from a health care provider’s perspective? Join in this sweet lecture as we talk about the anatomy\, physiology and wonders of masturbation. Who knows? There may even be some kinky twists you may have never imagined. The speaker guarantees you will learn a thing or two. \nAbout Chris: \nChris (she/her) is a New Jersey native who has been a practicing physician associate for five years. She is currently providing services for LGBTQ+ folk including primary care\, gender affirming hormone therapy\, mental health and sexual wellness. Her hobbies include hiking\, yoga\, song writing and playing keyboard. Her motivation in life is love for all living things. Like a stone thrown into water creates ripples that extend outwards Chris’ mission is to radiate love into the collective consciousness. A self-defined seeker of experiences\, she found herself connecting to people in ways outside of traditional roles. Becoming informed about alternative lifestyles including the BDSM\, fetish and kink communities empowered her to embrace the desire for alternative forms of pleasure. The information she has garnered as a person practicing risk-aware consensual kink has improved all facets of life through the values of communication\, honesty and integrity. She is very excited to combine her passion for evidence-based medicine and pleasure for this lecture series. \nAbout SW Survival Guide: \nThe SW Survival Guide is a nonprofit organization run by the SW community and its allies providing free access to fundamental and integral information to the SW community. The SW Survival Guide is committed to the belief that life saving information shouldn’t be gatekept and survival shouldn’t be a luxury. \nThe SW Survival Guide’s mission is to provide free resources and access to information\, help build community\, empower\, allow SW to network\, foster skill sharing\, destigmatize\, fill the vacuum of knowledge available to our community and eliminate the disparity between who has access to information due to income. Rather than position ourselves as experts\, we work in tandem and collaborate with community members and organizations to ensure that the right information gets to the people who need it. \nSW Survival Guide is where we stand together against those who oppress Black\, brown\, transgender\, disabled and other marginalized people and often silenced voices. The SW Survival Guide serves SW\, with a focus on the most marginalized; however\, SW Survival Guide believes all SW is work and all SWs deserve access to harm reduction tools. \nSW Survival Guide also believes strongly in community over competition. \nAt its core\, the SW Survival Guide exists to reduce harm to SWs\, which means education and resources must be shared for free to the SW community and its allies. We are committed to SW survival and guidance.
URL:https://www.thedominakatarina.com/event/maysturbation-exploring-an-expression-of-love-sw-survival-guide-speaker-series/
LOCATION:online
CATEGORIES:Speaker Series (online),SW Survival Guide free educational resources
ATTACH;FMTTYPE=image/png:https://www.thedominakatarina.com/wp-content/uploads/2025/05/1.png
ORGANIZER;CN="SW Survival Guide":MAILTO:SWSurvivalGuide@protonmail.com
END:VEVENT
BEGIN:VEVENT
DTSTART;TZID=America/New_York:20250330T150000
DTEND;TZID=America/New_York:20250330T160000
DTSTAMP:20260423T161909
CREATED:20250320T012049Z
LAST-MODIFIED:20250320T012049Z
UID:850-1743346800-1743350400@www.thedominakatarina.com
SUMMARY:FREE Workshop on Public Relations for Entrepreneurs
DESCRIPTION:PR Yourself with Melissa A Vitale PR | Online and Free Speaker Series Workshop\nYou’re running a business with so many moving parts and only one employee — you! You’re an entrepreneur\, baby! \nYou’re busy and you have a lot on your plate\, but you need to market your business to keep food on the table. It can be overwhelming\, but publicist Melissa A Vitale might be able to help. \nDrawing on her years of experience running a successful PR firm that works with adult brands and alternative products\, Melissa is ready to show you how to PR Yourself. \nRead more about the PR Yourself Speaker Series\, Melissa A. Vitale PR and SW Survival Guide when you register for the free workshop: bit.ly/PRYourselfSWSG \n \nFollow us on Fetlife.
URL:https://www.thedominakatarina.com/event/free-workshop-on-public-relations-for-entrepreneurs/
LOCATION:online
CATEGORIES:Speaker Series (online),SW Survival Guide free educational resources
ATTACH;FMTTYPE=image/png:https://www.thedominakatarina.com/wp-content/uploads/2025/03/5.png
ORGANIZER;CN="SW Survival Guide":MAILTO:SWSurvivalGuide@protonmail.com
END:VEVENT
END:VCALENDAR