BEGIN:VCALENDAR
VERSION:2.0
PRODID:-//The Domme Kat - ECPv6.15.20//NONSGML v1.0//EN
CALSCALE:GREGORIAN
METHOD:PUBLISH
X-ORIGINAL-URL:https://www.thedominakatarina.com
X-WR-CALDESC:Events for The Domme Kat
REFRESH-INTERVAL;VALUE=DURATION:PT1H
X-Robots-Tag:noindex
X-PUBLISHED-TTL:PT1H
BEGIN:VTIMEZONE
TZID:America/New_York
BEGIN:DAYLIGHT
TZOFFSETFROM:-0500
TZOFFSETTO:-0400
TZNAME:EDT
DTSTART:20230312T070000
END:DAYLIGHT
BEGIN:STANDARD
TZOFFSETFROM:-0400
TZOFFSETTO:-0500
TZNAME:EST
DTSTART:20231105T060000
END:STANDARD
BEGIN:DAYLIGHT
TZOFFSETFROM:-0500
TZOFFSETTO:-0400
TZNAME:EDT
DTSTART:20240310T070000
END:DAYLIGHT
BEGIN:STANDARD
TZOFFSETFROM:-0400
TZOFFSETTO:-0500
TZNAME:EST
DTSTART:20241103T060000
END:STANDARD
BEGIN:DAYLIGHT
TZOFFSETFROM:-0500
TZOFFSETTO:-0400
TZNAME:EDT
DTSTART:20250309T070000
END:DAYLIGHT
BEGIN:STANDARD
TZOFFSETFROM:-0400
TZOFFSETTO:-0500
TZNAME:EST
DTSTART:20251102T060000
END:STANDARD
BEGIN:DAYLIGHT
TZOFFSETFROM:-0500
TZOFFSETTO:-0400
TZNAME:EDT
DTSTART:20260308T070000
END:DAYLIGHT
BEGIN:STANDARD
TZOFFSETFROM:-0400
TZOFFSETTO:-0500
TZNAME:EST
DTSTART:20261101T060000
END:STANDARD
END:VTIMEZONE
BEGIN:VEVENT
DTSTART;TZID=America/New_York:20251122T160000
DTEND;TZID=America/New_York:20251123T110000
DTSTAMP:20260423T202652
CREATED:20251117T030923Z
LAST-MODIFIED:20251117T030923Z
UID:1220-1763827200-1763895600@www.thedominakatarina.com
SUMMARY:WRESTLING & FEMDOM TOUR: Scranton\, PA (NEPA)
DESCRIPTION:I’m passing through\, Scranton\, and I’m ready to Dominate you until you beg for mercy and for more. \n 
URL:https://www.thedominakatarina.com/event/wrestling-femdom-tour-scranton-pa-nepa/
LOCATION:Scranton\, PA\, Scranton\, 18510\, United States
CATEGORIES:Announcements & Social Media,Sessions,Tour Dates
ATTACH;FMTTYPE=image/png:https://www.thedominakatarina.com/wp-content/uploads/2025/07/33.png
ORGANIZER;CN="The Domme Kat":MAILTO:theDommeKat@protonmail.com
END:VEVENT
BEGIN:VEVENT
DTSTART;VALUE=DATE:20250610
DTEND;VALUE=DATE:20250612
DTSTAMP:20260423T202652
CREATED:20250606T035451Z
LAST-MODIFIED:20250606T035614Z
UID:989-1749513600-1749686399@www.thedominakatarina.com
SUMMARY:The Domme Kat Goes to Scranton!
DESCRIPTION:A lovely gentleman needed to see Me and made a special request\, so Domina Katarina is going to Scranton\, PA on Tuesday\, June 10!\nWant your special time with Me?\nRequest and screen here: bit.ly/BOOKtheDommeKat\nI’m available Tuesday evening and early Wednesday morning\, but my time books fast. \nYou know I love: \n\nwrestling\nbreath play (smothers and chokes)\nfoot Domination\n\nand more\, so don’t be shy. Tell me… what’s your pleasure? \nI’ll be staying near Dunmore\, PA.
URL:https://www.thedominakatarina.com/event/the-domme-kat-goes-to-scranton/
LOCATION:Scranton\, PA\, Scranton\, 18510\, United States
CATEGORIES:Announcements & Social Media,Tour Dates
ATTACH;FMTTYPE=image/png:https://www.thedominakatarina.com/wp-content/uploads/2025/06/1-4.png
ORGANIZER;CN="The Domme Kat":MAILTO:theDommeKat@protonmail.com
END:VEVENT
BEGIN:VEVENT
DTSTART;VALUE=DATE:20241223
DTEND;VALUE=DATE:20241227
DTSTAMP:20260423T202652
CREATED:20241216T040536Z
LAST-MODIFIED:20241216T041318Z
UID:685-1734912000-1735257599@www.thedominakatarina.com
SUMMARY:Pennsylvania Tour - December 2024
DESCRIPTION:Take a break from family and be a ho-ho-ho for me! \nScranton\, PA – Dec. 23 \nWilkes-Barre\, PA – Dec. 26
URL:https://www.thedominakatarina.com/event/pennsylvania-tour-december-2024/
CATEGORIES:Sessions,Tour Dates
ATTACH;FMTTYPE=image/png:https://www.thedominakatarina.com/wp-content/uploads/2024/12/Scranton-PA-Dec.-23-Wilkes-Barre-PA-Dec.-26.png
ORGANIZER;CN="The Domme Kat":MAILTO:theDommeKat@protonmail.com
END:VEVENT
BEGIN:VEVENT
DTSTART;TZID=America/New_York:20241206T160000
DTEND;TZID=America/New_York:20241208T170000
DTSTAMP:20260423T202652
CREATED:20241125T234543Z
LAST-MODIFIED:20241128T220516Z
UID:621-1733500800-1733677200@www.thedominakatarina.com
SUMMARY:The Domme Kat at Exxxotica DC with Imogen
DESCRIPTION:I plan to tour DMV on Exxxotica DC weekend\, Dec. 6-8\, staying near Dulles Airport with my friend Imogen. \nI’m offering wrestling\, kink\, fetish\, BDSM\, GFE and other sessions. Imogen and I are available for doubles and customs. Please complete my booking request and age verification/screening form bit.ly/BOOKtheDommeKat to request our special time together. \nBook your session now. If you wait\, I might change my travel plans. 
URL:https://www.thedominakatarina.com/event/the-domme-kat-at-exxxotica-dc/
LOCATION:Exxxotica DC
CATEGORIES:Tour Dates
ATTACH;FMTTYPE=image/jpeg:https://www.thedominakatarina.com/wp-content/uploads/2024/07/IMG_7527-e1721811514197.jpeg
END:VEVENT
BEGIN:VEVENT
DTSTART;VALUE=DATE:20241009
DTEND;VALUE=DATE:20241011
DTSTAMP:20260423T202652
CREATED:20240820T205046Z
LAST-MODIFIED:20241003T014334Z
UID:523-1728432000-1728604799@www.thedominakatarina.com
SUMMARY:POSTPONED TOUR DATES: East Brunswick\, NJ with Fiesty Feminista
DESCRIPTION:I’m heading to East Brunswick\, NJ in October and offering doubles and customs with Fiesty Feminista! \nWe’re also available for giantess customs through SizePlay
URL:https://www.thedominakatarina.com/event/tour-dates-east-brunswick-nj-with-fiesty-feminista/
CATEGORIES:Collabs,Double Sessions,Sessions,Tour Dates
ATTACH;FMTTYPE=image/jpeg:https://www.thedominakatarina.com/wp-content/uploads/2024/08/Fiesty-Feminista-Beach-Topless-DommeKat_Imogen-15.jpg
END:VEVENT
BEGIN:VEVENT
DTSTART;TZID=America/New_York:20241004T170000
DTEND;TZID=America/New_York:20241005T103000
DTSTAMP:20260423T202652
CREATED:20240917T194430Z
LAST-MODIFIED:20241003T014300Z
UID:561-1728061200-1728124200@www.thedominakatarina.com
SUMMARY:POSTPONED Tour Dates: Trenton\, NJ
DESCRIPTION:
URL:https://www.thedominakatarina.com/event/tour-dates-trenton-nj/
CATEGORIES:Tour Dates
ATTACH;FMTTYPE=image/jpeg:https://www.thedominakatarina.com/wp-content/uploads/2024/07/IMG_7522.jpeg
END:VEVENT
BEGIN:VEVENT
DTSTART;VALUE=DATE:20240921
DTEND;VALUE=DATE:20240922
DTSTAMP:20260423T202652
CREATED:20240724T083203Z
LAST-MODIFIED:20240816T034653Z
UID:406-1726876800-1726963199@www.thedominakatarina.com
SUMMARY:ISO Travel Sponsor - LAS VEGAS 9/21
DESCRIPTION:SessionGirls has an event in Las Vegas on Sept. 21 and I’d love to attend. A travel sponsor wold make that possible! If you’d like to sponsor my trip partly or in full\, please email me at BOOKtheDommeKat@protonmail.com.
URL:https://www.thedominakatarina.com/event/iso-travel-sponsor-las-vegas-9-21/
LOCATION:Las Vegas\, NV\, Las Vegas\, NV\, United States
CATEGORIES:SessionGirls,Tour Dates
ATTACH;FMTTYPE=image/jpeg:https://www.thedominakatarina.com/wp-content/uploads/2024/07/Travel-Sponsor.jpg
END:VEVENT
BEGIN:VEVENT
DTSTART;TZID=America/New_York:20240908T150000
DTEND;TZID=America/New_York:20240909T110000
DTSTAMP:20260423T202652
CREATED:20240816T035923Z
LAST-MODIFIED:20240816T035923Z
UID:506-1725807600-1725879600@www.thedominakatarina.com
SUMMARY:TOUR DATES: Albany\, NY
DESCRIPTION:
URL:https://www.thedominakatarina.com/event/tour-dates-albany-ny/
CATEGORIES:Tour Dates
ATTACH;FMTTYPE=image/jpeg:https://www.thedominakatarina.com/wp-content/uploads/2024/08/Scranton-Newark-Albany.jpg
END:VEVENT
BEGIN:VEVENT
DTSTART;VALUE=DATE:20240831
DTEND;VALUE=DATE:20240901
DTSTAMP:20260423T202652
CREATED:20240831T063854Z
LAST-MODIFIED:20240831T063946Z
UID:549-1725062400-1725148799@www.thedominakatarina.com
SUMMARY:TOUR DATES: Newark\, NJ
DESCRIPTION:I’m filming some pro-style with KO Queens on Saturday\, Aug. 31. Order your customs with me\, Fiesty Feminista and Nadia White now.
URL:https://www.thedominakatarina.com/event/tour-dates-newark-nj/
CATEGORIES:Collabs,Double Sessions,Tour Dates
ATTACH;FMTTYPE=image/jpeg:https://www.thedominakatarina.com/wp-content/uploads/2024/07/TheDommeKatLookBoots.jpg
END:VEVENT
BEGIN:VEVENT
DTSTART;TZID=America/New_York:20240825T160000
DTEND;TZID=America/New_York:20240826T100000
DTSTAMP:20260423T202652
CREATED:20240816T035425Z
LAST-MODIFIED:20240816T035425Z
UID:494-1724601600-1724666400@www.thedominakatarina.com
SUMMARY:TOUR DATES: New Jersey*
DESCRIPTION:* I’m looking at Wayne\, NJ or Newark\, NJ. Your deposits determine where I go\, so be the first to book!
URL:https://www.thedominakatarina.com/event/tour-dates-new-jersey/
CATEGORIES:Tour Dates
ATTACH;FMTTYPE=image/jpeg:https://www.thedominakatarina.com/wp-content/uploads/2024/08/Scranton-Newark-Albany-IG.jpg
END:VEVENT
BEGIN:VEVENT
DTSTART;TZID=America/New_York:20240821T150000
DTEND;TZID=America/New_York:20240823T130000
DTSTAMP:20260423T202652
CREATED:20240816T034009Z
LAST-MODIFIED:20240816T034240Z
UID:491-1724252400-1724418000@www.thedominakatarina.com
SUMMARY:TOUR DATES: Scranton\, PA
DESCRIPTION:I’ll see you\, Scranton\, heyna? 🙃 Ready to pank you like a snow drift. \nDon’t wait to book!
URL:https://www.thedominakatarina.com/event/tour-dates-scranton-pa/
CATEGORIES:Tour Dates
ATTACH;FMTTYPE=image/jpeg:https://www.thedominakatarina.com/wp-content/uploads/2024/08/Scranton.jpg
END:VEVENT
END:VCALENDAR