BEGIN:VCALENDAR
VERSION:2.0
PRODID:-//The Domme Kat - ECPv6.15.20//NONSGML v1.0//EN
CALSCALE:GREGORIAN
METHOD:PUBLISH
X-WR-CALNAME:The Domme Kat
X-ORIGINAL-URL:https://www.thedominakatarina.com
X-WR-CALDESC:Events for The Domme Kat
REFRESH-INTERVAL;VALUE=DURATION:PT1H
X-Robots-Tag:noindex
X-PUBLISHED-TTL:PT1H
BEGIN:VTIMEZONE
TZID:America/New_York
BEGIN:DAYLIGHT
TZOFFSETFROM:-0500
TZOFFSETTO:-0400
TZNAME:EDT
DTSTART:20240310T070000
END:DAYLIGHT
BEGIN:STANDARD
TZOFFSETFROM:-0400
TZOFFSETTO:-0500
TZNAME:EST
DTSTART:20241103T060000
END:STANDARD
BEGIN:DAYLIGHT
TZOFFSETFROM:-0500
TZOFFSETTO:-0400
TZNAME:EDT
DTSTART:20250309T070000
END:DAYLIGHT
BEGIN:STANDARD
TZOFFSETFROM:-0400
TZOFFSETTO:-0500
TZNAME:EST
DTSTART:20251102T060000
END:STANDARD
BEGIN:DAYLIGHT
TZOFFSETFROM:-0500
TZOFFSETTO:-0400
TZNAME:EDT
DTSTART:20260308T070000
END:DAYLIGHT
BEGIN:STANDARD
TZOFFSETFROM:-0400
TZOFFSETTO:-0500
TZNAME:EST
DTSTART:20261101T060000
END:STANDARD
END:VTIMEZONE
BEGIN:VEVENT
DTSTART;TZID=America/New_York:20250607T160000
DTEND;TZID=America/New_York:20250607T170000
DTSTAMP:20260425T150853
CREATED:20250605T024243Z
LAST-MODIFIED:20250605T024419Z
UID:981-1749312000-1749315600@www.thedominakatarina.com
SUMMARY:BDSM 101 Workshop
DESCRIPTION:Don’t even know what BDSM stands for? This entry level group class is for absolute beginners and sexperts\, alike! How to Play Safe\, Sane\, and Consensual\, how to negotiate a scene\, how to know your kinks (and hard limits) and the dos and don’ts of a BDSM scene. \nI even include a kinky starter pack so you can learn a few basics for the bedroom: spanking\, face slapping\, hair pulling and Dominance choking. \nChoose the participating sub ticket to be my demo bottom for the workshop. \nLearn codes of ethics\, what all those acronyms stand for and a few starter moves for your kinky toolbox with Domina Katarina. Join me in Manhattan! \nMore from the Taillor Group:\nLocation\nSecret Location in Lower Manhattan\n\n\n\n\n\n\n\n\n\n\nRefund Policy\n\nNo Refunds\n\n\n\n\n\n\n\nAbout this event\n\n\n\n\n\n\nDon’t even know what BDSM stands for? This entry level group class is for absolute beginners and sexperts\, alike! How to Play Safe\, Sane\, and Consensual\, How to Negotiate a Scene\, How to Know Your Kinks (and Hard Limits) and the Do’s and Don’t of a BDSM scene. \n#BROOKLYNKINK #BDSM101 #BDSMWORKSHOP\nThis is an 21+ event. \n#TaillorCollective #ToEitherPleaseOrEducate \nWho are we? \nThe Taillor Group is a collective of fierce femme-identifying Dommes headquartered in our beautiful residential dungeon in Bushwick. We are dedicated to the BDSM lifestyle and community\, and offer a range of ways to be involved. \nWhat is this event? \nOur workshops are social\, group gatherings that bring members of the BDSM community together in a playful and educational setting. Workshops generally run one hour long are intended to be spaces of learning\, and practicing techniques honed in the class. Workshops are not open play-time (unless specifically stated otherwise). \nWhere is The Crown located? \nIn Prospect Lefferts Gardens\, Brooklyn. Walking distance from the train. Exact address on confirmation page\, and ticket after purchasing. Friday workshops are held in Lower Manhattan at another location typically. \nDOOR TIMES: \nDoors for the event will open precisely 5 minutes before starting time and close precisely at 10 minutes after. Please arrive on time for all events. \nTICKETS: \nParticipating Sub Ticket: to participate and be used. We welcome participating subs of all genders. \nVoyeur Ticket: only to watch. \nParticipating Domme Ticket: For outside dommes\, or dominant femme identifying folk who wish to try out what they learn in class. \nSingle submissive attendees are especially encouraged to attend\, as we use workshops to hone our techniques and better our craft as Dommes. We know you need us… desperately. But\, we need you! \nDress Code: \nCDUS (Clothed Dominant\, Unclothed Submissive) encouraged. Cross-Dressing and fetishwear appreciated. \nGOOD TO KNOW: \nThis event is 21+- The Taillor Collective plays SSC (safe\, sane\, and consensual) \nSTILL HAVE QUESTIONS? \nCall or text us at +1 (347) 855 4877\, or send an email to events@taillors.com \nNO REFUNDS
URL:https://www.thedominakatarina.com/event/bdsm-101-workshop/
LOCATION:secret location in lower Mahattan
CATEGORIES:The Domme Kat at...,Workshops
ATTACH;FMTTYPE=image/png:https://www.thedominakatarina.com/wp-content/uploads/2025/01/BDSM101-IG.png
END:VEVENT
BEGIN:VEVENT
DTSTART;TZID=America/New_York:20250607T200000
DTEND;TZID=America/New_York:20250607T230000
DTSTAMP:20260425T150853
CREATED:20250605T025013Z
LAST-MODIFIED:20250605T025013Z
UID:984-1749326400-1749337200@www.thedominakatarina.com
SUMMARY:I'm Hosting the Taillor Group Token Party!
DESCRIPTION:I’m doling out the tokens on Friday! \nYour favorite FemDom play party is happening on Friday at The Crown in Brooklyn. Come say hi\, get some tokens and have lots of fun with me and the Taillor Dommes. \nYou can even enter a special raffle to win some 1-on-1 time with me! \nFrom the Taillor Group:\n\n\n\n\nRefund Policy\n\nNo Refunds\n\n\n\n\n\n\n\n\n\n\nAbout this event\n\n\n\n\n\n\n♡ EVERYONE’S NEW FAVORITE FEMDOM PLAY PARTY ♡ \n🪙 Activities\, raffles and specials always depend on the dommes hosting the event; but all parties will have domme stations – where you can turn a token into a magical kinky experience. \n⚜️ Tokens: Tokens are the cute little wooden crown coins accepted at prodomme stations. All guests are welcome to purchase and use tokens.\n🎟️ Exclusive raffles: amazing prizes\, such as getting double-dommed for 15 minutes\, an entire month of taillor events\, and more!\n👑 Hosts: Weekly announced on our calendar on the website:\n*https://www.taillors.com/calendar\n \nAbout this event:\nThis is a femdom play-party. We welcome new and experienced kinksters alike to our play space. Be respectful. Make friends.\nTOKENS\nPlease note tokens are only valid until the end of the party in which you purchase them. If you are not able to spend them all\, please speak to the token trader before you leave.\n\n\n\n\nBYOB:\nBring some tasty treats or beverages and share responsibly. The refrigerator is at your disposal. We’ll provide the cups! But please note: While this is not a sober space\, intoxication will not be tolerated in play. Be mindful of your consumption and behavior or you will be asked to leave.\nHouse Rules:\nThe Crown is a space for everyone to feel safe\, welcome\, and uplifted.\nWe have a zero-tolerance policy towards any kind of hate within our space. Ableism\, racism\, fatphobia\, transphobia\, homophobia\, misogyny\, and/or misogynoir will result in immediate expulsion. If you see this occurring or you are being bullied or harassed\, please immediately report this to any of our Taillor’s domme/xs present and we will take care of the matter. \nConsent is mandatory for all activities. Please always ASK FIRST prior to touching\, photographing\, filming\, or engaging in any type of play with another person or people\, and please maintain ongoing enthusiastic consent during play. If someone is making you uncomfortable\, violating your boundaries\, or harassing you\, please immediately report this to any of our Taillor’s domme/xs present and we will help you. Stay safe and have fun! \nDress Code:\nFetish gear + color green encouraged. For playsubs\, undressing is allowed however full nudity only by request (just so nothing leaks out of your holes and onto our furniture).\nWho are we again?\nThe Taillor Group is a collective of fierce femme-identifying prodommes headquartered in our residential dungeon in Brooklyn. We are dedicated to the BDSM lifestyle and community\, and offer a range of ways to be involved.\nWhere is The Crown located?\nIn Prospect Lefferts Garden\, Brooklyn. Walking distance from the train. Exact address on confirmation page\, and ticket after purchasing.\nDOOR TIMES:\nDoors for the event will open precisely 5 minutes before starting time. Please do not arrive earlier\, unless you are a volunteer working at the party.\nSTILL HAVE QUESTIONS?\nCall or text us at +1 (347) 855 4877\, or send an email to events@taillors.com\nNO REFUNDS\n\n\n\n\nPlease Note *MUST READ*: this is a supportive\, DIY community environment. Any kind of hate is not welcome in our space – that means no racism\, homophobia\, misogyny or misogynoir\, kinkshaming\, fatphobia or body shaming\, ableism\, etc. Consent is MANDATORY for all interactions. If you are violated or discriminated against\, please find one of our hosts or any Taillor’s dommes and report if you are comfortable doing so so that we can do our best to remove the threat and make you feel safe. In kind\, if you are found violating anybody’s consent or discriminating against anybody and being a lame hater\, you will be ejected without a refund and you will not be welcome back into our space.\nThis event is 21+.\nThe Taillor Group plays R.A.C.K. (Risk Aware Consensual Kink).
URL:https://www.thedominakatarina.com/event/im-hosting-the-taillor-group-token-party/
LOCATION:The Crown\, Brooklyn\, NY\, 11207\, United States
CATEGORIES:MiniSessions,Party,Play Party,Play Party,The Domme Kat at...
ATTACH;FMTTYPE=image/jpeg:https://www.thedominakatarina.com/wp-content/uploads/2025/02/TaillorTokenParty-Eventbrite-Main.jpeg
END:VEVENT
BEGIN:VEVENT
DTSTART;TZID=America/New_York:20250616T190000
DTEND;TZID=America/New_York:20250616T213000
DTSTAMP:20260425T150853
CREATED:20250610T042020Z
LAST-MODIFIED:20250610T042020Z
UID:997-1750100400-1750109400@www.thedominakatarina.com
SUMMARY:FemDom Wrestling 101 and 201 - Workshops
DESCRIPTION:I’m teaching the Taillor Group Dommes wrestling in Brooklyn! \nJoin us every 3rd Monday for FemDom Wrestling 101 followed by FemDom Wrestling 201. If you’ve wanted to come to my Fetish Wrestling Essentials workshops\, these are very similar but with an emphasis on Domination by Women! \nFemDom Wrestling 101 will get you into the action more safely every third Monday of the month at 7 p.m. \nFemDom Wrestling 201 will take you beyond the into into more classic fetish wrestling holds and submissions. Love chokes and smothers? This is the class for you\, but it is highly recommended you take both the 101 and 201 class. FemDom Wrestling 201 is every third Monday of the month at 8:30 p.m. \nTICKET OPTIONS\nReady to submit? Choose the participating sub ticket option and be our practice “dummy.” 😉 All genders welcome. \nAre you a FemDom or looking to learn how to Dominate using just your body? Grab a FemDom ticket and get your body moving on the mats. \nJust want to watch? You can do that\, too! \nYou can come to just one of the workshops\, but I highly recommend coming to both! 101 acts as a prerequisite for the 201 class. \nATTIRE\nIf you’re getting on the mats with us\, please wear something you’re comfortable moving in. Yoga pants\, gym shorts and other sporty gear is perfect. Fetish wear and CFNM welcome. You may come 10 minutes early and get changed in one of the two bathrooms. \nPlease\, no: \n\njewelry\, watches or anything pokey that can puncture the mats\, scratch your wrestling partner or snag and injure you.\nshoes on the mats unless they are specifically wrestling boots or a non-street shoe like ballet slippers. You can have bare feet or wear socks\, pantyhose or other foot coverings.\n\nHEALTH AND HYGIENE\nIf you are a human who shaves\, I recommend shaving the night before so you don’t have any broken skin touching the communal mats. Make sure your toenails are trimmed and you smell fresh. Please check yourself for any signs of illness\, skin rashes or lesions. \nThis workshop is produced by The Taillor Group. If you have any questions\, please contact The Crown.
URL:https://www.thedominakatarina.com/event/femdom-wrestling-101-and-201-workshops-4/
LOCATION:The Crown\, Brooklyn\, NY\, 11207\, United States
CATEGORIES:The Domme Kat at...,Workshops
ATTACH;FMTTYPE=image/jpeg:https://www.thedominakatarina.com/wp-content/uploads/2021/10/katarinadachi_LG00075.jpg
END:VEVENT
BEGIN:VEVENT
DTSTART;TZID=America/New_York:20250620T160000
DTEND;TZID=America/New_York:20250620T170000
DTSTAMP:20260425T150853
CREATED:20250518T231546Z
LAST-MODIFIED:20250611T001154Z
UID:934-1750435200-1750438800@www.thedominakatarina.com
SUMMARY:Oh My Feet – Workshop on Foot Fetish
DESCRIPTION:Join me and the Taillor Group in a secret location in lower Manhattan for a workshop all about feet\, socks\, shoes\, scents. \nI love Dominating with my feet! Let me show you some of my favorite ways to play\, including massage\, worship\, trampling\, ball busting\, foot chokes\, edging games and more. \nBe my demo bottom when you purchase the participating sub ticket. You might even get stepped on by the Taillor Dommes! Dominant Women\, opt for the FemDom ticket and get in on the fun. If you want to watch\, select the General Admission ticket. \n\n\nIf you’ve my attended Pedestal: Foot Domination and Jobs workshop\, this is similar with an emphasis on FemDom/me/mx.\n\n\n\nThis workshop is produced by The Taillor Group. If you have any questions\, please contact The Crown.
URL:https://www.thedominakatarina.com/event/oh-my-feet-workshop-on-foot-fetish-2/
LOCATION:secret location in lower Mahattan
CATEGORIES:The Domme Kat at...,Workshops
ATTACH;FMTTYPE=image/png:https://www.thedominakatarina.com/wp-content/uploads/2025/01/The-Domme-Kat-is.png
END:VEVENT
BEGIN:VEVENT
DTSTART;TZID=America/New_York:20250623T190000
DTEND;TZID=America/New_York:20250623T200000
DTSTAMP:20260425T150853
CREATED:20250620T010658Z
LAST-MODIFIED:20250620T012042Z
UID:1003-1750705200-1750708800@www.thedominakatarina.com
SUMMARY:Drip: A Wax Play Workshop
DESCRIPTION:TICKETS:\nhttps://dripping.eventbrite.com \nBDSM isn’t all about whips and chains; there’s a softer side! Sensation play focuses on the dance our five senses do. With wax play\, we’ll focus on the skin and the pleasure we receive through it. And cleaning up can be just as fun as getting messy! We’ll discuss the various ways to remove the wax from your partner’s skin. From sensual oil massage to the sting of hot wax dripping on bare skin\, let’s explore together. \n$80 – Get a participating sub ticket to be one of my demo bottoms and experience wax play with me and other Dommes. All genders welcome as submissives! \n$15 – If you’re a Femme-identifying Dominant\, there’s a specially priced ticket for you to come and participate under my experienced guidance. \n$30 – Not a Femme and/or just looking to watch? There’s a ticket option for that\, too! \nAll tickets available now! \nThe workshop is at The Crown and is produced by the Taillor Group (@theTaillorGroup on Fetlife). For even more information\, see the main event listing on Fetlife from @TheTaillorGroup or on the Taillor Group events calendar. \nStreet-wear accepted. CDUS (Clothed Dominant\, Unclothed Submissive) encouraged. Cross-Dressing and fetish wear appreciated. \nWax Play is R.A.C.K. (Risk-Aware Consensual Kink) \n\nAbout The Taillor Group:\nWho are we?\nThe Taillor Group is a collective of fierce femme-identifying Dommes headquartered in our beautiful residential dungeon in Brooklyn. We are dedicated to the BDSM lifestyle and community\, and offer a range of ways to be involved. \nWhat is this event?\nOur workshops are social\, group gatherings that bring members of the BDSM community together in a playful and educational setting. Workshops generally run one hour long are intended to be spaces of learning\, and practicing techniques honed in the class. Workshops are not open play-time (unless specifically stated otherwise). \nWhere is The Crown located?\nIn Prospect Lefferts Gardens\, Brooklyn. Walking distance from the train. Exact address on confirmation page\, and ticket after purchasing. \nDOOR TIMES:\nDoors for the event will open precisely 5 minutes before starting time and close precisely at 10 minutes after. Please arrive on time for all events. \nTICKETS:\nParticipating Sub Ticket: to participate and be used. We welcome participating subs of all genders. \nVoyeur Ticket: only to watch \nParticipating Domme Ticket: for outside Dommes or Dominant Femme identifying folk who wish to try out what they learn in class \nSingle submissive attendees are especially encouraged to attend\, as we use workshops to hone our techniques and better our craft as Dommes. We know you need us… desperately. But\, we need you! \nDress Code:\nCDUS (Clothed Dominant\, Unclothed Submissive) encouraged. Cross-Dressing and fetish wear appreciated. \nGOOD TO KNOW:\nThis event is 21+- The Taillor Collective plays SSC (safe\, sane\, and consensual). \nSTILL HAVE QUESTIONS?\nCall or text us at +1 (347) 855 4877\, or send an email to events@taillors.com \nNO REFUNDS
URL:https://www.thedominakatarina.com/event/drip-a-wax-play-workshop-3/
LOCATION:The Crown\, Brooklyn\, NY\, 11207\, United States
CATEGORIES:The Domme Kat at...,Workshops
ATTACH;FMTTYPE=image/jpeg:https://www.thedominakatarina.com/wp-content/uploads/2024/07/IMG_7524-e1721811496501.jpeg
END:VEVENT
END:VCALENDAR