BEGIN:VCALENDAR
VERSION:2.0
PRODID:-//The Domme Kat - ECPv6.15.20//NONSGML v1.0//EN
CALSCALE:GREGORIAN
METHOD:PUBLISH
X-WR-CALNAME:The Domme Kat
X-ORIGINAL-URL:https://www.thedominakatarina.com
X-WR-CALDESC:Events for The Domme Kat
REFRESH-INTERVAL;VALUE=DURATION:PT1H
X-Robots-Tag:noindex
X-PUBLISHED-TTL:PT1H
BEGIN:VTIMEZONE
TZID:America/New_York
BEGIN:DAYLIGHT
TZOFFSETFROM:-0500
TZOFFSETTO:-0400
TZNAME:EDT
DTSTART:20240310T070000
END:DAYLIGHT
BEGIN:STANDARD
TZOFFSETFROM:-0400
TZOFFSETTO:-0500
TZNAME:EST
DTSTART:20241103T060000
END:STANDARD
BEGIN:DAYLIGHT
TZOFFSETFROM:-0500
TZOFFSETTO:-0400
TZNAME:EDT
DTSTART:20250309T070000
END:DAYLIGHT
BEGIN:STANDARD
TZOFFSETFROM:-0400
TZOFFSETTO:-0500
TZNAME:EST
DTSTART:20251102T060000
END:STANDARD
BEGIN:DAYLIGHT
TZOFFSETFROM:-0500
TZOFFSETTO:-0400
TZNAME:EDT
DTSTART:20260308T070000
END:DAYLIGHT
BEGIN:STANDARD
TZOFFSETFROM:-0400
TZOFFSETTO:-0500
TZNAME:EST
DTSTART:20261101T060000
END:STANDARD
END:VTIMEZONE
BEGIN:VEVENT
DTSTART;TZID=America/New_York:20250718T160000
DTEND;TZID=America/New_York:20250718T170000
DTSTAMP:20260425T134338
CREATED:20250716T015657Z
LAST-MODIFIED:20250716T020823Z
UID:1013-1752854400-1752858000@www.thedominakatarina.com
SUMMARY:Oh My Feet – Taillor Group Foot Fetish Workshop
DESCRIPTION:Join me and the Taillor Group in a secret location in lower Manhattan for a workshop all about feet\, socks\, shoes\, scents. \nI love Dominating with my feet! Let me show you some of my favorite ways to play\, including massage\, worship\, trampling\, ball busting\, foot chokes\, edging games and more. \nBe my demo bottom when you purchase the participating sub ticket. You might even get stepped on by the Taillor Dommes! Dominant Women\, opt for the FemDom ticket and get in on the fun. If you want to watch\, select the General Admission ticket. \n\n\nIf you’ve my attended Pedestal: Foot Domination and Jobs workshop\, this is similar with an emphasis on FemDom/me/mx. \n\n\n\nThis workshop is produced by The Taillor Group. If you have any questions\, please contact The Crown.
URL:https://www.thedominakatarina.com/event/oh-my-feet-taillor-group-foot-fetish-workshop/
LOCATION:secret location in lower Mahattan
CATEGORIES:The Domme Kat at...,Workshops
ATTACH;FMTTYPE=image/png:https://www.thedominakatarina.com/wp-content/uploads/2025/07/33.png
END:VEVENT
BEGIN:VEVENT
DTSTART;TZID=America/New_York:20250721T190000
DTEND;TZID=America/New_York:20250721T213000
DTSTAMP:20260425T134338
CREATED:20250721T064426Z
LAST-MODIFIED:20250721T070148Z
UID:1017-1753124400-1753133400@www.thedominakatarina.com
SUMMARY:FemDom Wrestling 101 and 201 – Workshops
DESCRIPTION:I’m teaching the Taillor Group Dommes wrestling in Brooklyn! \nJoin us every 3rd Monday for FemDom Wrestling 101 followed by FemDom Wrestling 201. Both classes give you fetish wrestling essentials with an emphasis on Domination by Women! \nFemDom Wrestling 101 will get you into the action more safely every third Monday of the month at 7 p.m. \nFemDom Wrestling 201 will take you beyond the into into more classic fetish wrestling holds and submissions. Love chokes and smothers? This is the class for you\, but it is highly recommended you take both the 101 and 201 class. FemDom Wrestling 201 is every third Monday of the month at 8:30 p.m. \nEach class ends with some live action where participating Dommes can try out their moves in real time matches with the submissives. \nTICKET OPTIONS\nReady to submit? Choose the participating sub ticket option and be our practice “dummy.” 😉 All genders welcome. \nAre you a FemDom or looking to learn how to Dominate using just your body? Grab a FemDom ticket and get your body moving on the mats. \nJust want to watch? You can do that\, too! \nYou can come to just one of the workshops\, but I highly recommend coming to both! 101 acts as a prerequisite for the 201 class. \nATTIRE\nIf you’re getting on the mats with us\, please wear something you’re comfortable moving in. Yoga pants\, gym shorts and other sporty gear is perfect. Fetish wear and CFNM welcome. You may come 10 minutes early and get changed in one of the two bathrooms. \nPlease\, no: \n\njewelry\, watches or anything pokey that can puncture the mats\, scratch your wrestling partner or snag and injure you.\nshoes on the mats unless they are specifically wrestling boots or a non-street shoe like ballet slippers. You can have bare feet or wear socks\, pantyhose or other foot coverings.\n\nHEALTH AND HYGIENE\nIf you are a human who shaves\, I recommend shaving the night before so you don’t have any broken skin touching the communal mats. Make sure your toenails are trimmed and you smell fresh. Please check yourself for any signs of illness\, skin rashes or lesions. \nThis workshop is produced by The Taillor Group. If you have any questions\, please contact The Crown.
URL:https://www.thedominakatarina.com/event/femdom-wrestling-101-and-201-workshops-5/
LOCATION:The Crown\, Brooklyn\, NY\, 11207\, United States
CATEGORIES:The Domme Kat at...
ATTACH;FMTTYPE=image/png:https://www.thedominakatarina.com/wp-content/uploads/2025/07/RNC-ZackLittle-TheDommeKat.png
END:VEVENT
BEGIN:VEVENT
DTSTART;TZID=America/New_York:20250725T190000
DTEND;TZID=America/New_York:20250726T030000
DTSTAMP:20260425T134338
CREATED:20250724T060008Z
LAST-MODIFIED:20250724T201148Z
UID:1029-1753470000-1753498800@www.thedominakatarina.com
SUMMARY:Discounted Tickets for Kinky BDSM Variety Show & Play Party
DESCRIPTION:I’m hosting a wrestling kink station at Pagans Paradise Kinky Immersive Theatre & Play Party Kinklesque: Pole Noir on Friday\, July 25 at Hit me Up in NYC. Enjoy the performances then let’s carve out some personal time on the mats–true immersive theatre. 😈  Haven’t booked a full session yet? Take a taste in a mini-session. \nTickets: [https://plra.io/m/kinklesquepolenoirjul25?r=dominuseros143] \nUse promo codes EROS10 EROS20 KL20 for discounted tickets. \nPole Noir is a Speakeasy of Secrets & Seduction \nA shadow-drenched spectacle of pole\, kink\, and clandestine cabaret.\nSlip behind the velvet curtain and step into a world where mystery drips like molasses and every gaze is a gamble. \nKinklesque: Pole Noir is a no-holds-barred variety show that seduces the senses and leaves morality at the door. Inspired by the smoky glamour of 1920s speakeasies and the sharp edge of classic film noir\, this evening of immersive entertainment dives deep into the forbidden. \nJoin us at the spacious\, stylish Union Square Hub for a night where kink and cabaret collide with immersive theater\, sideshow allure\, drag danger\, slam poetry\, and unforgettable performances that worship femmes fatales\, dashing deviants\, gloved-up gangsters\, devilish Dons and slow-burn desire. \nThis isn’t just a show—it’s a cinematic fever dream for the curious\, the kinky\, and the unapologetically bold. \n🌟 Expect the Unexpected 🌟\n🔥 Bold burlesque that peels back more than layers\n🔗 Kink performances that push boundaries with elegance and edge\n💋 Slam poetry that seduces and subverts\n👠 Iconic drag that praises the profane\n🎪 Sideshow & immersive elements that blur performer and voyeur\n🎭 Themed surprises that might earn you a favor—or put you on the Boss’s radar.\n🧃 Mocktail Mixology Bar\nCrafted by a pro mixologist with sinfully satisfying flavors—zero proof\, all punch.\n🛍️ Curated Vendors\nExplore kinky goods\, artisan accessories\, edibles and art that speaks to your spirit and shadow.\n🎪 Side Performers & Pro Players\nRoaming talent and featured pro performers will spark your curiosity and guide your pleasure.\n🎁 Win Free Prizes! \n🎉AFTER PARTY🎉\nWhen the curtain drops\, the real play begins…\nStay for the after play party\, where connection and chaos continue deep into the night with music\, play areas\, and space to let loose.\nThis part of the evening is a full on Kink Play Party that will have tastings from pros\, kink and sideshow experiences with more performances plus open play time! \nFeaturing:\nDominus Eros – Founder of Pagans Paradise\, Pleasure & Intimacy Guide/Instructor/Coach\, Pro Dom and Tantrika. Dominus will be your host of the evening MCing alongside Angel! \nPerformers:\nVictor Viero\, Queerly Femmetastic\, Godis Niya Love\, Bruce Whee\, Pineapple and Alana! \nSideshow Pro Experiences:\nKink Stations with Various Pros!\nFeatured Pros\nPro Bottom Mo the Cryptid Cosplayer! \nKinklesque is a celebration of performance\, pleasure\, and play—join us and bring with your whole self to the stage. \n🎩 DRESS CODE\nThink velvet mob bosses\, femme fatale sirens\, high-glamour lounge singers\, leather-clad gumshoes\, or noir vixens in silk and shadow.\nChannel the smoky intrigue of a secret speakeasy or the edge of a black-and-white crime scene fantasy.\nAll klnk\, fet\, and vintage glam attire welcome. Make it dangerous—make it decadent.\n🚫 No casual wear (jeans\, sneakers\, T-shirts).\n(You may be turned away at the door if you do not put in effort.) \nEVENT DETAILS\n💜 Doors Open: 7:00 PM (doors close at 7:30 PM sharp)\n💜 After Party Doors Open: 10:30pm (doors close 11pm sharp)\n💜 Event Ends: 3:00 AM\n💜 Location: Private studio near Union Square(details in confirmation email)\n💜 Accessibility: Walk up 2 flights. \nWHAT TO BRING\nDollar Bills for tips (we will have singles to exchange)\nCash\, Venmo\, Cashapp for vendors and pro tastings\nBYOB/BYOT For After Party – (Your favorite beverages & items/accessories) \nTICKETS (Tier Pricing\, Get the tier that is best for you\, lower tiers exist for accessibility)(Tickets offer show only as well as combo show and party to save money!)\n🎟️ General Admission Show Only & Show and Party\n🎟️ Preferred Seating Show Only & Show and Party (access to first 2 rows of chaired seating)\n🎟️ VIP Package (Front-row seating\, Time with a pro\, 1 Free drink\, early access to party elements\, and goodies which includes promo tickets for workshops/parties!)\n🎟️ After Party Only\n21+ age to join. \nLATE ENTRY & REFUNDS\nTo protect the space and ensure a seamless experience for all\, doors will close promptly. Late arrivals may not be admitted\, and refunds will not be available. No Refunds for this event. \nIMPORTANT NOTICE\nPagans Paradise events are intended for educational and entertainment purposes\, and attendees participate at their own risk. Some events may involve physical or emotional exploration\, and by attending\, you agree to take personal responsibility for your well-being. By attending\, you agree to participate at your own risk\, conduct your own risk management\, and agree to hold the event facilitators and facility harmless for any type of harm that may occur. \nTRIGGER WARNING: The show is meant to be provocative and might have elements that can be triggering for some. Please take care of yourself and take breaks if you need to\, feel free to reach out to staff if you need help. By coming you are also acknowledging that you have be warned of material that might be challenging\, art is art and it may not be for everyone. No refunds will be given in the case that you might have to leave due to show elements. \nABOUT US\nAt Pagans Paradise\, we believe in creating a welcoming\, joyful space for everyone to explore connection\, dive into a range of educational resources\, and nurture their authentic selves.\n📸 Connect with us on Instagram @pagansparadise.\n📩 Join our newsletter at www.pagansparadise.com.\n📧 Any questions or concerns? Email us at PagansParadiseNYC@gmail.com.\nPagans Paradise has been fostering joy and connection in the community for 10 years.
URL:https://www.thedominakatarina.com/event/discounted-tickets-for-kinky-bdsm-variety-show-play-party/
LOCATION:Address given in email confirmation. Please contact Pagans Paradise if paying at door.\, New York\, NY\, United States
CATEGORIES:MiniSessions,Party,Play Party,Play Party,The Domme Kat at...
ATTACH;FMTTYPE=image/jpeg:https://www.thedominakatarina.com/wp-content/uploads/2025/07/Image-7-24-25-at-1.52-AM.jpeg
ORGANIZER;CN="Pagans Paradise":MAILTO:Hello@PagansParadise.com
END:VEVENT
BEGIN:VEVENT
DTSTART;TZID=America/New_York:20250727T203000
DTEND;TZID=America/New_York:20250727T213000
DTSTAMP:20260425T134338
CREATED:20250724T054204Z
LAST-MODIFIED:20250724T054204Z
UID:1025-1753648200-1753651800@www.thedominakatarina.com
SUMMARY:PegFest\, The Taillor Group's Famous Pegging Workshop
DESCRIPTION:I’m so excited to teach Peg·Fest\, the Taillor’s Famous BDSM & Pegging Workshop on a special date and time — Sunday\, July 27 at 8:30 p.m. \nFollow the Taillor Group on FetLife and check out the main event description. \nFROM THE TAILLOR GROUP:\n\nAbout this event\n\n\n\n\n\n\nThe Taillors teach and orchestrate the pegging of newbies by experienced dommes on the lovely taillor subs. \n#TaillorCollective #ToEitherPleaseOrEducate \nWho are we?\nThe Taillor Group is a collective of fierce femme-identifying Dommes headquartered in our beautiful residential dungeon in Brooklyn. We are dedicated to the BDSM lifestyle and community\, and offer a range of ways to be involved. \nWhat is this event?\nOur workshops are social\, group gatherings that bring members of the BDSM community together in a playful and educational setting. Workshops generally run one hour long are intended to be spaces of learning\, and practicing techniques honed in the class. Workshops are not open play-time (unless specifically stated otherwise). \nWhere is The Crown located?\nIn Prospect Lefferts Garden\, Brooklyn. Walking distance from the train. Exact address on confirmation page\, and ticket after purchasing. \nDOOR TIMES:\nDoors for the event will open precisely 5 minutes before starting time and close precisely at 10 minutes after. Please arrive on time for all events. \nTICKETS:\nParticipating Sub Ticket: to participate and be used during demos. We welcome participating subs of all genders. \nGeneral Admission Ticket: only to watch. \nParticipating Domme Ticket: For outside dommes\, or dominant femme identifying folk who wish to try out what they learn in class. \nSingle submissive attendees are especially encouraged to attend\, as we use workshops to hone our techniques and better our craft as Dommes. We know you need us… desperately. But\, we need you! \nDress Code:\nCDUS (Clothed Dominant\, Unclothed Submissive) encouraged. Cross-Dressing and fetishwear appreciated. \nGOOD TO KNOW:\nThis event is 21+. The Taillor Collective plays SSC (safe\, sane\, and consensual). \nThe Crown is a space for everyone to feel safe and welcomed. We have a zero-tolerance policy towards any kind of hate within our space. Ableism\, racism\, fatphobia\, transphobia\, homophobia\, misogyny\, and/or misogynoir will result in immediate expulsion. \nSTILL HAVE QUESTIONS?\nCall or text us at +1 (347) 855 4877\, or send an email to events@taillors.com \nNO REFUNDS
URL:https://www.thedominakatarina.com/event/pegfest-the-taillor-groups-famous-pegging-workshop/
LOCATION:The Crown\, Brooklyn\, NY\, 11207\, United States
CATEGORIES:The Domme Kat at...,Workshops
ATTACH;FMTTYPE=image/jpeg:https://www.thedominakatarina.com/wp-content/uploads/2025/07/theDommeKat-naked-strapon-anal-August.jpg
END:VEVENT
BEGIN:VEVENT
DTSTART;TZID=America/New_York:20250728T190000
DTEND;TZID=America/New_York:20250728T200000
DTSTAMP:20260425T134338
CREATED:20250724T052909Z
LAST-MODIFIED:20250724T201231Z
UID:1023-1753729200-1753732800@www.thedominakatarina.com
SUMMARY:Drip: A Wax Play Workshop for The Taillor Group
DESCRIPTION:TICKETS:\nhttps://dripping.eventbrite.com \nBDSM isn’t all about whips and chains; there’s a softer side! Sensation play focuses on the dance our five senses do. With wax play\, we’ll focus on the skin and the pleasure we receive through it. And cleaning up can be just as fun as getting messy! We’ll discuss the various ways to remove the wax from your partner’s skin. From sensual oil massage to the sting of hot wax dripping on bare skin\, let’s explore together. \n$80 – Get a participating sub ticket to be one of my demo bottoms and experience wax play with me and other Dommes. All genders welcome as submissives! \n$15 – If you’re a Femme-identifying Dominant\, there’s a specially priced ticket for you to come and participate under my experienced guidance. \n$30 – Not a Femme and/or just looking to watch? There’s a ticket option for that\, too! \nAll tickets available now! \nThe workshop was developed by me and produced by the Taillor Group (@theTaillorGroup on Fetlife). For even more information\, see the main event listing on Fetlife from @TheTaillorGroup or on the Taillor Group events calendar. \nStreet-wear accepted. CDUS (Clothed Dominant\, Unclothed Submissive) encouraged. Cross-Dressing and fetish wear appreciated. \nWax Play is R.A.C.K. (Risk-Aware Consensual Kink) \n\nAbout The Taillor Group:\nWho are we?\nThe Taillor Group is a collective of fierce femme-identifying Dommes headquartered in our beautiful residential dungeon in Brooklyn. We are dedicated to the BDSM lifestyle and community\, and offer a range of ways to be involved. \nWhat is this event?\nOur workshops are social\, group gatherings that bring members of the BDSM community together in a playful and educational setting. Workshops generally run one hour long are intended to be spaces of learning\, and practicing techniques honed in the class. Workshops are not open play-time (unless specifically stated otherwise). \nWhere is The Crown located?\nIn Prospect Lefferts Gardens\, Brooklyn. Walking distance from the train. Exact address on confirmation page\, and ticket after purchasing. \nDOOR TIMES:\nDoors for the event will open precisely 5 minutes before starting time and close precisely at 10 minutes after. Please arrive on time for all events. \nTICKETS:\nParticipating Sub Ticket: to participate and be used. We welcome participating subs of all genders. \nVoyeur Ticket: only to watch \nParticipating Domme Ticket: for outside Dommes or Dominant Femme identifying folk who wish to try out what they learn in class \nSingle submissive attendees are especially encouraged to attend\, as we use workshops to hone our techniques and better our craft as Dommes. We know you need us… desperately. But\, we need you! \nDress Code:\nCDUS (Clothed Dominant\, Unclothed Submissive) encouraged. Cross-Dressing and fetish wear appreciated. \nGOOD TO KNOW:\nThis event is 21+- The Taillor Collective plays SSC (safe\, sane\, and consensual). \nSTILL HAVE QUESTIONS?\nCall or text us at +1 (347) 855 4877\, or send an email to events@taillors.com \nNO REFUNDS
URL:https://www.thedominakatarina.com/event/drip-a-wax-play-workshop-for-the-taillor-group/
LOCATION:The Crown\, Brooklyn\, NY\, 11207\, United States
CATEGORIES:The Domme Kat at...,Workshops
ATTACH;FMTTYPE=image/jpeg:https://www.thedominakatarina.com/wp-content/uploads/2024/07/IMG_7522.jpeg
END:VEVENT
END:VCALENDAR