BEGIN:VCALENDAR
VERSION:2.0
PRODID:-//The Domme Kat - ECPv6.15.20//NONSGML v1.0//EN
CALSCALE:GREGORIAN
METHOD:PUBLISH
X-WR-CALNAME:The Domme Kat
X-ORIGINAL-URL:https://www.thedominakatarina.com
X-WR-CALDESC:Events for The Domme Kat
REFRESH-INTERVAL;VALUE=DURATION:PT1H
X-Robots-Tag:noindex
X-PUBLISHED-TTL:PT1H
BEGIN:VTIMEZONE
TZID:America/New_York
BEGIN:DAYLIGHT
TZOFFSETFROM:-0500
TZOFFSETTO:-0400
TZNAME:EDT
DTSTART:20240310T070000
END:DAYLIGHT
BEGIN:STANDARD
TZOFFSETFROM:-0400
TZOFFSETTO:-0500
TZNAME:EST
DTSTART:20241103T060000
END:STANDARD
BEGIN:DAYLIGHT
TZOFFSETFROM:-0500
TZOFFSETTO:-0400
TZNAME:EDT
DTSTART:20250309T070000
END:DAYLIGHT
BEGIN:STANDARD
TZOFFSETFROM:-0400
TZOFFSETTO:-0500
TZNAME:EST
DTSTART:20251102T060000
END:STANDARD
BEGIN:DAYLIGHT
TZOFFSETFROM:-0500
TZOFFSETTO:-0400
TZNAME:EDT
DTSTART:20260308T070000
END:DAYLIGHT
BEGIN:STANDARD
TZOFFSETFROM:-0400
TZOFFSETTO:-0500
TZNAME:EST
DTSTART:20261101T060000
END:STANDARD
END:VTIMEZONE
BEGIN:VEVENT
DTSTART;TZID=America/New_York:20250905T160000
DTEND;TZID=America/New_York:20250905T170000
DTSTAMP:20260425T070713
CREATED:20250905T052509Z
LAST-MODIFIED:20250905T052509Z
UID:1084-1757088000-1757091600@www.thedominakatarina.com
SUMMARY:Sit & Punish—a Smothering & Breath Play BDSM workshop
DESCRIPTION:Curious about smothering and face-sitting? Learn how to smother safely\, pros and cons of different positions and how to incorporate other kinks to upgrade the experience for you and your sub. \nWe’ll also cover breath play safety and how to integrate it into your scenes. This femdom workshop is open to all skill levels and is designed to help you step up your body worship and master the art of physical domination. \n🎟 GET TICKETS:\nhttps://sitpunish.eventbrite.com \n**#BROOKLYNKINK #BDSM101 #BDSMWORKSHOP\nThis is an 21+ event. \n#TaillorCollective #ToEitherPleaseOrEducate** \nTICKETS: \nParticipating Sub Ticket: to participate and be used. We welcome participating subs of all genders. \nVoyeur Ticket: only to watch. \nParticipating Domme Ticket: For outside dommes\, or dominant femme identifying folk who wish to try out what they learn in class. \nSingle submissive attendees are especially encouraged to attend\, as we use workshops to hone our techniques and better our craft as Dommes. We know you need us… desperately. But\, we need you! \nGOOD TO KNOW: \nThis event is 21+- The Taillor Collective plays SSC (safe\, sane\, and consensual) \nSTILL HAVE QUESTIONS? \nCall or text us at +1 (347) 855 4877\, or send an email to events@taillors.com
URL:https://www.thedominakatarina.com/event/sit-punish-a-smothering-breath-play-bdsm-workshop/
LOCATION:secret location in lower Mahattan
CATEGORIES:The Domme Kat at...
ATTACH;FMTTYPE=image/jpeg:https://www.thedominakatarina.com/wp-content/uploads/2025/03/2.jpg
END:VEVENT
BEGIN:VEVENT
DTSTART;TZID=America/New_York:20250905T200000
DTEND;TZID=America/New_York:20250905T230000
DTSTAMP:20260425T070713
CREATED:20250905T053515Z
LAST-MODIFIED:20250905T053515Z
UID:1086-1757102400-1757113200@www.thedominakatarina.com
SUMMARY:I'm hosting the Taillor's famous token party!
DESCRIPTION:♡ EVERYONE’S NEW FAVORITE FEMDOM PLAY PARTY ♡ \n🪙 Activities\, raffles and specials always depend on the dommes hosting the event; but all parties will have domme stations – where you can turn a token into a magical kinky experience. \n⚜️ Tokens: Tokens are the cute little wooden crown coins accepted at prodomme stations. All guests are welcome to purchase and use tokens.\n🎟️ Exclusive raffles: amazing prizes\, such as getting double-dommed for 15 minutes\, an entire month of taillor events\, and more!\n👑 Hosts: Weekly announced on our calendar on the website:\n*https://www.taillors.com/calendar\n \nAbout this event:\nThis is a femdom play-party. We welcome new and experienced kinksters alike to our play space. Be respectful. Make friends. \nTOKENS\nPlease note tokens are only valid until the end of the party in which you purchase them. If you are not able to spend them all\, please speak to the token trader before you leave. \n\n\n\n\nBYOB:\nBring some tasty treats or beverages and share responsibly. The refrigerator is at your disposal. We’ll provide the cups! But please note: While this is not a sober space\, intoxication will not be tolerated in play. Be mindful of your consumption and behavior or you will be asked to leave. \nHouse Rules:\nThe Crown is a space for everyone to feel safe\, welcome\, and uplifted. \nWe have a zero-tolerance policy towards any kind of hate within our space. Ableism\, racism\, fatphobia\, transphobia\, homophobia\, misogyny\, and/or misogynoir will result in immediate expulsion. If you see this occurring or you are being bullied or harassed\, please immediately report this to any of our Taillor’s domme/xs present and we will take care of the matter. \nConsent is mandatory for all activities. Please always ASK FIRST prior to touching\, photographing\, filming\, or engaging in any type of play with another person or people\, and please maintain ongoing enthusiastic consent during play. If someone is making you uncomfortable\, violating your boundaries\, or harassing you\, please immediately report this to any of our Taillor’s domme/xs present and we will help you. Stay safe and have fun! \nDress Code:\nCDUS (Clothed Dominant\, Unclothed Submissive) and fetish gear encouraged. For playsubs\, undressing is allowed however full nudity only by request (just so nothing leaks out of your holes and onto our furniture). \nWho are we again?\nThe Taillor Group is a collective of fierce femme-identifying prodommes headquartered in our residential dungeon in Brooklyn. We are dedicated to the BDSM lifestyle and community\, and offer a range of ways to be involved. \nWhere is The Crown located?\nIn Prospect Lefferts Garden\, Brooklyn. Walking distance from the train. Exact address on confirmation page\, and ticket after purchasing. \nDOOR TIMES:\nDoors for the event will open precisely 5 minutes before starting time. Please do not arrive earlier\, unless you are a volunteer working at the party. \nSTILL HAVE QUESTIONS?\nCall or text us at +1 (347) 855 4877\, or send an email to events@taillors.com \nNO REFUNDS \n\n\n\n\nPlease Note *MUST READ*: this is a supportive\, DIY community environment. Any kind of hate is not welcome in our space – that means no racism\, homophobia\, misogyny or misogynoir\, kinkshaming\, fatphobia or body shaming\, ableism\, etc. Consent is MANDATORY for all interactions. If you are violated or discriminated against\, please find one of our hosts or any Taillor’s dommes and report if you are comfortable doing so so that we can do our best to remove the threat and make you feel safe. In kind\, if you are found violating anybody’s consent or discriminating against anybody and being a lame hater\, you will be ejected without a refund and you will not be welcome back into our space. \nThis event is 21+. The Taillor Group plays R.A.C.K. (Risk Aware Consensual Kink).
URL:https://www.thedominakatarina.com/event/im-hosting-the-taillors-famous-token-party/
LOCATION:The Crown\, Brooklyn\, NY\, 11207\, United States
CATEGORIES:MiniSessions,Party,Play Party,Play Party,The Domme Kat at...
ATTACH;FMTTYPE=image/png:https://www.thedominakatarina.com/wp-content/uploads/2025/09/Workshops_3x4_10.png
END:VEVENT
END:VCALENDAR