BEGIN:VCALENDAR
VERSION:2.0
PRODID:-//The Domme Kat - ECPv6.15.20//NONSGML v1.0//EN
CALSCALE:GREGORIAN
METHOD:PUBLISH
X-WR-CALNAME:The Domme Kat
X-ORIGINAL-URL:https://www.thedominakatarina.com
X-WR-CALDESC:Events for The Domme Kat
REFRESH-INTERVAL;VALUE=DURATION:PT1H
X-Robots-Tag:noindex
X-PUBLISHED-TTL:PT1H
BEGIN:VTIMEZONE
TZID:America/New_York
BEGIN:DAYLIGHT
TZOFFSETFROM:-0500
TZOFFSETTO:-0400
TZNAME:EDT
DTSTART:20230312T070000
END:DAYLIGHT
BEGIN:STANDARD
TZOFFSETFROM:-0400
TZOFFSETTO:-0500
TZNAME:EST
DTSTART:20231105T060000
END:STANDARD
BEGIN:DAYLIGHT
TZOFFSETFROM:-0500
TZOFFSETTO:-0400
TZNAME:EDT
DTSTART:20240310T070000
END:DAYLIGHT
BEGIN:STANDARD
TZOFFSETFROM:-0400
TZOFFSETTO:-0500
TZNAME:EST
DTSTART:20241103T060000
END:STANDARD
BEGIN:DAYLIGHT
TZOFFSETFROM:-0500
TZOFFSETTO:-0400
TZNAME:EDT
DTSTART:20250309T070000
END:DAYLIGHT
BEGIN:STANDARD
TZOFFSETFROM:-0400
TZOFFSETTO:-0500
TZNAME:EST
DTSTART:20251102T060000
END:STANDARD
BEGIN:DAYLIGHT
TZOFFSETFROM:-0500
TZOFFSETTO:-0400
TZNAME:EDT
DTSTART:20260308T070000
END:DAYLIGHT
BEGIN:STANDARD
TZOFFSETFROM:-0400
TZOFFSETTO:-0500
TZNAME:EST
DTSTART:20261101T060000
END:STANDARD
END:VTIMEZONE
BEGIN:VEVENT
DTSTART;VALUE=DATE:20241230
DTEND;VALUE=DATE:20250601
DTSTAMP:20260425T152417
CREATED:20241231T005501Z
LAST-MODIFIED:20250429T044249Z
UID:704-1735516800-1748735999@www.thedominakatarina.com
SUMMARY:In-Person and Online Rates for 2025
DESCRIPTION:New year\, new rates! \nIn-Person Sessions\n \nNYC\n \nOn Tour\nIf a touring date is not listed on my SessionGirls or Tryst accounts\, that means I have no plans to visit that area. If you’d like me to visit you in your town or to tour your area\, please be prepared to FMTY\, Train Me To You or sponsor my travel. \n \nOnline Sessions and Chat\n \nPremium Platforms\nSubscriber Only Rates for Virtual Services\n \nSextPanther Rates\n  \nCustom Clips\n \nI’m mainly available on \n\nLoyalFans bit.ly/Loyal2Kat\nSextPanther bit.ly/KatTexts\n\nI’m also on \n\nFansly bit.ly/TheDommeKatVIPee (FREE to follow – water sports/golden showers/pee PPV only – new content will NOT be uploaded here – not an active site to communicate with me)\nNiteFlirt bit.ly/KatCalls (phone calls only with deposit – goody bags of content – not an active site to communicate with me)\n\nMy clips are available on \n\nClips4Sale theDommeKatClips.com\nManyVids bit.ly/KatVids (this platform allows golden showers)\n\nAs always\, my fan club subscribers (LoyalFans) get discounts on goodies and naughties like new clip releases\, virtual sessions\, genital ratings\, voice notes and more! \nLooking forward to all the ways we’ll connect in 2025! \nxo\, Katarina \nhttps://www.thedominakatarina.com/wp-content/uploads/2024/12/Happy-New-Year-2025.mp4
URL:https://www.thedominakatarina.com/event/in-person-and-online-rates-for-2025/
LOCATION:NY
CATEGORIES:Announcements & Social Media,Sessions,Virtual/Online Services
ATTACH;FMTTYPE=image/jpeg:https://www.thedominakatarina.com/wp-content/uploads/2024/12/Happy-2025-Fireworks.jpg
ORGANIZER;CN="The Domme Kat":MAILTO:theDommeKat@protonmail.com
END:VEVENT
BEGIN:VEVENT
DTSTART;VALUE=DATE:20250210
DTEND;VALUE=DATE:20250502
DTSTAMP:20260425T152417
CREATED:20250211T031011Z
LAST-MODIFIED:20250213T012850Z
UID:775-1739145600-1746143999@www.thedominakatarina.com
SUMMARY:Spoil Me for My birthday: April 20!
DESCRIPTION:Your favorite 420 Domme first blessed the world with Her presence on literally 4/20. \nStart spoiling Me now or treat Me during my birthday month! \nHere are some gift ideas: \n\nkitchen and cookware – Cooking is My hobby and one of My passions. I love food science and feeding My friends. Both wishlists have kitchen items that I’ve researched and sometimes coveted.Amazon: bit.ly/KatWish (pro: send gift directly to me\, con: supporting Jeff Bezos)Throne: throne.com/thedommekat (pro: not supporting despots and allowing Me to choose the item\, con: nothing that outweighs the pro)\n\n420 treats from Amun’s Edibles – Contact My friend Amun to order Me infused goodies\nmanicure\, pedicure or other spa services like a massage\, facial – Send via throne.com/thedommekat or CashApp ($katscratchstudios)\, Venmo (gnocchiprincess). Leave the note or memo blank if using CashApp. Use only a gift box emoji if using Venmo.\nskill share – Send to cover the cost of a lesson from another Domme or other provider! Cost varies by provider\, approx. $450. I really want to learn fire play and explore other fetishes and kinks! Send via CashApp ($katscratchstudios)\, Venmo (gnocchiprincess). Leave the note or memo blank if using CashApp. Use only a gift box emoji if using Venmo.(Want to be the person We practice on? That could be arranged!)\ncash! – Considering paying My gym membership or a drop-in class at a local dojo? Want to treat Me and a Friend to dinner? I love visiting local Black-owned cafes for an afternoon coffee. From paying My rent to giving Me the afternoon off\, cash is king. Next best thing is a digital deposit via throne.com/thedommekat or CashApp ($katscratchstudios)\, Venmo (gnocchiprincess). Leave the note or memo blank if using CashApp. Use only a gift box emoji if using Venmo.\nother gift ideas – check out My wishlists for other gifts and services I’d love to receive!Amazon: bit.ly/KatWish (pro: send gift directly to me\, con: supporting Jeff Bezos)Throne: throne.com/thedommekat (pro: not supporting despots and allowing me to choose the item\, con: nothing that outweighs the pro)\n\nI always say “thank you!” \nxo\, Katarina
URL:https://www.thedominakatarina.com/event/spoil-me-for-my-birthday-april-20/
LOCATION:NY
CATEGORIES:Announcements & Social Media
ATTACH;FMTTYPE=image/jpeg:https://www.thedominakatarina.com/wp-content/uploads/2025/02/IMG_4269-2-scaled.jpeg
END:VEVENT
BEGIN:VEVENT
DTSTART;VALUE=DATE:20250316
DTEND;VALUE=DATE:20250501
DTSTAMP:20260425T152417
CREATED:20250316T065612Z
LAST-MODIFIED:20250316T071107Z
UID:828-1742083200-1746057599@www.thedominakatarina.com
SUMMARY:Workshops\, Parties and Other Events I'm Attending
DESCRIPTION:Here are a few places in NYC you might catch me: \nQueen Charlotte’s Token Party Birthday Bash Thursday\, March 27 \nSit and Stay (Pet Play 101) Wednesday\, April 2 \nBimboland (a BDSM workshop on feminization) Thursday\, April 3 \nHumiliation Nation (the BDSM art of shaming & other belittlements) Thursday\, April 3 \nTie & Bust — a BDSM Workshop on CBT Thursday\, April 10 \nBonded: Bondage Workshop With No Ropes Thursday\, April 10 \nKinky Knives— A BDSM Workshop Friday\, April 11 \nFinding Prostate Thursday\, April 17 \nPeg·Fest — Taillor’s Famous BDSM & Pegging Workshop Thursday\, April 17 \nRoleplay & OTK Friday\, April 18 \nTaillor Happy Hour Mixer Friday\, April 18 \n  \n 
URL:https://www.thedominakatarina.com/event/workshops-parties-and-other-events-im-attending/
LOCATION:NY
CATEGORIES:Party,Play Party,Socials,Workshops
ATTACH;FMTTYPE=image/jpeg:https://www.thedominakatarina.com/wp-content/uploads/2024/07/IMG_7527-e1721811514197.jpeg
END:VEVENT
BEGIN:VEVENT
DTSTART;TZID=America/New_York:20250404T160000
DTEND;TZID=America/New_York:20250404T170000
DTSTAMP:20260425T152417
CREATED:20250316T070157Z
LAST-MODIFIED:20250316T070157Z
UID:830-1743782400-1743786000@www.thedominakatarina.com
SUMMARY:BDSM 101: Safety & Ethics
DESCRIPTION:Don’t even know what BDSM stands for? This entry level group class is for absolute beginners and sexperts\, alike! How to Play Safe\, Sane\, and Consensual\, How to Negotiate a Scene\, How to Know Your Kinks (and Hard Limits) and the Do’s and Don’t of a BDSM scene. \nI even include a kinky starter pack so you can learn a few basics for the bedroom: spanking\, face slapping\, hair pulling and Dominance choking. \nChoose the participating sub ticket to be my demo bottom for the workshop.
URL:https://www.thedominakatarina.com/event/bdsm-101-safety-ethics/
LOCATION:secret location in lower Mahattan
CATEGORIES:The Domme Kat at...,Workshops
ATTACH;FMTTYPE=image/png:https://www.thedominakatarina.com/wp-content/uploads/2025/01/BDSM101-IG.png
END:VEVENT
BEGIN:VEVENT
DTSTART;TZID=America/New_York:20250412T200000
DTEND;TZID=America/New_York:20250412T230000
DTSTAMP:20260425T152417
CREATED:20250316T074438Z
LAST-MODIFIED:20250411T024221Z
UID:843-1744488000-1744498800@www.thedominakatarina.com
SUMMARY:Domme-Nation CFNM NYC BDSM Play Party
DESCRIPTION:PARTY INFO ON FETLIFE\nNEW LOCATION! HOSTING @ HIT ME UP!\nHit Me Up located at 120 Walker St Floor 6 (not 6 R)\, New York\, NY 10013 \nDomme-Nation NYC is a Femdom event where ALL subs no matter how you may identify can sub\, bottom to and serve the Dommes! You’re welcome to bring your own toys\, but we also have 2 tables set up with lots of toys to borrow. If you plan on borrowing anything you must leave something with our toy table person (ID card\, keys..) to ensure we receive our toys back. \n \nTemptations NYC is a BYOB venue. \n\nThis event will feature Pro-Domme Hosts..\nEmpress Valoria @Empress_Valoria\nDomina Katarina @theDommeKat\nMistress Gigi @MistresssGigi\n\nThis event is the opening event before DARK-SIDE: A BDSM EXPERIENCE!! Single and combo event pricing available! Check the Dark-Side event listing for more info! \n\nRules To Follow..\n\n\nNever Touch ANYBODY without consent.\nNo pictures or videos allowed. If you would like a picture in your outfit/scene\, you may ask the Host or a DM for permission and they will arrange it and watch over it and do it very quickly so that everyone’s privacy is respected.\nAlways treat others with respect.\nDo NOT interrupt a scene in progress\, give the people in the scene respectful distance while watching and if you would like to speak to them…give them time to come down from the scene they were just partaking in before approaching them.\nClean ALL furniture/toys used after use so that the next person(s) may begin with clean equipment.\nDo NOT harass anybody to play. If you ask and they say no\, leave them be and do not ask them again. If they want to play with you\, they will let you know.\nNO ALWAYS MEANS NO.\nIf we need to correct you on any of these rules more than once\, you will be escorted out by security. Once is a mistake\, twice is disrespect. There is no 3rd strike.
URL:https://www.thedominakatarina.com/event/domme-nation-nyc-bdsm-play-party/
LOCATION:Hit Me Up\, 120 Walker Street\, 10013\, United States
CATEGORIES:MiniSessions,Party,Play Party,Play Party,The Domme Kat at...
ATTACH;FMTTYPE=image/jpeg:https://www.thedominakatarina.com/wp-content/uploads/2025/03/Image-3-16-25-at-3.41 AM.jpeg
END:VEVENT
BEGIN:VEVENT
DTSTART;TZID=America/New_York:20250414T190000
DTEND;TZID=America/New_York:20250414T203000
DTSTAMP:20260425T152417
CREATED:20250122T055933Z
LAST-MODIFIED:20250327T213544Z
UID:750-1744657200-1744662600@www.thedominakatarina.com
SUMMARY:Taste: Wrestling & Ropes - a wrestling jam
DESCRIPTION:Do you want to take your love of rope bondage to the next level? Or maybe you’ve been wrestling and want to try something new? Join us for bondage wrestling! \n \nLearn a few ties and tips before letting loose and wrestling with ropes! \nWe start with: \n\nIntro and Ice Breakers\nConsent and Scene/Match Negotiation\nWrestling Safety\nBondage Safety\nA Lesson on Basic Ties\n\nThen\, go forth and conquer… on the mats! Grab one of your classmates (consensually) and try out your new skills in a mini-match with lots of room to move around. \nBeginners welcome and encouraged. \nAlready a bondage wrestling pro? This jam is part social/part open wrestle time\, so come share the mats! \nParticipation is highly encouraged! Come with a friend or come solo. While a wrestling partner isn’t guaranteed\, you will have an opportunity to connect with other kinksters and bondage wrestling enthusiasts. \nWant to be Katarina’s demo bottom? Pick the “Designated Demo Bottom” ticket option and be the person she demonstrates the ties on! \nWe will be practicing RACK: Risk Aware Consensual Kink. BDSM can affect us in mental\, emotional and physical ways. Please check-in with yourself. As with any physical activity\, there is risk of injury. \nProof of negative Covid test is not required for entry. A no-touch temperature check will be done at the door. \nWear something that you can move freely in (shorts\, yoga pants\, sports bra\, tight fitting t-shirt or rash guard\, bikini). Please leave jewelry at home and avoid anything sharp that could scratch you\, your partner or puncture the mats. \nAdult entertainers\, “spicy” working babes and QTPOC\, ask Katarina for a promo code to get pay-what-you can entry.
URL:https://www.thedominakatarina.com/event/taste-wrestling-ropes-a-wrestling-jam-2/
LOCATION:provided in ticket confirmation email\, near Union Square\, New York\, NY\, United States
CATEGORIES:Jam,Socials
ATTACH;FMTTYPE=image/png:https://www.thedominakatarina.com/wp-content/uploads/2025/01/Taste-IG.png
ORGANIZER;CN="The Domme Kat":MAILTO:theDommeKat@protonmail.com
END:VEVENT
BEGIN:VEVENT
DTSTART;TZID=America/New_York:20250418T160000
DTEND;TZID=America/New_York:20250418T170000
DTSTAMP:20260425T152417
CREATED:20250316T071530Z
LAST-MODIFIED:20250411T034015Z
UID:838-1744992000-1744995600@www.thedominakatarina.com
SUMMARY:Oh My Feet – Workshop on Foot Fetish
DESCRIPTION:Join us for a kink workshop exploring foot\, sock\, and boot fetishes in BDSM; massages over fluffy slouch socks\, trampling\, toe worship\, etc \nBe my demo bottom when you purchase the participating sub ticket. You might even get stepped on by the Taillor Dommes!
URL:https://www.thedominakatarina.com/event/oh-my-feet-workshop-on-foot-fetish/
LOCATION:secret location in lower Mahattan
CATEGORIES:The Domme Kat at...,Workshops
ATTACH;FMTTYPE=image/png:https://www.thedominakatarina.com/wp-content/uploads/2025/01/The-Domme-Kat-is.png
END:VEVENT
BEGIN:VEVENT
DTSTART;TZID=America/New_York:20250418T200000
DTEND;TZID=America/New_York:20250418T230000
DTSTAMP:20260425T152417
CREATED:20250417T235341Z
LAST-MODIFIED:20250417T235341Z
UID:876-1745006400-1745017200@www.thedominakatarina.com
SUMMARY:Taillor Token Party - A FemDom Play Party!
DESCRIPTION:I’m hosting the Taillor Group’s Token Party\, everyone’s favorite play party! While I won’t be playing at my own Domme station\, I’ll be there as a host. Plus\, I’m raffling off two clips that aren’t available in my clipstores! \n \nLEARN MORE ABOUT THIS HOT TAILLOR EVENT BELOW\nAbout this event\nThis is a femdom play-party. We welcome new and experienced kinksters alike to our play space. Be respectful. Make friends. \nTOKENS\nPlease note tokens are only valid until the end of the party in which you purchase them. If you are not able to spend them all\, please speak to the token trader before you leave. \nBYOB\nBring some tasty treats or beverages and share responsibly. The refrigerator is at your disposal. We’ll provide the cups! But please note: While this is not a sober space\, intoxication will not be tolerated in play. Be mindful of your consumption and behavior or you will be asked to leave. \nHouse Rules\nThe Crown is a space for everyone to feel safe\, welcome\, and uplifted. \nWe have a zero-tolerance policy towards any kind of hate within our space. Ableism\, racism\, fatphobia\, transphobia\, homophobia\, misogyny\, and/or misogynoir will result in immediate expulsion. If you see this occurring or you are being bullied or harassed\, please immediately report this to any of our Taillor’s domme/xs present and we will take care of the matter. \nConsent is mandatory for all activities. Please always ASK FIRST prior to touching\, photographing\, filming\, or engaging in any type of play with another person or people\, and please maintain ongoing enthusiastic consent during play. If someone is making you uncomfortable\, violating your boundaries\, or harassing you\, please immediately report this to any of our Taillor’s domme/xs present and we will help you. Stay safe and have fun! \nDress Code\nFetish gear + color green encouraged. For playsubs\, undressing is allowed however full nudity only by request (just so nothing leaks out of your holes and onto our furniture). \nWho are we again?\nThe Taillor Group is a collective of fierce femme-identifying prodommes headquartered in our residential dungeon in Brooklyn. We are dedicated to the BDSM lifestyle and community\, and offer a range of ways to be involved. \nWhere is The Crown located?\nIn Prospect Lefferts Garden\, Brooklyn. Walking distance from the train. Exact address on confirmation page\, and ticket after purchasing. \nDOOR TIMES\nDoors for the event will open precisely 5 minutes before starting time. Please do not arrive earlier\, unless you are a volunteer working at the party. \nSTILL HAVE QUESTIONS?\nCall or text us at +1 (347) 855 4877\, or send an email to events@taillors.com \nNO REFUNDS \nPlease Note *MUST READ*: this is a supportive\, DIY community environment. Any kind of hate is not welcome in our space – that means no racism\, homophobia\, misogyny or misogynoir\, kinkshaming\, fatphobia or body shaming\, ableism\, etc. Consent is MANDATORY for all interactions. If you are violated or discriminated against\, please find one of our hosts or any Taillor’s dommes and report if you are comfortable doing so so that we can do our best to remove the threat and make you feel safe. In kind\, if you are found violating anybody’s consent or discriminating against anybody and being a lame hater\, you will be ejected without a refund and you will not be welcome back into our space. \nThis event is 21+. The Taillor Group plays R.A.C.K. (Risk Aware Consensual Kink).
URL:https://www.thedominakatarina.com/event/taillor-token-party-a-femdom-play-party/
LOCATION:The Crown\, Brooklyn\, NY\, 11207\, United States
CATEGORIES:Party,Play Party,Play Party,The Domme Kat at...
ATTACH;FMTTYPE=image/jpeg:https://www.thedominakatarina.com/wp-content/uploads/2024/07/TheDommeKatPaddle.jpg
END:VEVENT
BEGIN:VEVENT
DTSTART;TZID=America/New_York:20250422T190000
DTEND;TZID=America/New_York:20250422T200000
DTSTAMP:20260425T152417
CREATED:20250316T072552Z
LAST-MODIFIED:20250316T072552Z
UID:840-1745348400-1745352000@www.thedominakatarina.com
SUMMARY:Smothering 101 (a workshop)
DESCRIPTION:This workshop will be covering Smothering and Breath Play! \nHave you ever been asked to do butt drops\, but weren’t sure exactly what that entailed? Now you will (and you will find out how much fun they are!). Learn how to smother safely\, incorporate other kinks into it\, make smothering interesting for yourself\, pros/cons of different positions\, and maybe play a game of peek-a-boo with participating subs and your butt haha. You will also learn about safety and ways to do breath play\, and have an introduction on how to incorporate that into your scenes. Open to all skill levels. \nWant to be part of the fun and not just watch? Choose the participating sub ticket to have the moves tested on you! \n 
URL:https://www.thedominakatarina.com/event/smothering-101-a-workshop/
LOCATION:The Crown\, Brooklyn\, NY\, 11207\, United States
CATEGORIES:The Domme Kat at...,Workshops
ATTACH;FMTTYPE=image/jpeg:https://www.thedominakatarina.com/wp-content/uploads/2025/03/2.jpg
END:VEVENT
BEGIN:VEVENT
DTSTART;TZID=America/New_York:20250428T190000
DTEND;TZID=America/New_York:20250428T200000
DTSTAMP:20260425T152417
CREATED:20250425T174340Z
LAST-MODIFIED:20250429T032310Z
UID:880-1745866800-1745870400@www.thedominakatarina.com
SUMMARY:Drip: A Wax Play Workshop
DESCRIPTION:BDSM isn’t all about whips and chains; there’s a softer side! Sensation play focuses on the dance our five senses do. With wax play\, we’ll focus on the skin and the pleasure we receive through it. And cleaning up can be just as fun as getting messy! We’ll discuss the various ways to remove the wax from your partner’s skin. From sensual oil massage to the sting of hot wax dripping on bare skin\, let’s explore together. \nThe workshop is at The Crown and is run through the Taillor Group. Get a participating sub ticket to be one of my demo bottoms and experience wax play with me and other Dommes. All genders welcome! If you’re a FemDom\, there’s a specially priced ticket for you to come and participate under my experienced guidance. Not a Femme and/or just looking to watch? There’s a ticket option for that\, too! \nAll tickets available now! \nWho are we?\nThe Taillor Group is a collective of fierce femme-identifying Dommes headquartered in our beautiful residential dungeon in Bushwick. We are dedicated to the BDSM lifestyle and community\, and offer a range of ways to be involved. \nWhat is this event?\nOur workshops are social\, group gatherings that bring members of the BDSM community together in a playful and educational setting. Workshops generally run one hour long are intended to be spaces of learning\, and practicing techniques honed in the class. Workshops are not open play-time (unless specifically stated otherwise). \nWhere is The Crown located?\nIn Prospect Lefferts Gardens\, Brooklyn. Walking distance from the train. Exact address on confirmation page\, and ticket after purchasing. \nDOOR TIMES:\nDoors for the event will open precisely 5 minutes before starting time and close precisely at 10 minutes after. Please arrive on time for all events. \nTICKETS:\nParticipating Sub Ticket: to participate and be used. We welcome participating subs of all genders. \nVoyeur Ticket: only to watch. \nParticipating Domme Ticket: For outside dommes\, or Dominant Femme identifying folk who wish to try out what they learn in class. \nSingle submissive attendees are especially encouraged to attend\, as we use workshops to hone our techniques and better our craft as Dommes. We know you need us… desperately. But\, we need you! \nDress Code:\nCDUS (Clothed Dominant\, Unclothed Submissive) encouraged. Cross-Dressing and fetishwear appreciated. \nGOOD TO KNOW:\nThis event is 21+- The Taillor Collective plays SSC (safe\, sane\, and consensual) \nSTILL HAVE QUESTIONS?\nCall or text us at +1 (347) 855 4877\, or send an email to events@taillors.com \nNO REFUNDS
URL:https://www.thedominakatarina.com/event/drip-a-wax-play-workshop/
LOCATION:The Crown\, Brooklyn\, NY\, 11207\, United States
CATEGORIES:The Domme Kat at...,Workshops
ATTACH;FMTTYPE=image/jpeg:https://www.thedominakatarina.com/wp-content/uploads/2024/07/IMG_7521.jpeg
END:VEVENT
END:VCALENDAR