BEGIN:VCALENDAR
VERSION:2.0
PRODID:-//The Domme Kat - ECPv6.15.20//NONSGML v1.0//EN
CALSCALE:GREGORIAN
METHOD:PUBLISH
X-ORIGINAL-URL:https://www.thedominakatarina.com
X-WR-CALDESC:Events for The Domme Kat
REFRESH-INTERVAL;VALUE=DURATION:PT1H
X-Robots-Tag:noindex
X-PUBLISHED-TTL:PT1H
BEGIN:VTIMEZONE
TZID:America/New_York
BEGIN:DAYLIGHT
TZOFFSETFROM:-0500
TZOFFSETTO:-0400
TZNAME:EDT
DTSTART:20250309T070000
END:DAYLIGHT
BEGIN:STANDARD
TZOFFSETFROM:-0400
TZOFFSETTO:-0500
TZNAME:EST
DTSTART:20251102T060000
END:STANDARD
BEGIN:DAYLIGHT
TZOFFSETFROM:-0500
TZOFFSETTO:-0400
TZNAME:EDT
DTSTART:20260308T070000
END:DAYLIGHT
BEGIN:STANDARD
TZOFFSETFROM:-0400
TZOFFSETTO:-0500
TZNAME:EST
DTSTART:20261101T060000
END:STANDARD
BEGIN:DAYLIGHT
TZOFFSETFROM:-0500
TZOFFSETTO:-0400
TZNAME:EDT
DTSTART:20270314T070000
END:DAYLIGHT
BEGIN:STANDARD
TZOFFSETFROM:-0400
TZOFFSETTO:-0500
TZNAME:EST
DTSTART:20271107T060000
END:STANDARD
END:VTIMEZONE
BEGIN:VEVENT
DTSTART;TZID=America/New_York:20260206T160000
DTEND;TZID=America/New_York:20260206T170000
DTSTAMP:20260424T025136
CREATED:20260123T062614Z
LAST-MODIFIED:20260123T063200Z
UID:1287-1770393600-1770397200@www.thedominakatarina.com
SUMMARY:Sit & Punish—Smothering\, Breath Play Workshop
DESCRIPTION:Curious about smothering and face sitting? Learn how to smother more safely\, the pros and cons of different positions and how to incorporate other kinks to upgrade the experience for you and your sub. \nWe’ll also cover breath play safety and how to integrate it into your scenes. This FemDom workshop is open to all skill levels and is designed to help you step up your body worship and master the art of physical domination. \n🎟 GET TICKETS:\nhttps://sitpunish.eventbrite.com \nThe workshop was developed by me and produced by the Taillor Group (@theTaillorGroup on Fetlife). For even more information\, see the Taillor Group events calendar. \n\n\n\nWhat is The Taillor Group?\nThe Taillor Group is a collective of fierce femme-identifying Dommes headquartered in our beautiful residential dungeon in Brooklyn. We are dedicated to the BDSM lifestyle and community\, and offer a range of ways to be involved. \nWhat is this event?\nOur workshops are social\, group gatherings that bring members of the BDSM community together in a playful and educational setting. Workshops generally run one hour long are intended to be spaces of learning and practicing techniques honed in the class. Workshops are not open play-time (unless specifically stated otherwise). \nWhere is the workshop?\nIn lower Manhattan. Exact address on confirmation page and ticket after purchasing. SCROLL DOWN WHEN YOU RECEIVE THE TICKET CONFIRMATION EMAIL FOR THE EXACT ADDRESS. \nDoor Times:\nDoors for the event will open precisely 10 minutes before starting time and class will start 5 minutes after. Please arrive on time for all events. \nTickets:\nParticipating Sub Ticket: to participate and be used. We welcome participating subs of all genders. \nVoyeur Ticket: only to watch \nParticipating Domme Ticket: for outside Dommes or Dominant Femme identifying folk who wish to try out what they learn in class \nSingle submissive attendees are especially encouraged to attend\, as we use workshops to hone our techniques and better our craft as Dommes. We know you need us… desperately. But\, we need you! \nDress Code:\nCDUS (Clothed Dominant\, Unclothed Submissive) permitted. Cross-dressing and fetish wear appreciated. \nGood To Know:\nThis event is 21+- The Taillor Collective plays SSC (safe\, sane\, and consensual). \nSTILL HAVE QUESTIONS?\nCall or text us at +1 (347) 855 4877\, or send an email to events@taillors.com \nNO REFUNDS\n  \n\n\n\n\n\n Add to calendar
URL:https://www.thedominakatarina.com/event/sit-punish-smothering-breath-play-workshop-5/
LOCATION:secret location in lower Mahattan
CATEGORIES:The Domme Kat at...,Workshops
ATTACH;FMTTYPE=image/jpeg:https://www.thedominakatarina.com/wp-content/uploads/2025/03/2.jpg
END:VEVENT
BEGIN:VEVENT
DTSTART;TZID=America/New_York:20260206T190000
DTEND;TZID=America/New_York:20260207T030000
DTSTAMP:20260424T025136
CREATED:20260206T033113Z
LAST-MODIFIED:20260206T033113Z
UID:1302-1770404400-1770433200@www.thedominakatarina.com
SUMMARY:Kinklesque: Cupid’s Hoedown - Kinky Variety Show and Play Party [PROMO CODES]
DESCRIPTION:Kinklesque: Cupid’s Hoedown – A Kinky Variety Show and Play Party like no other!\nA Pagans Paradise Kinky Immersive Theatre & Play Party \nTickets\nPlura: [https://plra.io/m/kinklesquecupidshoedownfeb6?r=dominuseros143] & Tickets Eventbrite: [https://kinklesquecupidshoedownfeb6.eventbrite.com]\nLower Tier are limited be sure to grab before they sell out! \nPssst! Save your coins with these limited promo codes: EROS10\, EROS20\, KLS20. \nFinal attendance will not be reflected on Fetlife as we advertise on multiple sites (Eventbrite\, Plura\, etc.) \n💘 KINKLESQUE: CUPID’S HOEDOWN 💘\nA Rhinestone Rodeo of Desire\, Drag & Delicious Sin \nY’all ready to get wrecked by love? \nWelcome to Cupid’s Hoedown\, where the cherubs wear spurs\, the angels are squaring off\, and love hits like a shot of whiskey straight to the heart. This is not a sweet Valentine—this is romance gone feral\, dipped in glitter\, leather\, and southern heat. \nKinklesque invites you into a twisted honky-tonk fantasy where country camp collides with kink cabaret. Expect rope-twirling Cupids\, heartbreak ballads turned body poetry\, high-drag cowfolk\, and performances that flirt\, tease\, and take you down. Love is the game—and everyone plays dirty. \nThis is a night of seduction with a southern drawl\, where lust rides bareback and pleasure answers to no law but desire. \nLast Kinklesque was on fire with amazing performers! If you missed out on last times sold out event\, be sure to grab your tickets now and don’t miss out this one of a kind spectacle! \n🌟 WHAT TO EXPECT 🌟\n💃 Burlesque that struts\, grinds\, and strips with outlaw charm\n🔗 Kink performances blending rope\, power\, and playful provocation\n👠 High drag cowboys\, cowgirls & cow-thems serving rhinestone realness\n🎤 Spoken word & performance art dripping with longing\, lust\, and loss\n🎪 Immersive sideshow & interactive moments that blur audience and act\n🎯 Themed surprises that might rope you into trouble—or crown you barn royalty\nThis is campy\, filthy\, flirty\, and cinematic—a variety show where love isn’t gentle\, it’s bold.\n🧃 Mocktail Mixology Bar\nCrafted by a pro mixologist with sinfully satisfying flavors—zero proof\, all punch.\n🛍️ Curated Vendors\n🎪 Side Performers & Pro Players\nRoaming talent and featured pro performers will spark your curiosity and guide your pleasure.\n🎁 Win Free Prizes! \n🎉AFTER PARTY🎉\nWhen the curtain drops\, the real play begins…\nStay for the after play party\, where connection and chaos continue deep into the night with music\, play areas\, and space to let loose.\nThis part of the evening is a full on Kink Play Party that will have tastings from pros\, kink and sideshow experiences with more performances plus open play time! \nFeaturing:\n@dominus_eros – Founder of Pagans Paradise\, Pleasure & Intimacy Guide/Instructor/Coach\, Pro Dom and Tantrika. Dominus will be your host of the evening MCing alongside @SparkyKlown! \nPerformers:\n@VictorViero\, Queerly Femmetastic\, Shay AuLait\, Maddafestation\, Pineapple and Alana! \nSideshow Pro Experiences:\nKink Stations with Various Pros!\nFeatured Pros \n💖 THE VIBE 💖\nKinklesque is a playground of performance\, pleasure\, and indulgence—a place to show out\, take risks\, and revel in desire without apology.\nSo saddle up\, sweetheart.\nCupid’s aiming crooked—and everybody’s a target. \n👢 DRESS CODE: COUNTRY CARNAL 👢\nThink rodeo meets red-light romance.\n🤠 Western Fantasy – Cowfolk\, ranch hands\, saloon sirens\, line-dance heartbreakers\n💘 Cupid Gone Rogue – Wings\, harnesses\, bows\, arrows\, hearts with attitude\n🔥 Honky-Tonk Heat – Fringe\, denim\, chaps\, corsets\, boots\, fishnets\, leather\n✨ Drag & Glam – Rhinestones\, lashes\, latex\, sparkle\, drama encouraged\n🚫 No casual wear (jeans unless it is part of a country/western outfit\, sneakers\, basic tees).\nDress like you’re here to steal hearts or break them.\n(You may be turned away if no effort is made.) \nEVENT DETAILS\n💜 Doors Open: 7:00 PM (doors close at 7:30 PM sharp)\n💜 After Party Doors Open: 10:30pm (doors close 11pm sharp)\n💜 Event Ends: 3:00 AM\n💜 Location: Private studio near Union Square (details in confirmation email)\n💜 Accessibility: Walk up 2 flights. \nWHAT TO BRING\nDollar Bills for tips (we will have singles to exchange)\nCash\, Venmo\, Cashapp for vendors and pro tastings\nBYOB/BYOT For After Party – (Your favorite beverages & items/accessories) \nTICKETS (Tier Pricing\, Get the tier that is best for you\, lower tiers exist for accessibility. Tickets offer show only as well as combo show and party to save money!)\n🎟️ General Admission Show Only & Show and Party\n🎟️ Preferred Seating Show Only & Show and Party (access to first 2 rows of chaired seating)\n🎟️ VIP Package (Front-row seating\, Time with a pro\, 1 Free drink\, early access to party elements\, and goodies which includes promo tickets for workshops/parties!)\n🎟️ After Party Only\n21+ age to join. \nLATE ENTRY & REFUNDS\nTo protect the space and ensure a seamless experience for all\, doors will close promptly. Late arrivals may not be admitted\, and refunds will not be available. No Refunds for this event. \nIMPORTANT NOTICE:\nPagans Paradise events are intended for educational and entertainment purposes\, and attendees participate at their own risk. Some events may involve physical or emotional exploration\, and by attending\, you agree to take personal responsibility for your well-being. By attending\, you agree to participate at your own risk\, conduct your own risk management\, and agree to hold the event facilitators and facility harmless for any type of harm that may occur. \nTRIGGER WARNING:\nThe show is meant to be provocative and might have elements that can be triggering for some. Please take care of yourself and take breaks if you need to\, feel free to reach out to staff if you need help. By coming you are also acknowledging that you have be warned of material that might be challenging\, art is art and it may not be for everyone. No refunds will be given in the case that you might have to leave due to show elements. \nABOUT US\nAt Pagans Paradise\, we believe in creating a welcoming\, joyful space for everyone to explore connection\, dive into a range of educational resources\, and nurture their authentic selves.\n📸 Connect with us on Instagram @pagansparadise.\n📩 Join our newsletter at www.pagansparadise.com.\n📧 Any questions or concerns? Email us at PagansParadiseNYC@gmail.com.\nWant to see who’s going\, match\, chat\, and meet the community? Check out on the Plura Community app: https://plra.io/m/org/pagans-paradise\nPagans Paradise has been fostering joy and connection in the community for 10 years.
URL:https://www.thedominakatarina.com/event/kinklesque-cupids-hoedown-kinky-variety-show-and-play-party-promo-codes/
LOCATION:Address given in email confirmation. Please contact Pagans Paradise if paying at door.\, New York\, NY\, United States
CATEGORIES:MiniSessions,Party,Play Party,Play Party,The Domme Kat at...
ATTACH;FMTTYPE=image/jpeg:https://www.thedominakatarina.com/wp-content/uploads/2026/02/Image-2-5-26-at-9.54-PM.jpeg
ORGANIZER;CN="Pagans Paradise":MAILTO:Hello@PagansParadise.com
END:VEVENT
BEGIN:VEVENT
DTSTART;TZID=America/New_York:20260224T190000
DTEND;TZID=America/New_York:20260224T200000
DTSTAMP:20260424T025136
CREATED:20260224T204818Z
LAST-MODIFIED:20260224T205052Z
UID:1329-1771959600-1771963200@www.thedominakatarina.com
SUMMARY:Smothering 101 - A BDSM Workshop
DESCRIPTION:Guess who’s stepping in tonight? \nOr rather sitting on? \nWax play and pegging were cancelled on Monday due to the snow (and Taste: Wrestling and Rope – a bondage wrestling workshop and jam is SOLD OUT tomorrow)\, but you can get your The Domme Kat fix TONIGHT at The Crown in Bushwick! \nMy ass is going to high-5 your face along with my Domme friends’ so get your last minute ticket now or purchase at the door. xo \n\nJoin @theTaillorGroup to learn about smothering (or to get smothered)! \nAbout this event:\nThis workshop will be covering Smothering and Breath Play! \nHave you ever been asked to do butt drops\, but weren’t sure exactly what that entailed? Now you will (and you will find out how much fun they are!). Learn how to smother safely\, incorporate other kinks into it\, make smothering interesting for yourself\, pros/cons of different positions\, and maybe play a game of peek-a-boo with participating subs and your butt haha. You will also learn about safety and ways to do breath play\, and have an introduction on how to incorporate that into your scenes. Open to all skill levels. \n#TaillorCollective #ToEitherPleaseOrEducate \nWho are we?\nThe Taillor Group is a collective of fierce femme-identifying Dommes headquartered in our beautiful residential dungeon in Bushwick. We are dedicated to the BDSM lifestyle and community\, and offer a range of ways to be involved. \nWhat is this event?\nOur workshops are social\, group gatherings that bring members of the BDSM community together in a playful and educational setting. Workshops generally run one hour long are intended to be spaces of learning\, and practicing techniques honed in the class. Workshops are not open play-time (unless specifically stated otherwise). \nWhere is The Crown located?\nIn Bushwick\, Brooklyn. Walking distance from the train. Exact address on confirmation page\, and ticket after purchasing. \nDOOR TIMES:\nDoors for the event will open precisely 5 minutes before starting time and close precisely at 10 minutes after. Please arrive on time for all events. \nTICKETS:\n\nParticipating Sub Ticket: to participate and be used during demos. We welcome participating subs of all genders.\nGeneral Admission Ticket: only to watch.\nParticipating Domme Ticket: For outside dommes\, or dominant femme identifying folk who wish to try out what they learn in class.\n\nSingle submissive attendees are especially encouraged to attend\, as we use workshops to hone our techniques and better our craft as Dommes. We know you need us… desperately. But\, we need you! \nDress Code:\nCDUS (Clothed Dominant\, Unclothed Submissive) encouraged. Cross-Dressing and fetishwear appreciated. \nGOOD TO KNOW:\nThis event is 21+. The Taillor Collective plays SSC (safe\, sane\, and consensual). \nThe Crown is a space for everyone to feel safe and welcomed. We have a zero-tolerance policy towards any kind of hate within our space. Ableism\, racism\, fatphobia\, transphobia\, homophobia\, misogyny\, and/or misogynoir will result in immediate expulsion. \nSTILL HAVE QUESTIONS?\nCall or text us at +1 (347) 855 4877\, or send an email to events@taillors.com \nNO REFUNDS
URL:https://www.thedominakatarina.com/event/smothering-101-a-bdsm-workshop/
LOCATION:The Crown\, Brooklyn\, NY\, 11207\, United States
CATEGORIES:The Domme Kat at...,Workshops
ATTACH;FMTTYPE=image/jpeg:https://www.thedominakatarina.com/wp-content/uploads/2026/02/BigBooty-GetMoreInFanClub-bit.ly_Loyal2Kat-BigAss-BigButt.jpg
END:VEVENT
END:VCALENDAR