BEGIN:VCALENDAR
VERSION:2.0
PRODID:-//The Domme Kat - ECPv6.15.20//NONSGML v1.0//EN
CALSCALE:GREGORIAN
METHOD:PUBLISH
X-WR-CALNAME:The Domme Kat
X-ORIGINAL-URL:https://www.thedominakatarina.com
X-WR-CALDESC:Events for The Domme Kat
REFRESH-INTERVAL;VALUE=DURATION:PT1H
X-Robots-Tag:noindex
X-PUBLISHED-TTL:PT1H
BEGIN:VTIMEZONE
TZID:America/New_York
BEGIN:DAYLIGHT
TZOFFSETFROM:-0500
TZOFFSETTO:-0400
TZNAME:EDT
DTSTART:20240310T070000
END:DAYLIGHT
BEGIN:STANDARD
TZOFFSETFROM:-0400
TZOFFSETTO:-0500
TZNAME:EST
DTSTART:20241103T060000
END:STANDARD
BEGIN:DAYLIGHT
TZOFFSETFROM:-0500
TZOFFSETTO:-0400
TZNAME:EDT
DTSTART:20250309T070000
END:DAYLIGHT
BEGIN:STANDARD
TZOFFSETFROM:-0400
TZOFFSETTO:-0500
TZNAME:EST
DTSTART:20251102T060000
END:STANDARD
BEGIN:DAYLIGHT
TZOFFSETFROM:-0500
TZOFFSETTO:-0400
TZNAME:EDT
DTSTART:20260308T070000
END:DAYLIGHT
BEGIN:STANDARD
TZOFFSETFROM:-0400
TZOFFSETTO:-0500
TZNAME:EST
DTSTART:20261101T060000
END:STANDARD
END:VTIMEZONE
BEGIN:VEVENT
DTSTART;VALUE=DATE:20250527
DTEND;VALUE=DATE:20251111
DTSTAMP:20260425T110507
CREATED:20250526T043935Z
LAST-MODIFIED:20251116T074506Z
UID:941-1748304000-1762819199@www.thedominakatarina.com
SUMMARY:Introducing 30 Minute Mondays in Brooklyn
DESCRIPTION:you know how I recommend two hours for a session? And how I don’t offer half-hour sessions? \nWell… \nI’m pleased to introduce 30 Minute Mondays! Book your 30 minutes with Me and experience pain and pleasure in an abridged session only on Mondays and only at The Crown in Flatbush\, Brooklyn. \nScreening\, scene negotiations\, aftercare are still mandatory\, so W/we won’t be able to indulge certain fetishes and kinks (like oil wrestling\, pegging\, feminization\, wax play). Contact Me to inquire if you aren’t certain W/we can accommodate your request: BOOKtheDommeKat@protonmail.com \nIf you’re open to the Taillor Dommes watching or would like a Taiilor Domme to join U/us during the session\, please indicate it when you make your session request. Additional tribute or tip-in may be required. \nMy time begins at $200 plus room rental.
URL:https://www.thedominakatarina.com/event/introducing-30-minute-mondays-in-brooklyn/
LOCATION:The Crown\, Brooklyn\, NY\, 11207\, United States
CATEGORIES:Announcements & Social Media,Sessions,Specials and Sales
ATTACH;FMTTYPE=image/jpeg:https://www.thedominakatarina.com/wp-content/uploads/2025/05/FemDom-BDSM-Domina-Goddess-Altar-TheCrown-TaillorGroup_CJ.jpg
ORGANIZER;CN="The Domme Kat":MAILTO:theDommeKat@protonmail.com
END:VEVENT
BEGIN:VEVENT
DTSTART;TZID=America/New_York:20251102T180000
DTEND;TZID=America/New_York:20251102T184500
DTSTAMP:20260425T110507
CREATED:20251009T014628Z
LAST-MODIFIED:20251009T014902Z
UID:1135-1762106400-1762109100@www.thedominakatarina.com
SUMMARY:Forced Bi The Taillors – a Mini-Party!
DESCRIPTION:Ready to be FORCED BI me and the Taillor Dommes? \nFROM THE TAILLOR GROUP:\nNo Voyeur option. Strictly participant only event. If a ticket holder decides to not participate\, we respect his/her decision but there will be no refunds. \nBe guided and entranced with the erotic joys of man-on-man under the direction of a welcoming Domina. You’ll be gently seduced into my own personal gay fantasy and ordered into all sorts of positions. So cum play with gentlemen\, pretty-boys. \nTICKETS:\nhttps://forcedbi.eventbrite.com\n#KINKY #PLAY #FORCEDBI #M4M \nWho are we?\nThe Taillor Group is a collective of fierce femme-identifying Dommes headquartered in our beautiful residential dungeon in Brooklyn. We are dedicated to the BDSM lifestyle and community\, and offer a range of ways to be involved. \n#TaillorCollective #ToEitherPleaseOrEducate \nWhat is this event?\nOur workshops are social\, group gatherings that bring members of the BDSM community together in a playful and educational setting. Workshops generally run one hour long are intended to be spaces of learning\, and practicing techniques honed in the class. Workshops are not open play-time (unless specifically stated otherwise). \nWhere is The Crown located?\nIn Prospect Lefferts Garden\, Brooklyn. Walking distance from the train. Exact address on confirmation page\, and ticket after purchasing. \nDOOR TIMES:\nDoors for the event will open precisely 5 minutes before starting time and close precisely at 10 minutes after. Please arrive on time for all events. \nTICKETS:\n\nEarly Tickets (Top\, Bottom or Switch) $80;\nLate Tickets (Top\, Bottom or Switch) $120.\n\nNo voyeurs; participant only event. \nGOOD TO KNOW:\nThis event is 21+. The Taillor Collective plays SSC (safe\, sane\, and consensual). \nThe Crown is a space for everyone to feel safe and welcomed. We have a zero-tolerance policy towards any kind of hate within our space. Ableism\, racism\, fatphobia\, transphobia\, homophobia\, misogyny\, and/or misogynoir will result in immediate expulsion. \nSTILL HAVE QUESTIONS?\nCall or text us at +1 (347) 855 4877\, or send an email to events@taillors.com
URL:https://www.thedominakatarina.com/event/forced-bi-the-taillors-a-mini-party-4/
LOCATION:The Crown\, Brooklyn\, NY\, 11207\, United States
ATTACH;FMTTYPE=image/png:https://www.thedominakatarina.com/wp-content/uploads/2025/07/FemDom-BDSM-Domina-TheCrown-TaillorGroup_CJ_8193.png
END:VEVENT
BEGIN:VEVENT
DTSTART;TZID=America/New_York:20251117T190000
DTEND;TZID=America/New_York:20251117T213000
DTSTAMP:20260425T110507
CREATED:20251009T015716Z
LAST-MODIFIED:20251009T020031Z
UID:1141-1763406000-1763415000@www.thedominakatarina.com
SUMMARY:FemDom Wrestling 101 and 201 – Workshops
DESCRIPTION:Experience the thrill of control — taking or losing it. Step onto the mat and learn the art of physical Domination and submission. \nJoin me and the Taillor Dommes every 3rd Monday for FemDom Wrestling 101 followed by Wrestling 201. Both classes give you fetish wrestling essentials with an emphasis on Domination by Fierce Femmes and Thems! \nFemDom Wrestling 101 will get you into the action more safely every third Monday of the month at 7 p.m. \nWrestling 201 will take you beyond the into into more classic fetish wrestling holds and submissions. Love pins and chokes? This is the class for you. FemDom Wrestling 201 is every third Monday of the month at 8:30 p.m. \nEach class ends with some live action where participating Dommes can try out their moves in real time matches with the submissives. \nYou can come to just one of the workshops\, but I highly recommend coming to both! 101 acts as a prerequisite for the 201 class and repeating myself means less time to learn more advanced variations. \nTICKET OPTIONS\nReady to submit? Choose the participating sub ticket option and be our practice “dummy.” 😉 All genders welcome. \nAre you a FemDom or looking to learn how to Dominate using just your body? Grab a FemDom ticket and get your body moving on the mats. \nJust want to watch? You can do that\, too! \nATTIRE\nIf you’re getting on the mats with us\, please wear something you’re comfortable moving in. Yoga pants\, gym shorts and other sporty gear is perfect. Fetish wear welcome as long as it isn’t anything that will snag\, scratch or poke. You may come 10 minutes early and get changed in one of the two bathrooms. \nPlease\, no: \n\njewelry\, watches or anything pokey that can puncture the mats\, scratch your wrestling partner or snag and injure you.\nshoes on the mats unless they are specifically wrestling boots or a non-street shoe like ballet slippers. You can have bare feet or wear socks\, pantyhose or other foot coverings.\n\nHEALTH AND HYGIENE\nIf you are a human who shaves\, I recommend shaving the night before so you don’t have any broken skin touching the communal mats. Make sure your toenails are trimmed\, you are clean and smell fresh. Please check yourself for any signs of illness\, skin rashes or lesions. Cover any wounds. \nThis workshop is produced by The Taillor Group. If you have any questions\, please contact The Crown.
URL:https://www.thedominakatarina.com/event/femdom-wrestling-101-and-201-workshops-9/
LOCATION:The Crown\, Brooklyn\, NY\, 11207\, United States
CATEGORIES:The Domme Kat at...,Workshops
ATTACH;FMTTYPE=image/jpeg:https://www.thedominakatarina.com/wp-content/uploads/2025/07/Wrestling-TheDommeKat-DominaKatarina-Ass-BareFeet-CFNM-BDSM_CJ-7.jpg
END:VEVENT
BEGIN:VEVENT
DTSTART;VALUE=DATE:20251120
DTEND;VALUE=DATE:20251125
DTSTAMP:20260425T110507
CREATED:20251023T023722Z
LAST-MODIFIED:20251112T022441Z
UID:1197-1763596800-1764028799@www.thedominakatarina.com
SUMMARY:Customs & Doubles w/ Queen Gia Love
DESCRIPTION:Uh oh! Here comes trouble! \nQueen Gia Love and I are offering double sessions — face sitting\, scissorholds\, semi-comp wrestling\, fantasy Domination\, fetish and ?? Submit your request via my booking form! \nWe’ll also be filming hot custom clips\, so don’t miss your chance to make your fantasy cum to life. Email theDommeKat@protonmail.com and include: \n\nadditional co-star requests\nscript with any requested actions or words\nany requested attire or props\ndesired length of clip\nif the clip is exclusive to your private collection or if it can be resold in my clipstore
URL:https://www.thedominakatarina.com/event/custom-clips-double-sessions-queen-gia-love/
LOCATION:NYC\, NY\, United States
CATEGORIES:Announcements & Social Media,Double Sessions,Visiting Providers in NYC
ATTACH;FMTTYPE=image/jpeg:https://www.thedominakatarina.com/wp-content/uploads/2025/10/FB_IMG_1761099624967.jpg
ORGANIZER;CN="The Domme Kat":MAILTO:theDommeKat@protonmail.com
END:VEVENT
BEGIN:VEVENT
DTSTART;TZID=America/New_York:20251121T200000
DTEND;TZID=America/New_York:20251121T230000
DTSTAMP:20260425T110507
CREATED:20251009T021257Z
LAST-MODIFIED:20251009T021608Z
UID:1151-1763755200-1763766000@www.thedominakatarina.com
SUMMARY:I’m hosting the Taillor’s famous BDSM token party!
DESCRIPTION:♡ EVERYONE’S NEW FAVORITE FEMDOM PLAY PARTY ♡ \n🪙 Activities\, raffles and specials always depend on the dommes hosting the event; but all parties will have domme stations – where you can turn a token into a magical kinky experience. \n⚜️ Tokens: Tokens are the cute little wooden crown coins accepted at prodomme stations. All guests are welcome to purchase and use tokens.\n🎟️ Exclusive raffles: amazing prizes\, such as getting double-dommed for 15 minutes\, an entire month of taillor events\, and more!\n👑 Hosts: Weekly announced on our calendar on the website:\n*https://www.taillors.com/calendar\n \nAbout this event:\nThis is a femdom play-party. We welcome new and experienced kinksters alike to our play space. Be respectful. Make friends. \nTOKENS\nPlease note tokens are only valid until the end of the party in which you purchase them. If you are not able to spend them all\, please speak to the token trader before you leave. \n\n\n\n\nBYOB:\nBring some tasty treats or beverages and share responsibly. The refrigerator is at your disposal. We’ll provide the cups! But please note: While this is not a sober space\, intoxication will not be tolerated in play. Be mindful of your consumption and behavior or you will be asked to leave. \nHouse Rules:\nThe Crown is a space for everyone to feel safe\, welcome\, and uplifted. \nWe have a zero-tolerance policy towards any kind of hate within our space. Ableism\, racism\, fatphobia\, transphobia\, homophobia\, misogyny\, and/or misogynoir will result in immediate expulsion. If you see this occurring or you are being bullied or harassed\, please immediately report this to any of our Taillor’s domme/xs present and we will take care of the matter. \nConsent is mandatory for all activities. Please always ASK FIRST prior to touching\, photographing\, filming\, or engaging in any type of play with another person or people\, and please maintain ongoing enthusiastic consent during play. If someone is making you uncomfortable\, violating your boundaries\, or harassing you\, please immediately report this to any of our Taillor’s domme/xs present and we will help you. Stay safe and have fun! \nDress Code:\nCDUS (Clothed Dominant\, Unclothed Submissive) and fetish gear encouraged. For playsubs\, undressing is allowed however full nudity only by request (just so nothing leaks out of your holes and onto our furniture). \nWho are we again?\nThe Taillor Group is a collective of fierce femme-identifying prodommes headquartered in our residential dungeon in Brooklyn. We are dedicated to the BDSM lifestyle and community\, and offer a range of ways to be involved. \nWhere is The Crown located?\nIn Prospect Lefferts Garden\, Brooklyn. Walking distance from the train. Exact address on confirmation page\, and ticket after purchasing. \nDOOR TIMES:\nDoors for the event will open precisely 5 minutes before starting time. Please do not arrive earlier\, unless you are a volunteer working at the party. \nSTILL HAVE QUESTIONS?\nCall or text us at +1 (347) 855 4877\, or send an email to events@taillors.com \nNO REFUNDS \n\n\n\n\nPlease Note *MUST READ*: this is a supportive\, DIY community environment. Any kind of hate is not welcome in our space – that means no racism\, homophobia\, misogyny or misogynoir\, kinkshaming\, fatphobia or body shaming\, ableism\, etc. Consent is MANDATORY for all interactions. If you are violated or discriminated against\, please find one of our hosts or any Taillor’s dommes and report if you are comfortable doing so so that we can do our best to remove the threat and make you feel safe. In kind\, if you are found violating anybody’s consent or discriminating against anybody and being a lame hater\, you will be ejected without a refund and you will not be welcome back into our space. \nThis event is 21+. The Taillor Group plays R.A.C.K. (Risk Aware Consensual Kink).
URL:https://www.thedominakatarina.com/event/im-hosting-the-taillors-famous-bdsm-token-party/
LOCATION:The Crown\, Brooklyn\, NY\, 11207\, United States
CATEGORIES:MiniSessions,Party,Play Party,Play Party,Socials
ATTACH;FMTTYPE=image/png:https://www.thedominakatarina.com/wp-content/uploads/2025/09/Workshops_3x4_10.png
END:VEVENT
BEGIN:VEVENT
DTSTART;TZID=America/New_York:20251124T190000
DTEND;TZID=America/New_York:20251124T200000
DTSTAMP:20260425T110507
CREATED:20251009T020638Z
LAST-MODIFIED:20251117T025043Z
UID:1147-1764010800-1764014400@www.thedominakatarina.com
SUMMARY:Drip: A Wax Play Workshop
DESCRIPTION:TICKETS:\nhttps://dripping.eventbrite.com \nBDSM isn’t all about whips and chains; there’s a softer side! Sensation play focuses on the dance our five senses do. With wax play\, we’ll focus on the skin and the pleasure we receive through it. And cleaning up can be just as fun as getting messy! We’ll discuss the various ways to remove the wax from your partner’s skin. From sensual oil massage to the sting of hot wax dripping on bare skin\, let’s explore together. \n$80 – Get a participating sub ticket to be one of my demo bottoms and experience wax play with me and other Dommes. All genders welcome as submissives! \n$15 – If you’re a Femme-identifying Dominant\, there’s a specially priced ticket for you to come and participate under my experienced guidance. \n$30 – Not a Femme and/or just looking to watch? There’s a ticket option for that\, too! \nAll tickets available now! \nThe workshop was developed by me and produced by the Taillor Group (@theTaillorGroup on Fetlife). For even more information\, see the main event listing on Fetlife from @TheTaillorGroup or on the Taillor Group events calendar. \nStreet-wear accepted. CDUS (Clothed Dominant\, Unclothed Submissive) encouraged. Cross-Dressing and fetish wear appreciated. \nWax Play is R.A.C.K. (Risk-Aware Consensual Kink) \n\nAbout The Taillor Group:\nWho are we?\nThe Taillor Group is a collective of fierce femme-identifying Dommes headquartered in our beautiful residential dungeon in Brooklyn. We are dedicated to the BDSM lifestyle and community\, and offer a range of ways to be involved. \nWhat is this event?\nOur workshops are social\, group gatherings that bring members of the BDSM community together in a playful and educational setting. Workshops generally run one hour long are intended to be spaces of learning\, and practicing techniques honed in the class. Workshops are not open play-time (unless specifically stated otherwise). \nWhere is The Crown located?\nIn Prospect Lefferts Gardens\, Brooklyn. Walking distance from the train. Exact address on confirmation page\, and ticket after purchasing. \nDOOR TIMES:\nDoors for the event will open precisely 5 minutes before starting time and close precisely at 10 minutes after. Please arrive on time for all events. \nTICKETS:\nParticipating Sub Ticket: to participate and be used. We welcome participating subs of all genders. \nVoyeur Ticket: only to watch \nParticipating Domme Ticket: for outside Dommes or Dominant Femme identifying folk who wish to try out what they learn in class \nSingle submissive attendees are especially encouraged to attend\, as we use workshops to hone our techniques and better our craft as Dommes. We know you need us… desperately. But\, we need you! \nDress Code:\nCDUS (Clothed Dominant\, Unclothed Submissive) encouraged. Cross-Dressing and fetish wear appreciated. \nGOOD TO KNOW:\nThis event is 21+- The Taillor Collective plays SSC (safe\, sane\, and consensual). \nSTILL HAVE QUESTIONS?\nCall or text us at +1 (347) 855 4877\, or send an email to events@taillors.com \nNO REFUNDS
URL:https://www.thedominakatarina.com/event/drip-a-wax-play-workshop-5/
LOCATION:The Crown\, Brooklyn\, NY\, 11207\, United States
CATEGORIES:The Domme Kat at...,Workshops
ATTACH;FMTTYPE=image/jpeg:https://www.thedominakatarina.com/wp-content/uploads/2025/09/Image-6-19-25-at-9.49-PM.jpeg
END:VEVENT
BEGIN:VEVENT
DTSTART;TZID=America/New_York:20251124T203000
DTEND;TZID=America/New_York:20251124T213000
DTSTAMP:20260425T110507
CREATED:20251122T080338Z
LAST-MODIFIED:20251122T080338Z
UID:1225-1764016200-1764019800@www.thedominakatarina.com
SUMMARY:I'm hosting The Taillor Group's famous PEGFEST!
DESCRIPTION:One of the main missions of the Taillor Group is to train budding ProDommes. When you buy a ticket to be a participating sub*\, you’re giving us the opportunity to teach\, give demos and provide education to our Domme apprentices. What do you get? You get used by the instructor and the Dommes during the workshop!\nNot a Taillor Domme? That’s OK! Join us if you’re a Dominant Femme.**\nCurious\, but not looking for a hands-on experience? Select a general admission ticket to watch!\nBuy your ticket on Eventbrite: https://pegging.eventbrite.com\nFollow the Taillor Group on FetLife. \n* Submissives of all genders and welcome! \n** CisWomen\, TransWomen\, TransMen and AFAB Non-Binary welcome as Dominants. CisMen\, please buy either a participating sub or general admission ticket. \nPlease excuse The Crown’s appearance this week — we’re moving to Bushwick! Starting Dec. 1\, we’ll be in a brand new space. The new address will be in the ticket confirmation emails for events after Dec. 1\, 2025. Follow The Taillor Group on social media for more announcements. \nFROM THE TAILLOR GROUP:\n\n\n\n\n\nWho are we?\nThe Taillor Group is a collective of fierce femme-identifying Dommes headquartered in our beautiful residential dungeon in Brooklyn. We are dedicated to the BDSM lifestyle and community\, and offer a range of ways to be involved. \nWhat is this event?\nOur workshops are social\, group gatherings that bring members of the BDSM community together in a playful and educational setting. Workshops generally run one hour long are intended to be spaces of learning\, and practicing techniques honed in the class. Workshops are not open play-time (unless specifically stated otherwise). \nWhere is The Crown located?\nIn Prospect Lefferts Garden\, Brooklyn. Walking distance from the train. Exact address on confirmation page\, and ticket after purchasing. \nDOOR TIMES:\nDoors for the event will open precisely 5 minutes before starting time and close precisely at 10 minutes after. Please arrive on time for all events. \nTICKETS:\nParticipating Sub Ticket: to participate and be used during demos. We welcome participating subs of all genders. \nGeneral Admission Ticket: only to watch. \nParticipating Domme Ticket: For outside dommes\, or dominant femme identifying folk who wish to try out what they learn in class. \nSingle submissive attendees are especially encouraged to attend\, as we use workshops to hone our techniques and better our craft as Dommes. We know you need us… desperately. But\, we need you! \nDress Code:\nCDUS (Clothed Dominant\, Unclothed Submissive) encouraged. Cross-Dressing and fetishwear appreciated. \nGOOD TO KNOW:\nThis event is 21+. The Taillor Collective plays SSC (safe\, sane\, and consensual). \nThe Crown is a space for everyone to feel safe and welcomed. We have a zero-tolerance policy towards any kind of hate within our space. Ableism\, racism\, fatphobia\, transphobia\, homophobia\, misogyny\, and/or misogynoir will result in immediate expulsion. \nSTILL HAVE QUESTIONS?\nCall or text us at +1 (347) 855 4877\, or send an email to events@taillors.com \nNO REFUNDS
URL:https://www.thedominakatarina.com/event/im-hosting-the-taillor-groups-famous-pegfest/
LOCATION:The Crown\, Brooklyn\, NY\, 11207\, United States
CATEGORIES:The Domme Kat at...,Workshops
ATTACH;FMTTYPE=image/jpeg:https://www.thedominakatarina.com/wp-content/uploads/2025/07/theDommeKat-naked-strapon-anal-August.jpg
END:VEVENT
END:VCALENDAR