BEGIN:VCALENDAR
VERSION:2.0
PRODID:-//The Domme Kat - ECPv6.15.20//NONSGML v1.0//EN
CALSCALE:GREGORIAN
METHOD:PUBLISH
X-WR-CALNAME:The Domme Kat
X-ORIGINAL-URL:https://www.thedominakatarina.com
X-WR-CALDESC:Events for The Domme Kat
REFRESH-INTERVAL;VALUE=DURATION:PT1H
X-Robots-Tag:noindex
X-PUBLISHED-TTL:PT1H
BEGIN:VTIMEZONE
TZID:America/New_York
BEGIN:DAYLIGHT
TZOFFSETFROM:-0500
TZOFFSETTO:-0400
TZNAME:EDT
DTSTART:20240310T070000
END:DAYLIGHT
BEGIN:STANDARD
TZOFFSETFROM:-0400
TZOFFSETTO:-0500
TZNAME:EST
DTSTART:20241103T060000
END:STANDARD
BEGIN:DAYLIGHT
TZOFFSETFROM:-0500
TZOFFSETTO:-0400
TZNAME:EDT
DTSTART:20250309T070000
END:DAYLIGHT
BEGIN:STANDARD
TZOFFSETFROM:-0400
TZOFFSETTO:-0500
TZNAME:EST
DTSTART:20251102T060000
END:STANDARD
BEGIN:DAYLIGHT
TZOFFSETFROM:-0500
TZOFFSETTO:-0400
TZNAME:EDT
DTSTART:20260308T070000
END:DAYLIGHT
BEGIN:STANDARD
TZOFFSETFROM:-0400
TZOFFSETTO:-0500
TZNAME:EST
DTSTART:20261101T060000
END:STANDARD
END:VTIMEZONE
BEGIN:VEVENT
DTSTART;VALUE=DATE:20250527
DTEND;VALUE=DATE:20251111
DTSTAMP:20260425T122758
CREATED:20250526T043935Z
LAST-MODIFIED:20251116T074506Z
UID:941-1748304000-1762819199@www.thedominakatarina.com
SUMMARY:Introducing 30 Minute Mondays in Brooklyn
DESCRIPTION:you know how I recommend two hours for a session? And how I don’t offer half-hour sessions? \nWell… \nI’m pleased to introduce 30 Minute Mondays! Book your 30 minutes with Me and experience pain and pleasure in an abridged session only on Mondays and only at The Crown in Flatbush\, Brooklyn. \nScreening\, scene negotiations\, aftercare are still mandatory\, so W/we won’t be able to indulge certain fetishes and kinks (like oil wrestling\, pegging\, feminization\, wax play). Contact Me to inquire if you aren’t certain W/we can accommodate your request: BOOKtheDommeKat@protonmail.com \nIf you’re open to the Taillor Dommes watching or would like a Taiilor Domme to join U/us during the session\, please indicate it when you make your session request. Additional tribute or tip-in may be required. \nMy time begins at $200 plus room rental.
URL:https://www.thedominakatarina.com/event/introducing-30-minute-mondays-in-brooklyn/
LOCATION:The Crown\, Brooklyn\, NY\, 11207\, United States
CATEGORIES:Announcements & Social Media,Sessions,Specials and Sales
ATTACH;FMTTYPE=image/jpeg:https://www.thedominakatarina.com/wp-content/uploads/2025/05/FemDom-BDSM-Domina-Goddess-Altar-TheCrown-TaillorGroup_CJ.jpg
ORGANIZER;CN="The Domme Kat":MAILTO:theDommeKat@protonmail.com
END:VEVENT
BEGIN:VEVENT
DTSTART;TZID=America/New_York:20251027T190000
DTEND;TZID=America/New_York:20251027T200000
DTSTAMP:20260425T122758
CREATED:20251009T020422Z
LAST-MODIFIED:20251009T020422Z
UID:1145-1761591600-1761595200@www.thedominakatarina.com
SUMMARY:Drip: A Wax Play Workshop
DESCRIPTION:TICKETS:\nhttps://dripping.eventbrite.com \nBDSM isn’t all about whips and chains; there’s a softer side! Sensation play focuses on the dance our five senses do. With wax play\, we’ll focus on the skin and the pleasure we receive through it. And cleaning up can be just as fun as getting messy! We’ll discuss the various ways to remove the wax from your partner’s skin. From sensual oil massage to the sting of hot wax dripping on bare skin\, let’s explore together. \n$80 – Get a participating sub ticket to be one of my demo bottoms and experience wax play with me and other Dommes. All genders welcome as submissives! \n$15 – If you’re a Femme-identifying Dominant\, there’s a specially priced ticket for you to come and participate under my experienced guidance. \n$30 – Not a Femme and/or just looking to watch? There’s a ticket option for that\, too! \nAll tickets available now! \nThe workshop was developed by me and produced by the Taillor Group (@theTaillorGroup on Fetlife). For even more information\, see the main event listing on Fetlife from @TheTaillorGroup or on the Taillor Group events calendar. \nStreet-wear accepted. CDUS (Clothed Dominant\, Unclothed Submissive) encouraged. Cross-Dressing and fetish wear appreciated. \nWax Play is R.A.C.K. (Risk-Aware Consensual Kink) \n\nAbout The Taillor Group:\nWho are we?\nThe Taillor Group is a collective of fierce femme-identifying Dommes headquartered in our beautiful residential dungeon in Brooklyn. We are dedicated to the BDSM lifestyle and community\, and offer a range of ways to be involved. \nWhat is this event?\nOur workshops are social\, group gatherings that bring members of the BDSM community together in a playful and educational setting. Workshops generally run one hour long are intended to be spaces of learning\, and practicing techniques honed in the class. Workshops are not open play-time (unless specifically stated otherwise). \nWhere is The Crown located?\nIn Prospect Lefferts Gardens\, Brooklyn. Walking distance from the train. Exact address on confirmation page\, and ticket after purchasing. \nDOOR TIMES:\nDoors for the event will open precisely 5 minutes before starting time and close precisely at 10 minutes after. Please arrive on time for all events. \nTICKETS:\nParticipating Sub Ticket: to participate and be used. We welcome participating subs of all genders. \nVoyeur Ticket: only to watch \nParticipating Domme Ticket: for outside Dommes or Dominant Femme identifying folk who wish to try out what they learn in class \nSingle submissive attendees are especially encouraged to attend\, as we use workshops to hone our techniques and better our craft as Dommes. We know you need us… desperately. But\, we need you! \nDress Code:\nCDUS (Clothed Dominant\, Unclothed Submissive) encouraged. Cross-Dressing and fetish wear appreciated. \nGOOD TO KNOW:\nThis event is 21+- The Taillor Collective plays SSC (safe\, sane\, and consensual). \nSTILL HAVE QUESTIONS?\nCall or text us at +1 (347) 855 4877\, or send an email to events@taillors.com \nNO REFUNDS
URL:https://www.thedominakatarina.com/event/drip-a-wax-play-workshop-4/
LOCATION:The Crown\, Brooklyn\, NY\, 11207\, United States
CATEGORIES:The Domme Kat at...,Workshops
ATTACH;FMTTYPE=image/jpeg:https://www.thedominakatarina.com/wp-content/uploads/2025/09/Image-6-19-25-at-9.49-PM.jpeg
END:VEVENT
BEGIN:VEVENT
DTSTART;TZID=America/New_York:20251027T203000
DTEND;TZID=America/New_York:20251027T213000
DTSTAMP:20260425T122758
CREATED:20251023T014710Z
LAST-MODIFIED:20251023T014710Z
UID:1195-1761597000-1761600600@www.thedominakatarina.com
SUMMARY:The Taillor's Famous PEGFEST!
DESCRIPTION:TICKETS: Buy your ticket on Eventbrite here: https://pegging.eventbrite.com\nFollow the Taillor Group on FetLife. \nFROM THE TAILLOR GROUP:\n\nAbout this event\n\n\n\n\n\n\nThe Taillors teach and orchestrate the pegging of newbies by experienced dommes on the lovely taillor subs. \n#TaillorCollective #ToEitherPleaseOrEducate \nWho are we?\nThe Taillor Group is a collective of fierce femme-identifying Dommes headquartered in our beautiful residential dungeon in Brooklyn. We are dedicated to the BDSM lifestyle and community\, and offer a range of ways to be involved. \nWhat is this event?\nOur workshops are social\, group gatherings that bring members of the BDSM community together in a playful and educational setting. Workshops generally run one hour long are intended to be spaces of learning\, and practicing techniques honed in the class. Workshops are not open play-time (unless specifically stated otherwise). \nWhere is The Crown located?\nIn Prospect Lefferts Garden\, Brooklyn. Walking distance from the train. Exact address on confirmation page\, and ticket after purchasing. \nDOOR TIMES:\nDoors for the event will open precisely 5 minutes before starting time and close precisely at 10 minutes after. Please arrive on time for all events. \nTICKETS:\nParticipating Sub Ticket: to participate and be used during demos. We welcome participating subs of all genders. \nGeneral Admission Ticket: only to watch. \nParticipating Domme Ticket: For outside dommes\, or dominant femme identifying folk who wish to try out what they learn in class. \nSingle submissive attendees are especially encouraged to attend\, as we use workshops to hone our techniques and better our craft as Dommes. We know you need us… desperately. But\, we need you! \nDress Code:\nCDUS (Clothed Dominant\, Unclothed Submissive) encouraged. Cross-Dressing and fetishwear appreciated. \nGOOD TO KNOW:\nThis event is 21+. The Taillor Collective plays SSC (safe\, sane\, and consensual). \nThe Crown is a space for everyone to feel safe and welcomed. We have a zero-tolerance policy towards any kind of hate within our space. Ableism\, racism\, fatphobia\, transphobia\, homophobia\, misogyny\, and/or misogynoir will result in immediate expulsion. \nSTILL HAVE QUESTIONS?\nCall or text us at +1 (347) 855 4877\, or send an email to events@taillors.com \nNO REFUNDS
URL:https://www.thedominakatarina.com/event/the-taillors-famous-pegfest/
LOCATION:The Crown\, Brooklyn\, NY\, 11207\, United States
CATEGORIES:The Domme Kat at...,Workshops
ATTACH;FMTTYPE=image/jpeg:https://www.thedominakatarina.com/wp-content/uploads/2025/07/theDommeKat-doorway-dildo-RED_ShawnFox.jpg
END:VEVENT
END:VCALENDAR