BEGIN:VCALENDAR
VERSION:2.0
PRODID:-//The Domme Kat - ECPv6.15.20//NONSGML v1.0//EN
CALSCALE:GREGORIAN
METHOD:PUBLISH
X-ORIGINAL-URL:https://www.thedominakatarina.com
X-WR-CALDESC:Events for The Domme Kat
REFRESH-INTERVAL;VALUE=DURATION:PT1H
X-Robots-Tag:noindex
X-PUBLISHED-TTL:PT1H
BEGIN:VTIMEZONE
TZID:America/New_York
BEGIN:DAYLIGHT
TZOFFSETFROM:-0500
TZOFFSETTO:-0400
TZNAME:EDT
DTSTART:20240310T070000
END:DAYLIGHT
BEGIN:STANDARD
TZOFFSETFROM:-0400
TZOFFSETTO:-0500
TZNAME:EST
DTSTART:20241103T060000
END:STANDARD
BEGIN:DAYLIGHT
TZOFFSETFROM:-0500
TZOFFSETTO:-0400
TZNAME:EDT
DTSTART:20250309T070000
END:DAYLIGHT
BEGIN:STANDARD
TZOFFSETFROM:-0400
TZOFFSETTO:-0500
TZNAME:EST
DTSTART:20251102T060000
END:STANDARD
BEGIN:DAYLIGHT
TZOFFSETFROM:-0500
TZOFFSETTO:-0400
TZNAME:EDT
DTSTART:20260308T070000
END:DAYLIGHT
BEGIN:STANDARD
TZOFFSETFROM:-0400
TZOFFSETTO:-0500
TZNAME:EST
DTSTART:20261101T060000
END:STANDARD
END:VTIMEZONE
BEGIN:VEVENT
DTSTART;VALUE=DATE:20250527
DTEND;VALUE=DATE:20251111
DTSTAMP:20260425T080612
CREATED:20250526T043935Z
LAST-MODIFIED:20251116T074506Z
UID:941-1748304000-1762819199@www.thedominakatarina.com
SUMMARY:Introducing 30 Minute Mondays in Brooklyn
DESCRIPTION:you know how I recommend two hours for a session? And how I don’t offer half-hour sessions? \nWell… \nI’m pleased to introduce 30 Minute Mondays! Book your 30 minutes with Me and experience pain and pleasure in an abridged session only on Mondays and only at The Crown in Flatbush\, Brooklyn. \nScreening\, scene negotiations\, aftercare are still mandatory\, so W/we won’t be able to indulge certain fetishes and kinks (like oil wrestling\, pegging\, feminization\, wax play). Contact Me to inquire if you aren’t certain W/we can accommodate your request: BOOKtheDommeKat@protonmail.com \nIf you’re open to the Taillor Dommes watching or would like a Taiilor Domme to join U/us during the session\, please indicate it when you make your session request. Additional tribute or tip-in may be required. \nMy time begins at $200 plus room rental.
URL:https://www.thedominakatarina.com/event/introducing-30-minute-mondays-in-brooklyn/
LOCATION:The Crown\, Brooklyn\, NY\, 11207\, United States
CATEGORIES:Announcements & Social Media,Sessions,Specials and Sales
ATTACH;FMTTYPE=image/jpeg:https://www.thedominakatarina.com/wp-content/uploads/2025/05/FemDom-BDSM-Domina-Goddess-Altar-TheCrown-TaillorGroup_CJ.jpg
ORGANIZER;CN="The Domme Kat":MAILTO:theDommeKat@protonmail.com
END:VEVENT
BEGIN:VEVENT
DTSTART;TZID=America/New_York:20250915T190000
DTEND;TZID=America/New_York:20250915T213000
DTSTAMP:20260425T080612
CREATED:20250908T053758Z
LAST-MODIFIED:20250908T053904Z
UID:1102-1757962800-1757971800@www.thedominakatarina.com
SUMMARY:FemDom Wrestling 101 and 201 – Workshops
DESCRIPTION:Experience the thrill of control — taking or losing it. Step onto the mat and learn the art of physical Domination and submission. \nJoin me and the Taillor Dommes every 3rd Monday for FemDom Wrestling 101 followed by Wrestling 201. Both classes give you fetish wrestling essentials with an emphasis on Domination by Fierce Femmes and Thems! \nFemDom Wrestling 101 will get you into the action more safely every third Monday of the month at 7 p.m. \nWrestling 201 will take you beyond the into into more classic fetish wrestling holds and submissions. Love pins and chokes? This is the class for you. FemDom Wrestling 201 is every third Monday of the month at 8:30 p.m. \nEach class ends with some live action where participating Dommes can try out their moves in real time matches with the submissives. \nYou can come to just one of the workshops\, but I highly recommend coming to both! 101 acts as a prerequisite for the 201 class and repeating myself means less time to learn more advanced variations. \nTICKET OPTIONS\nReady to submit? Choose the participating sub ticket option and be our practice “dummy.” 😉 All genders welcome. \nAre you a FemDom or looking to learn how to Dominate using just your body? Grab a FemDom ticket and get your body moving on the mats. \nJust want to watch? You can do that\, too! \nATTIRE\nIf you’re getting on the mats with us\, please wear something you’re comfortable moving in. Yoga pants\, gym shorts and other sporty gear is perfect. Fetish wear welcome as long as it isn’t anything that will snag\, scratch or poke. You may come 10 minutes early and get changed in one of the two bathrooms. \nPlease\, no: \n\njewelry\, watches or anything pokey that can puncture the mats\, scratch your wrestling partner or snag and injure you.\nshoes on the mats unless they are specifically wrestling boots or a non-street shoe like ballet slippers. You can have bare feet or wear socks\, pantyhose or other foot coverings.\n\nHEALTH AND HYGIENE\nIf you are a human who shaves\, I recommend shaving the night before so you don’t have any broken skin touching the communal mats. Make sure your toenails are trimmed\, you are clean and smell fresh. Please check yourself for any signs of illness\, skin rashes or lesions. Cover any wounds. \nThis workshop is produced by The Taillor Group. If you have any questions\, please contact The Crown.
URL:https://www.thedominakatarina.com/event/femdom-wrestling-101-and-201-workshops-7/
LOCATION:The Crown\, Brooklyn\, NY\, 11207\, United States
CATEGORIES:The Domme Kat at...,Workshops
ATTACH;FMTTYPE=image/png:https://www.thedominakatarina.com/wp-content/uploads/2025/07/RNC-ZackLittle-TheDommeKat.png
END:VEVENT
BEGIN:VEVENT
DTSTART;TZID=America/New_York:20250917T190000
DTEND;TZID=America/New_York:20250917T200000
DTSTAMP:20260425T080612
CREATED:20250911T055435Z
LAST-MODIFIED:20250911T055435Z
UID:1107-1758135600-1758139200@www.thedominakatarina.com
SUMMARY:Foot Lesson: Foot Fetish Workshop by The Taillor Group
DESCRIPTION:Learn how to Dominate\, intimidate and excite with your feet! Or maybe you’ll be the one on edge…\nJoin me and the Taillor Group for an evening of foot and boot worship\, scent play\, trampling\, foot stooling and more! We welcome foot fetishists\, aspiring Dommes and curious onlookers to explore the sensual and powerful sides of foot play with us. \nGET TICKETS\nBuy your ticket on Eventbrite here: https://eatmyfoot.eventbrite.com\nParticipating Sub Ticket: to participate and be used. We welcome participating subs of all genders. \nVoyeur Ticket: only to watch. \nParticipating Domme Ticket: for outside Dommes\, or Dominant femme/them-identifying folk who wish to try out what they learn in class. \nSingle submissive attendees are especially encouraged to attend\, as we use workshops to hone our techniques and better our craft as Dommes. We know you need us… desperately. But\, we need you too! \nThis is a 21+ event. \nQuestions? Call or text us at +1 (347) 855 4877 or send an email to events@taillors.com
URL:https://www.thedominakatarina.com/event/foot-lesson-foot-fetish-workshop-by-the-taillor-group/
LOCATION:The Crown\, Brooklyn\, NY\, 11207\, United States
CATEGORIES:The Domme Kat at...,Workshops
ATTACH;FMTTYPE=image/jpeg:https://www.thedominakatarina.com/wp-content/uploads/2024/12/https___cdn.evbuc_.com_images_808139779_246534882945_1_original.jpeg
END:VEVENT
BEGIN:VEVENT
DTSTART;TZID=America/New_York:20250919T160000
DTEND;TZID=America/New_York:20250919T170000
DTSTAMP:20260425T080612
CREATED:20250911T060022Z
LAST-MODIFIED:20250911T060022Z
UID:1109-1758297600-1758301200@www.thedominakatarina.com
SUMMARY:Oh My Feet – Taillor Group Foot Fetish Workshop
DESCRIPTION:Join me and the Taillor Group in a secret location in lower Manhattan for a workshop all about feet\, socks\, shoes\, scents. \nI love Dominating with my feet! Let me show you some of my favorite ways to play\, including massage\, worship\, trampling\, ball busting\, foot chokes\, edging games and more. \nBe my demo bottom when you purchase the participating sub ticket. You might even get stepped on by the Taillor Dommes! Dominant Women\, opt for the FemDom ticket and get in on the fun. If you want to watch\, select the General Admission ticket. \n\n\nIf you’ve my attended Pedestal: Foot Domination and Jobs workshop\, this is similar with an emphasis on FemDom/me/mx. \n\n\n\nThis workshop is produced by The Taillor Group. If you have any questions\, please contact The Crown.
URL:https://www.thedominakatarina.com/event/oh-my-feet-taillor-group-foot-fetish-workshop-2/
LOCATION:secret location in lower Mahattan
CATEGORIES:The Domme Kat at...,Workshops
ATTACH;FMTTYPE=image/jpeg:https://www.thedominakatarina.com/wp-content/uploads/2024/12/https___cdn.evbuc_.com_images_819717149_246534882945_1_original.jpeg
END:VEVENT
BEGIN:VEVENT
DTSTART;VALUE=DATE:20250922
DTEND;VALUE=DATE:20250924
DTSTAMP:20260425T080612
CREATED:20250921T070407Z
LAST-MODIFIED:20250921T070407Z
UID:1118-1758499200-1758671999@www.thedominakatarina.com
SUMMARY:Monday in Brooklyn: Wax Workshop + Discounted Doubles and Smothering
DESCRIPTION:I’m at The Crown on Monday offering 30-minute (and longer) sessions\, discounted sessions with some of my Taillor group friends and teaching my wax play workshop. (I’ll take your breath away in the Taillors’ smothering workshop on Tuesday). \n7 p.m. DRIP: A Wax Play Workshop\nTICKETS:\nhttps://dripping.eventbrite.com \nBDSM isn’t all about whips and chains; there’s a softer side! Sensation play focuses on the dance our five senses do. With wax play\, we’ll focus on the skin and the pleasure we receive through it. And cleaning up can be just as fun as getting messy! We’ll discuss the various ways to remove the wax from your partner’s skin. From sensual oil massage to the sting of hot wax dripping on bare skin\, let’s explore together. \n$80 – Get a participating sub ticket to be one of my demo bottoms and experience wax play with me and other Dommes. All genders welcome as submissives! \n$15 – If you’re a Femme-identifying Dominant\, there’s a specially priced ticket for you to come and participate under my experienced guidance. \n$30 – Just want to watch? There’s a ticket option for that\, too! \nAll tickets available now! \nThe workshop was developed by me and produced by the Taillor Group (@theTaillorGroup on Fetlife). For even more information\, see the Taillor Group events calendar. \nStreet-wear accepted. CDUS (Clothed Dominant\, Unclothed Submissive) encouraged. Cross-Dressing and fetish wear appreciated. \nWax Play is R.A.C.K. (Risk-Aware Consensual Kink)
URL:https://www.thedominakatarina.com/event/monday-in-brooklyn-wax-workshop-discounted-doubles-and-smothering/
LOCATION:The Crown\, Brooklyn\, NY\, 11207\, United States
CATEGORIES:Double Sessions,Sessions,Specials and Sales,The Domme Kat at...,Workshops
ATTACH;FMTTYPE=image/jpeg:https://www.thedominakatarina.com/wp-content/uploads/2025/09/Image-6-19-25-at-9.49-PM.jpeg
END:VEVENT
END:VCALENDAR