BEGIN:VCALENDAR
VERSION:2.0
PRODID:-//The Domme Kat - ECPv6.15.20//NONSGML v1.0//EN
CALSCALE:GREGORIAN
METHOD:PUBLISH
X-ORIGINAL-URL:https://www.thedominakatarina.com
X-WR-CALDESC:Events for The Domme Kat
REFRESH-INTERVAL;VALUE=DURATION:PT1H
X-Robots-Tag:noindex
X-PUBLISHED-TTL:PT1H
BEGIN:VTIMEZONE
TZID:America/New_York
BEGIN:DAYLIGHT
TZOFFSETFROM:-0500
TZOFFSETTO:-0400
TZNAME:EDT
DTSTART:20230312T070000
END:DAYLIGHT
BEGIN:STANDARD
TZOFFSETFROM:-0400
TZOFFSETTO:-0500
TZNAME:EST
DTSTART:20231105T060000
END:STANDARD
BEGIN:DAYLIGHT
TZOFFSETFROM:-0500
TZOFFSETTO:-0400
TZNAME:EDT
DTSTART:20240310T070000
END:DAYLIGHT
BEGIN:STANDARD
TZOFFSETFROM:-0400
TZOFFSETTO:-0500
TZNAME:EST
DTSTART:20241103T060000
END:STANDARD
BEGIN:DAYLIGHT
TZOFFSETFROM:-0500
TZOFFSETTO:-0400
TZNAME:EDT
DTSTART:20250309T070000
END:DAYLIGHT
BEGIN:STANDARD
TZOFFSETFROM:-0400
TZOFFSETTO:-0500
TZNAME:EST
DTSTART:20251102T060000
END:STANDARD
BEGIN:DAYLIGHT
TZOFFSETFROM:-0500
TZOFFSETTO:-0400
TZNAME:EDT
DTSTART:20260308T070000
END:DAYLIGHT
BEGIN:STANDARD
TZOFFSETFROM:-0400
TZOFFSETTO:-0500
TZNAME:EST
DTSTART:20261101T060000
END:STANDARD
END:VTIMEZONE
BEGIN:VEVENT
DTSTART;VALUE=DATE:20241228
DTEND;VALUE=DATE:20250201
DTSTAMP:20260425T234314
CREATED:20241229T025308Z
LAST-MODIFIED:20241229T031236Z
UID:689-1735344000-1738367999@www.thedominakatarina.com
SUMMARY:Fansly VIPees! Paid subscriptions are ending in 2025
DESCRIPTION:Just a reminder that my Fansly is going FREE! \nYou can still follow for free and get pee\, golden shower and watersports PPV on my Fansly. \nMy Other Links\nClips: theDommeKatClips.com \nFan Club: bit.ly/Loyal2Kat \nSexting: bit.ly/KatTexts \nClips including golden showers: bit.ly/KatVids \nYou can also purchase clips that I can’t sell elsewhere directly from me. Check out the titles available here and then email me: theDommeKat@protonmail.com.
URL:https://www.thedominakatarina.com/event/fansly-vipees-paid-subscriptions-are-ending-in-2025/
CATEGORIES:Announcements & Social Media,Virtual/Online Services
ATTACH;FMTTYPE=image/jpeg:https://www.thedominakatarina.com/wp-content/uploads/2021/10/dom-kat-logo-1000px.jpg
END:VEVENT
END:VCALENDAR