BEGIN:VCALENDAR
VERSION:2.0
PRODID:-//The Domme Kat - ECPv6.15.20//NONSGML v1.0//EN
CALSCALE:GREGORIAN
METHOD:PUBLISH
X-ORIGINAL-URL:https://www.thedominakatarina.com
X-WR-CALDESC:Events for The Domme Kat
REFRESH-INTERVAL;VALUE=DURATION:PT1H
X-Robots-Tag:noindex
X-PUBLISHED-TTL:PT1H
BEGIN:VTIMEZONE
TZID:America/New_York
BEGIN:DAYLIGHT
TZOFFSETFROM:-0500
TZOFFSETTO:-0400
TZNAME:EDT
DTSTART:20250309T070000
END:DAYLIGHT
BEGIN:STANDARD
TZOFFSETFROM:-0400
TZOFFSETTO:-0500
TZNAME:EST
DTSTART:20251102T060000
END:STANDARD
BEGIN:DAYLIGHT
TZOFFSETFROM:-0500
TZOFFSETTO:-0400
TZNAME:EDT
DTSTART:20260308T070000
END:DAYLIGHT
BEGIN:STANDARD
TZOFFSETFROM:-0400
TZOFFSETTO:-0500
TZNAME:EST
DTSTART:20261101T060000
END:STANDARD
BEGIN:DAYLIGHT
TZOFFSETFROM:-0500
TZOFFSETTO:-0400
TZNAME:EDT
DTSTART:20270314T070000
END:DAYLIGHT
BEGIN:STANDARD
TZOFFSETFROM:-0400
TZOFFSETTO:-0500
TZNAME:EST
DTSTART:20271107T060000
END:STANDARD
END:VTIMEZONE
BEGIN:VEVENT
DTSTART;TZID=America/New_York:20260301T180000
DTEND;TZID=America/New_York:20260301T184500
DTSTAMP:20260423T185408
CREATED:20260301T081627Z
LAST-MODIFIED:20260301T081627Z
UID:1337-1772388000-1772390700@www.thedominakatarina.com
SUMMARY:Forced Bi The Taillors – Guided Play!
DESCRIPTION:Ready to be FORCED BI me and the Taillor Dommes? Join us for fun and games in this quickie party of man-on-man play.\nOral fixation? Humiliation slut? Exhibitionist? Entertain Dominant Femmes — we’re waiting for you with the flavored condoms.\nTICKETS\nFROM THE TAILLOR GROUP:\nNo Voyeur option. Strictly participant only event. If a ticket holder decides to not participate\, we respect his/her decision but there will be no refunds. \nBe guided and entranced with the erotic joys of man-on-man under the direction of a welcoming Domina. You’ll be gently seduced into my own personal gay fantasy and ordered into all sorts of positions. So cum play with gentlemen\, pretty-boys. \nTICKETS:\nhttps://forcedbi.eventbrite.com\n#KINKY #PLAY #FORCEDBI #M4M \nWho are we?\nThe Taillor Group is a collective of fierce femme-identifying Dommes headquartered in our beautiful residential dungeon in Brooklyn. We are dedicated to the BDSM lifestyle and community\, and offer a range of ways to be involved. \n#TaillorCollective #ToEitherPleaseOrEducate \nWhat is this event?\nOur workshops are social\, group gatherings that bring members of the BDSM community together in a playful and educational setting. Workshops generally run one hour long are intended to be spaces of learning\, and practicing techniques honed in the class. Workshops are not open play-time (unless specifically stated otherwise). \nWhere is The Crown located?\nIn Bushwick\, Brooklyn. Walking distance from the L and J trains. Exact address on confirmation page and ticket after purchasing. IF YOU DON’T SEE IT ON YOUR TICKET CONFIRMATION\, ***SCROLL DOWN***. It’s at the bottom of your Eventbrite email! \nDOOR TIMES:\nDoors for the event will open precisely 5 minutes before starting time and close precisely at 10 minutes after. Please arrive on time for all events. \nTICKETS:\n\nEarly Tickets (Top\, Bottom or Switch) $80;\nLate Tickets (Top\, Bottom or Switch) $120.\n\nNo voyeurs; participant only event. \nGOOD TO KNOW:\nThis event is 21+. The Taillor Collective plays SSC (safe\, sane\, and consensual). \nThe Crown is a space for everyone to feel safe and welcomed. We have a zero-tolerance policy towards any kind of hate within our space. Ableism\, racism\, fatphobia\, transphobia\, homophobia\, misogyny\, and/or misogynoir will result in immediate expulsion. \nSTILL HAVE QUESTIONS?\nCall or text us at +1 (347) 855 4877\, or send an email to events@taillors.com \n\n\nNO REFUNDS
URL:https://www.thedominakatarina.com/event/forced-bi-the-taillors-guided-play-2/
LOCATION:The Crown\, Brooklyn\, NY\, 11207\, United States
CATEGORIES:Socials,The Domme Kat at...,Workshops
ATTACH;FMTTYPE=image/png:https://www.thedominakatarina.com/wp-content/uploads/2025/01/ForcedBi-IG-2.png
END:VEVENT
BEGIN:VEVENT
DTSTART;TZID=America/New_York:20260306T160000
DTEND;TZID=America/New_York:20260306T170000
DTSTAMP:20260423T185408
CREATED:20260301T084130Z
LAST-MODIFIED:20260301T084130Z
UID:1342-1772812800-1772816400@www.thedominakatarina.com
SUMMARY:Sit & Punish—Smothering\, Breath Play Workshop
DESCRIPTION:Face sitting (and breath play) is one of my absolute favorite things to do. I truly enjoy it! Last time I taught smothering\, the feedback in the room included how infectious my joy was. Other feedback included how fun the different smothering positions were. I loved seeing everyone try the moves and add their new favorite positions to their Domination tool box. \nCurious about smothering and face sitting? Learn how to smother more safely\, the pros and cons of different positions and how to incorporate other kinks to upgrade the experience for you and your sub. \nWe’ll also cover breath play safety and how to integrate it into your scenes. This FemDom workshop is open to all skill levels and is designed to help you step up your body worship and master the art of physical domination. \n🎟 GET TICKETS:\nhttps://sitpunish.eventbrite.com \nWorkshop curriculum by me. Produced by @TheTaillorGroup.  For even more information\, see the Taillor Group events calendar. \n\n\n\nWhat is The Taillor Group?\nThe Taillor Group is a collective of fierce femme-identifying Dommes headquartered in our beautiful residential dungeon in Brooklyn. We are dedicated to the BDSM lifestyle and community\, and offer a range of ways to be involved. \nWhat is this event?\nOur workshops are social\, group gatherings that bring members of the BDSM community together in a playful and educational setting. Workshops generally run one hour long are intended to be spaces of learning and practicing techniques honed in the class. Workshops are not open play-time (unless specifically stated otherwise). \nWhere is the workshop?\nIn lower Manhattan. Exact address on confirmation page and ticket after purchasing. SCROLL DOWN WHEN YOU RECEIVE THE TICKET CONFIRMATION EMAIL FOR THE EXACT ADDRESS. \nDoor Times:\nDoors for the event will open precisely 10 minutes before starting time and class will start 5 minutes after. Please arrive on time for all events. \nTickets:\nParticipating Sub Ticket: to participate and be used. We welcome participating subs of all genders. \nVoyeur Ticket: only to watch \nParticipating Domme Ticket: for outside Dommes or Dominant Femme identifying folk who wish to try out what they learn in class \nSingle submissive attendees are especially encouraged to attend\, as we use workshops to hone our techniques and better our craft as Dommes. We know you need us… desperately. But\, we need you! \nDress Code:\nCDUS (Clothed Dominant\, Unclothed Submissive) permitted. Cross-dressing and fetish wear appreciated. \nGood To Know:\nThis event is 21+- The Taillor Collective plays SSC (safe\, sane\, and consensual). \nSTILL HAVE QUESTIONS?\nCall or text us at +1 (347) 855 4877\, or send an email to events@taillors.com \nNO REFUNDS
URL:https://www.thedominakatarina.com/event/sit-punish-smothering-breath-play-workshop-6/
LOCATION:secret location in lower Mahattan
CATEGORIES:The Domme Kat at...,Workshops
ATTACH;FMTTYPE=image/jpeg:https://www.thedominakatarina.com/wp-content/uploads/2026/03/sitpunish_taillors.jpg
END:VEVENT
BEGIN:VEVENT
DTSTART;TZID=America/New_York:20260307T200000
DTEND;TZID=America/New_York:20260307T235900
DTSTAMP:20260423T185408
CREATED:20260301T094003Z
LAST-MODIFIED:20260304T091841Z
UID:1345-1772913600-1772927940@www.thedominakatarina.com
SUMMARY:Performance & Wrestling at Sirens - a curated sapphic party experience
DESCRIPTION:I’m performing at Sirens on Saturday\, March 7! If you feel feisty\, come see me after for a kink tasting… wrestling\, face sitting\, scissorholds and more. \nUse promo code THEDOMMEKAT when buying tickets and get $5 off! \nHosted by the Sirenatrix \nJoin us for a curated party experience – away from the patriarchy – at SIRENS\, a space built for sapphic / gender NC / trans folk. \n—- \nMarch 2026 Theme:\n✊Arena of Ache⛓️‍💥\n… it’s time to let out a guttural collective ROAR. \nIf you read the news (or if you’re human) there are plenty of reasons to feel a little stressed. Without an appropriate outlet\, it’s easy to swallow feelings and carry them around with us in our bodies. Repression? Not sexy. But it gets real juicy when we find a way to lean into it… \nThe March 2026 theme is quite kinky… not much gets as erotic as the healthy release of “negative” emotion. We’ll let energy and intimacy flow freely as we give Ache an Arena to play in. \n\nSTARDUST: This room is the Arena – perfect for high-octane scenes involving wrestling\, impact\, struggle\, screaming\, primal play\, rough f*cking\, etc.\nSUNSET: This is the Ache room – suggested scene themes include: edging\, no-impact S/M (electro\, clamps\, rope\, etc.)\, vulnerability (sensory deprivation\, mindf*ckery\, fear).\n\nWhile this may be an intense theme for newbies to the world of BDSM\, we do our best to cultivate a wholesome and safe(r) environment (please see the note below about inherent risk). There\, of course\, will be Guardians\, an updated reporting system\, scene planning resources\, delineated play spaces\, and a low stimulation room. \nFor many\, it’s a liberating experience to watch a complete cycle of emotional alchemy occur (from negotiation\, to an intentional exploration\, to aftercare and integration). Arena of Ache is an intentional exploration of pain\, rage\, ache – and the intimacy\, connection\, and healing they make possible. \nSpecial Guest: The Domme Kat\nSIRENS is thrilled to feature special guest THE DOMME KAT. Host of SurrenderParties and SWSurvivalGuide – The Domme Kat’s very presence is a Masterclass in whoop-a$$ – she will be there to wrestle\, smother\, choke\, or dominate those who dare experience her. \nGet $5 off when you buy tickets using promo code THEDOMMEKAT. \n**NEW RULE** All first-timers to Pagans Paradise MUST attend the Newbie Orientation huddle at 8:30PM. Plan ahead & don’t be late! \nEVENT DETAILS\nLocation: Near Union Square (Full address provided in your confirmation email)\n🌟 Accessibility: This venue is a walk-up and may not be accessible to all.\n************PLEASE READ************************* \n***WHO IS THIS EVENT FOR? + WHO ISN’T THIS EVENT FOR?***\n💋 (21+ only) – This event centers the sapphic experience. If you do not identify as sapphic\, gender non-binary\, or trans – we love you but please attend other Pagan’s Paradise events instead. This is NOT an event for those who are assigned m@le at birth and are not intentionally exploring their gender identity – please read this carefully because we will not refund your ticket.\nDefinition (LGBTQIA+ Wiki): Sapphic refers to a woman or woman-aligned person who is attracted to women or woman-aligned genders. This umbrella term includes lesbians\, bisexuals\, pansexuals\, and queer individuals. Non-binary individuals who are woman-aligned are warmly welcomed. We also welcome all types of people who identify as gender non-binary or who identify anywhere on the transgender spectrum. \n💡 We trust attendees to respect the spirit of this space. We reserve the right to remove anyone—sapphic or not—whose actions misalign with our values or breach our Community Guidelines. Honor this privileged space as you would your own home.\nDRESS CODE & OUTFIT IDEAS\n🛡️ The Gladiator – Leather straps / harnesses\, metal cuffs\, greaves\, swords or shields\, armor \n🤼 The Wrestling Icon – WWE-style leotards\, dramatic capes\, knee pads\, thigh-high boots \n⛓️ The Chained Brawler – Chains as accessories\, padlocks\, leather harnesses\, distressed fabrics\, smeared eyeliner \n🩸 The Pit Savage – Faux blood splatter\, ripped mesh\, SFX battle scars\, face paint\, smeared eyeliner\, etc. \n🔥 The Champion – Wrapped hands\, pads\, covered in real/fake tattoos\, satin fighter robes\, championship belt\, etc. \n🚫 No boring basics. Put in some effort\, please! A changing area will be available for your convenience. \nSCHEDULE \n🕗 8:00 PM – 9:00 PM: Mingling & Socializing \n🥰 8:30 PM – *Mandatory Orientation for First-Timers to Pagans Paradise* \n🚪 8:59 PM: Doors Close (No late entry) \n🗣️ 9:00 PM: Welcome Speech & Performance by Victor Viero \n🌟 9:30 PM: Newbie Orientation & Icebreakers \n🎭 9:00 PM – 2:00 AM: Explore the space\, connect\, fun time and indulge! \nTICKETS \nPrices increase as tiers sell out—don’t wait! Avoid Last-Minute pricing by securing your ticket ahead of time! \nThere are NO REFUNDS for this event – if you cannot make it\, please gift or sell your ticket to a worthy soul. See confirmation email for Ticket Reselling policies. \nPlease respect the door-close time. To protect the space\, late arrivals will not be admitted after doors close\, and refunds will not be provided. \nIMPORTANT NOTICE\n📜 Pagan’s Paradise events prioritize community safety & exploration.💭 Pagans Paradise events are intended for educational and entertainment purposes\, and attendees engage at their own risk. Some events may involve physical or emotional exploration\, and by attending\, you agree to take personal responsibility for your well-being.💡By attending\, you agree to engage at your own risk\, conduct your own risk management\, assume risks known and unknown\, and agree to hold the event facilitators and facility harmless for any type of harm that may occur.📜 All activities are consensual\, opt-in\, and respectful. \nCONNECT ON DISCORD! \nThe fun has already started! Connect with people\, plan scenes\, and show off your outfits before the party on our Discord. \nPlease familiarize yourself with our Community Guidelines before attending. \n📧 Questions? Concerns? Email us at PagansParadiseNYC@gmail.com \n📸 Stay connected: Follow us on IG @pagansparadise |SIRENS: @sirensparty | @the.sirenatrix
URL:https://www.thedominakatarina.com/event/performing-wrestling-kink-sirens-sapphic-pagansparadise/
LOCATION:Address given in email confirmation. Please contact Pagans Paradise if paying at door.\, New York\, NY\, United States
CATEGORIES:MiniSessions,Party,Play Party
ATTACH;FMTTYPE=image/jpeg:https://www.thedominakatarina.com/wp-content/uploads/2026/03/WhatsApp-Image-2026-03-02-at-20.26.44.jpeg
END:VEVENT
BEGIN:VEVENT
DTSTART;TZID=America/New_York:20260315T160000
DTEND;TZID=America/New_York:20260315T170000
DTSTAMP:20260423T185408
CREATED:20260312T053047Z
LAST-MODIFIED:20260312T053047Z
UID:1392-1773590400-1773594000@www.thedominakatarina.com
SUMMARY:So Tiny — Consensual SPH Workshop | The Taillor Group
DESCRIPTION:A workshop about ethical erotic humiliation and SPH\n\n\n\nEthical & Consensual\nErotic Humiliation with focus on SPH (Small Penis Humiliation) \nYes\, it’s a thing and\, yes\, respectful newbies are welcome. \nThis is a 21+ event. \n#EroticHumiliation #SoTiny #SPH #BDSM #TaillorCollective #ToEitherPleaseOrEducate\nWho are we? \nThe Taillors are a group of kinksters led by femme-identifying Dommes. We’re headquartered in a residential dungeon in Brooklyn\, but also host events in partner spaces in Manhattan. We are dedicated to the BDSM lifestyle and community\, and offer a range of ways to be involved. \nWhat is this event? \nOur workshops are social\, group gatherings that bring members of the BDSM community together in a playful and educational setting. \nDOOR TIMES: \nDoors for the event will open precisely 5 minutes before starting time and close precisely at 10 minutes after. Please arrive on time for all events. \nTICKETS: \nParticipating Sub Ticket: get hurt. We welcome participating subs of all genders. \nParticipating Domme Ticket: For outside dommes\, or dominant femme identifying folk who wish to participate as much as allowed by the host. \nDress Code: \nCDUS (Clothed Dominant\, Unclothed Submissive) encouraged. Cross-Dressing and fetishwear appreciated. \nGOOD TO KNOW: \nThis event is 21+- The Taillor Collective plays SSC (safe\, sane\, and consensual) \nSTILL HAVE QUESTIONS? \nCall or text us at +1 (347) 855 4877\, or send an email to events@taillors.com \nNO REFUNDS
URL:https://www.thedominakatarina.com/event/so-tiny-consensual-sph-workshop-the-taillor-group/
LOCATION:secret location in lower Mahattan
CATEGORIES:The Domme Kat at...,Workshops
ATTACH;FMTTYPE=image/jpeg:https://www.thedominakatarina.com/wp-content/uploads/2026/03/https___cdn.evbuc_.com_images_1166925243_246534882945_1_original.jpeg
END:VEVENT
BEGIN:VEVENT
DTSTART;TZID=America/New_York:20260327T180000
DTEND;TZID=America/New_York:20260328T003000
DTSTAMP:20260423T185408
CREATED:20260223T031133Z
LAST-MODIFIED:20260312T045220Z
UID:1326-1774634400-1774657800@www.thedominakatarina.com
SUMMARY:Surrender: Wrestling and Impact Play Party
DESCRIPTION:Step onto the mats. Feel the impact. \nAt the next Surrender wrestling play party\, impact is the star of the night. Start with an impact workshop\, then hit the open mats. Use impact in your wrestling—or just bring your own style.\nTICKETS \nSurrender is NYC’s favorite kinky\, queer wrestling play party with house-party vibes. Roll with friends\, meet new allies or explore at your own pace. Newbies and wrestling-curious welcome. There’s plenty to entertain you even if you don’t want to wrestle: explore vendors\, chill in the cuddle puddle room\, eat a snack and chat or just watch the action unfold. \nFriday\, March 27\, 2026\n6:00 p.m. – 11:30 p.m.\nNYC near Union Square (address sent with registration) \nACCESSIBILITY NOTE: 3rd floor walk-up \n💥 Open Mat Wrestling \nPins\, pro-style\, struggle play\, primal\, grappling\, submission\, BJJ\, rope wrestling\, tickle fights\, fantasy—you get to choose. \n🛡️ Consent & Safety  \nReferees keep the mats safer and LED-armband consent monitors are easy to spot if you need help. Our color wristband system shows who’s open to play and who prefers not to be approached. Photos and videos are only allowed in the designated corner—no phones in the rest of the party. \nTICKETS\n* As each level of tickets sells out\, prices go up as we get closer to the party!\n* All tickets\, except workshop-only tickets\, include both the workshop and the party.\n* All online sales end March 27 at 12 midnight.\n* Door tickets: $80 (register online for address + info).\n* Workshop-only tickets available. No virtual option.\n* No refunds. No discounts at the door. \nPay-what-you-can for SW\, QTPOC and financial hardship. Email theDommeKat@protonmail.com for the code. (Limited number available.) \nCOMMUNITY\nWe will be practicing RACK: Risk Aware Consensual Kink. BDSM can affect us in mental\, emotional and physical ways. Please check-in with yourself. As with any physical activity\, there is risk of injury. Please decide if this activity is in your risk profile before participating. Wrestle at your own risk. \nKatarina reserves the right to remove anyone whose actions misalign with our values or breach community guidelines. \nThese events are intended for educational and entertainment purposes and attendees participate at their own risk. Some events may involve physical or emotional exploration and by attending\, you agree to take personal responsibility for your well-being. By attending\, you agree to participate at your own risk\, conduct your own risk management and agree to hold the event facilitators and facility harmless for any type of harm that may occur. The Domme Kat upholds this platforms community guidelines and all activities within her events are consensual\, respectful and professionally guided. This event is not sex-based\, hookup style\, explicit or pornographic. \nParty promo designed by @yearningsecret (Fetlife) \nTICKETS
URL:https://www.thedominakatarina.com/event/surrender-wrestling-and-impact-play-party/
LOCATION:provided in ticket confirmation email\, near Union Square\, New York\, NY\, United States
CATEGORIES:Guest Instructor or Collaboration,MiniSessions,Party,Play Party,Play Party,Workshops
ATTACH;FMTTYPE=image/png:https://www.thedominakatarina.com/wp-content/uploads/2026/02/2.png
ORGANIZER;CN="The Domme Kat":MAILTO:theDommeKat@protonmail.com
END:VEVENT
BEGIN:VEVENT
DTSTART;TZID=America/New_York:20260328T190000
DTEND;TZID=America/New_York:20260328T214500
DTSTAMP:20260423T185408
CREATED:20260302T051442Z
LAST-MODIFIED:20260317T050546Z
UID:1366-1774724400-1774734300@www.thedominakatarina.com
SUMMARY:Wrestling Workshop and Demo Bottom Opportunity at Geekaholic Munch
DESCRIPTION:Get used during my latest workshop that I’m teaching for Geekaholic and then enjoy board games\, card games\, video games\, D&D\, Jamaican food\, adoptable turtles and more at NYC’s largest munch!\nI’m teaching an in-person wrestling workshop for Geekaholic NYC and I need a bottom or jobber that I can use while demonstrating the moves. \nYou are required to arrive by 7 p.m. before the class starts (8 p.m.) so we can check-in with each other and I can show you any safety you need before the class. Do not be late! \nTotal workshop time is 1.5 hours. \nEnjoy everything the munch has to offer before and after the workshop!\nLearn more about the munch here. \nI will cover beginner (101) moves like:\n– takedown variations\n– grapevine pin\n– chokes (like rear naked chokes\, scissorholds)\n– victory poses\nand others as time permits. \nAccessibility note: The entrance to the building is ground level\, but the workshop area is up a flight of stairs. \nThis is not a session or a pornographic film set. This is an educational workshop with attendees of Geekaholic munch. Proper hygiene is required. \nTicket sales end 3/26 at midnight. \n— Katarina “The Domme Kat” Pierce \nP.S. SW and QTPOC\, if you want to attend the munch\, entry is by donation. Workshop is free when you attend the munch\, but spots are limited. Sign up at the front desk when you arrive.
URL:https://www.thedominakatarina.com/event/wrestling-workshop-at-geekaholic-munch/
LOCATION:Prime Produce\, 424 West 54th Street\, New York\, NY\, United States
CATEGORIES:Announcements & Social Media,Munch,The Domme Kat at...,Workshops
ATTACH;FMTTYPE=image/png:https://www.thedominakatarina.com/wp-content/uploads/2026/03/ISO.png
END:VEVENT
BEGIN:VEVENT
DTSTART;VALUE=DATE:20260329
DTEND;VALUE=DATE:20260330
DTSTAMP:20260423T185408
CREATED:20260325T073453Z
LAST-MODIFIED:20260325T073453Z
UID:1408-1774742400-1774828799@www.thedominakatarina.com
SUMMARY:Customs and Double Sessions with Queen Gia Love
DESCRIPTION:Queen Gia Love and I are available to make your wrestling\, kink\, fetish and FemDom fantasies come to life in Manhattan and Brooklyn! Order your custom clip or book a double–don’t wait and get the sads later because you missed out on the time of your life.
URL:https://www.thedominakatarina.com/event/customs-and-double-sessions-with-queen-gia-love/
LOCATION:NYC\, NY\, United States
CATEGORIES:Announcements & Social Media,Double Sessions,Visiting Providers in NYC
ATTACH;FMTTYPE=image/jpeg:https://www.thedominakatarina.com/wp-content/uploads/2026/03/HEPRC_LbYAAfz3T.jpeg
ORGANIZER;CN="Queen Gia Love":MAILTO:QueenGiaLove@gmail.com
END:VEVENT
END:VCALENDAR