BEGIN:VCALENDAR
VERSION:2.0
PRODID:-//The Domme Kat - ECPv6.15.20//NONSGML v1.0//EN
CALSCALE:GREGORIAN
METHOD:PUBLISH
X-ORIGINAL-URL:https://www.thedominakatarina.com
X-WR-CALDESC:Events for The Domme Kat
REFRESH-INTERVAL;VALUE=DURATION:PT1H
X-Robots-Tag:noindex
X-PUBLISHED-TTL:PT1H
BEGIN:VTIMEZONE
TZID:America/New_York
BEGIN:DAYLIGHT
TZOFFSETFROM:-0500
TZOFFSETTO:-0400
TZNAME:EDT
DTSTART:20250309T070000
END:DAYLIGHT
BEGIN:STANDARD
TZOFFSETFROM:-0400
TZOFFSETTO:-0500
TZNAME:EST
DTSTART:20251102T060000
END:STANDARD
BEGIN:DAYLIGHT
TZOFFSETFROM:-0500
TZOFFSETTO:-0400
TZNAME:EDT
DTSTART:20260308T070000
END:DAYLIGHT
BEGIN:STANDARD
TZOFFSETFROM:-0400
TZOFFSETTO:-0500
TZNAME:EST
DTSTART:20261101T060000
END:STANDARD
BEGIN:DAYLIGHT
TZOFFSETFROM:-0500
TZOFFSETTO:-0400
TZNAME:EDT
DTSTART:20270314T070000
END:DAYLIGHT
BEGIN:STANDARD
TZOFFSETFROM:-0400
TZOFFSETTO:-0500
TZNAME:EST
DTSTART:20271107T060000
END:STANDARD
END:VTIMEZONE
BEGIN:VEVENT
DTSTART;TZID=America/New_York:20260403T200000
DTEND;TZID=America/New_York:20260404T033000
DTSTAMP:20260423T191943
CREATED:20260301T112138Z
LAST-MODIFIED:20260301T112458Z
UID:1356-1775246400-1775273400@www.thedominakatarina.com
SUMMARY:Kink Tastings at Kinklesque - Down The Rabbit Hole (kinky pole show + party) by Pagans Paradise
DESCRIPTION:I’m excited to be back offering kink tastings at Kinklesque: A Kinky Variety Show and Party by Pagans Paradise! This time\, the theme is Down the Rabbit Hole. I can’t wait to see everyone in their feral wonderland ‘fits! \nI’ll be there losing my voice and dollars watching the guaranteed-to-be-excellent performances by out-of-this-world folks. Afterwards\, you’ll get to lose to me on the mats! Don’t forget your tokens and come take a taste of The Domme Kat Experience. \n\n\nDon’t wait until tickets get more $$! Buy your ticket to our kinky wonderland here.\n\n \n\n\nImmersive Pole & Klnk variety show: Wonderland fantasy\, drag\, burlesque\, villains\, ritual\, and a wild after-party. \nA Pagans Paradise Klnky Immersive Theatre & Party Experience \nKlNKLESQUE: DOWN THE RABBIT HOLE – A Klnky Variety Pole Show & After Party 🐇 \nThrough the Looking Glass into a Garden of Earthly Delights\nCuriosity isn’t a sin — it’s an invitation. \nStep through the mirror and leave the ordinary behind as Klnklesque transforms the night into a surreal dreamscape where Wonderland dissolves into a lush pagan fertility realm. Here\, Alice is no longer lost — she is awakened. \nAncient gods and goddesses of desire rise from the soil. Divine bunnies roam. Flowers bloom under candlelight. Bodies become offerings. Movement becomes ritual. \nGuided by The Mad Hatter\, your mischievous master of ceremonies — part trickster\, part oracle — you’ll journey deeper into a realm where reality bends and villains lurk in the shadows to tempt\, test\, claim heads and rule. \nAt the center: a vine-wrapped pole\, the axis of this strange and sensuaI world.— where gravity-defying performances channel devotion\, power\, and raw beauty. \nThis is not a children’s tale. \nThis is rebirth. \nThis is revelry. \nThis is Klnklesque. \nPIeasure and peril dance together beyond the Looking Glass! \nLast Klnklesque was on fire with amazing performers! If you missed out on last times sold out event – secure your place beyond the mirror now and don’t miss out this one of a kind spectacle! \n🌟 WHAT TO EXPECT 🌟\n💃 Spellbinding pole performances dripping in ritual\, strength & seductlon \n🔗 Klnk acts weaving power\, surrender\, and transformation \n👠 Burlesque & drag that is surreal\, decadent\, and deliciously unhinged \n🎤 Performance art & spoken word from the dreamworld and the divine \n🎪 The Mad Hatter as your guide through immersive moments and delicious chaos \n🌸 Living garden atmosphere with roaming characters & interactive surprises \n🌀 A Looking Glass portal experience to cross into the fantasy \nThis is campy\, fiIthy\, fIirty\, and cinematic—a variety show where the strange and sensuaI is explored! \n🧃 Mocktail Mixology Bar \nCrafted by a pro mixologist with sinfully satisfying flavors—zero proof\, all punch. \n🛍️ Curated Vendors \n🎪 Side Performers & Experiences \nRoaming talent and featured pro performers will spark your curiosity and guide your experience \n🎁 Win Free Prizes! \n🎉AFTER PARTY🎉 \nWhen the curtain drops\, the fun begins… \nStay for the after party\, where connection and chaos continue deep into the night with music\, fun and curious areas with space to indulge in the nights air. \nThis part of the evening is a Klnk Themed Party that will have tastings\, sideshow experiences with performances allowing guests to enjoy the rest of the night freely! \nFeaturing: \nDominus Eros – Founder of Pagans Paradise\, Pleasure & Intimacy Guide/Instructor/Coach\, Pro Dom and Tantrika. Dominus will be your host of the evening MCing alongside Sparky! \nPerformers: \nVictor Viero\, Shay AuLait\, Glow Job\, Bruce Whee\, Godis Niya Love and Alana! \nSideshow Experiences: \nFun stations! \nFeatured Pros \n💖 THE VIBE 💖\nKlnklesque is a celebration of performance\, pIeasure\, and joyful induIgence—a place to show out\, take risks\, and revel in deslre without apology. \nEnter the warren. \nFollow your curiosity. \nLose yourself in the garden. \n🌸 DRESS CODE: FERAL WONDERLAND 🌸\nYou are stepping through the Looking Glass into a mythic spring rite. \nThink: \n🐇 Dark Alice\, enchanted bunnies\, surreal tea party couture \n🌿 Fertility gods & goddesses\, temple priestesses\, sacred devotees \n🌸 Florals\, vines\, antlers\, horns\, gold\, body adornment \n✨ Burlesque\, pole-ready looks\, latex\, leather\, lace\, sheer magic \n👑 Drag\, ritual wear\, pagan glamour\, woodland decadence \n🖤 Villains Welcome – Dark Queens\, corrupted deities\, rogue Hatters\, shadow bunnies\, executioners\, dominants\, trickster spirits\, and glamorous monsters of the garden. \nSoft\, divine\, ridiculous\, powerful — all are welcome. \n🚫 No casual wear (jeans unless it is part of a country/western outfit\, sneakers\, basic tees). \nDress like you are a part of the fantasy! \n(You may be turned away if no effort is made.) \nEVENT DETAILS \n💜 Doors Open: 8:00 PM (doors close at 8:30 PM sharp) \n💜 After Party Doors Open: 11pm (doors close 11:30pm sharp) \n💜 Event Ends: 3:30 AM \n💜 Location: Private studio near Union Square(details in confirmation email) \n💜 Accessibility: Walk up 2 flights. \nWHAT TO BRING \n\nDollar Bills for tips (we will have singles to exchange)\nCash\, Venmo\, Cashapp for vendors and tastings\nBYOB/BYOT For After Party – (Your favorite beverages & items/accessories)\n\nTICKETS (Tier Pricing\, Get the tier that is best for you\, lower tiers exist for accessibility)(Tickets offer show only as well as combo show and party to save money!) \n🎟️ General Admission Show Only & Show and Party \n🎟️ Preferred Seating Show Only & Show and Party (access to first 2 rows of chaired seating) \n🎟️ VIP Package (Front-row seating\, ProTime\, 1 Free drink\, early access to party elements\, and goodies which includes promo tickets for workshops/parties!) \n🎟️ After Party Only \n21+ age to join. \nLATE ENTRY & REFUNDS \nTo protect the space and ensure a seamless experience for all\, doors will close promptly. Late arrivals may not be admitted\, and refunds will not be available. No Refunds for this event. \nIMPORTANT NOTICE \nPagans Paradise events are intended for educational and entertainment purposes\, and attendees participate at their own risk. Some events may involve physical or emotional exploration\, and by attending\, you agree to take personal responsibility for your well-being. By attending\, you agree to participate at your own risk\, conduct your own risk management\, and agree to hold the event facilitators and facility harmless for any type of harm that may occur. \nTRIGGER WARNING: The show is meant to be provocative and might have elements that can be triggering for some. Please take care of yourself and take breaks if you need to\, feel free to reach out to staff if you need help. By coming you are also acknowledging that you have be warned of material that might be challenging\, art is art and it may not be for everyone. No refunds will be given in the case that you might have to leave due to show elements. \nNote: Keeping with Eventbrite guidelines\, this event is not sex-based\, hookup style\, explicit or pornographic. This an educational workshop and/or themed social gathering and experience with both theory and practical elements as explained in details below. \nABOUT US \nAt Pagans Paradise\, we believe in creating a welcoming\, joyful space for everyone to explore connection\, dive into a range of educational resources\, and nurture their authentic selves. \n📸 Connect with us on Instagram @pagansparadise. \n📩 Join our newsletter at www.pagansparadise.com. \n📧 Any questions or concerns? Email us at PagansParadiseNYC@gmail.com. \nPagans Paradise has been fostering joy and connection in the community for 10 years.
URL:https://www.thedominakatarina.com/event/kinklesque-down-the-rabbit-hole-kinky-pole-performances-play-party-by-pagans-paradise/
LOCATION:Address given in email confirmation. Please contact Pagans Paradise if paying at door.\, New York\, NY\, United States
CATEGORIES:MiniSessions,Party,Play Party,Play Party,The Domme Kat at...
ATTACH;FMTTYPE=image/jpeg:https://www.thedominakatarina.com/wp-content/uploads/2026/03/Image-3-1-26-at-6.03-AM.jpeg
ORGANIZER;CN="Pagans Paradise":MAILTO:Hello@PagansParadise.com
END:VEVENT
END:VCALENDAR