BEGIN:VCALENDAR
VERSION:2.0
PRODID:-//The Domme Kat - ECPv6.15.20//NONSGML v1.0//EN
CALSCALE:GREGORIAN
METHOD:PUBLISH
X-WR-CALNAME:The Domme Kat
X-ORIGINAL-URL:https://www.thedominakatarina.com
X-WR-CALDESC:Events for The Domme Kat
REFRESH-INTERVAL;VALUE=DURATION:PT1H
X-Robots-Tag:noindex
X-PUBLISHED-TTL:PT1H
BEGIN:VTIMEZONE
TZID:America/New_York
BEGIN:DAYLIGHT
TZOFFSETFROM:-0500
TZOFFSETTO:-0400
TZNAME:EDT
DTSTART:20240310T070000
END:DAYLIGHT
BEGIN:STANDARD
TZOFFSETFROM:-0400
TZOFFSETTO:-0500
TZNAME:EST
DTSTART:20241103T060000
END:STANDARD
BEGIN:DAYLIGHT
TZOFFSETFROM:-0500
TZOFFSETTO:-0400
TZNAME:EDT
DTSTART:20250309T070000
END:DAYLIGHT
BEGIN:STANDARD
TZOFFSETFROM:-0400
TZOFFSETTO:-0500
TZNAME:EST
DTSTART:20251102T060000
END:STANDARD
BEGIN:DAYLIGHT
TZOFFSETFROM:-0500
TZOFFSETTO:-0400
TZNAME:EDT
DTSTART:20260308T070000
END:DAYLIGHT
BEGIN:STANDARD
TZOFFSETFROM:-0400
TZOFFSETTO:-0500
TZNAME:EST
DTSTART:20261101T060000
END:STANDARD
END:VTIMEZONE
BEGIN:VEVENT
DTSTART;VALUE=DATE:20250526
DTEND;VALUE=DATE:20250701
DTSTAMP:20260425T100236
CREATED:20250526T063029Z
LAST-MODIFIED:20250526T063029Z
UID:960-1748217600-1751327999@www.thedominakatarina.com
SUMMARY:New Masturbation Speaker Series on YouTube
DESCRIPTION:SW Survival Guide’s free education about masturbation\, “Maysturbation\,” IS LIVE on our YouTube channel! \nThank you to Chris who gave an incredibly informative and entertaining presentation. \n \nMUSIC “It’s Business” BY King Noire USED WITH PERMISSION. Get that hit and others by the King himself when you visit his website KingNoire.com. 👑 \nVisit SW Survival Guide on YouTube for more of our FREE education for SW and allies! Visit our Linktree for replays of past events and other educational resources like a Know Your Rights PDF and Harm Redux slideshow! \nP.S. Did you know: 100% of all donations (minus any payment platform fees 💳 ) to SW Survival Guide to help keep our educational events and resources FREE for all SWs and allies? 🏳️‍🌈 🏳️‍⚧️ ✊
URL:https://www.thedominakatarina.com/event/swsurvivalguide-sexwork-masturbation-education-free/
LOCATION:online
CATEGORIES:Announcements & Social Media,Speaker Series (online),SW Survival Guide free educational resources
ATTACH;FMTTYPE=image/jpeg:https://www.thedominakatarina.com/wp-content/uploads/2025/05/32.jpg
ORGANIZER;CN="SW Survival Guide":MAILTO:SWSurvivalGuide@protonmail.com
END:VEVENT
END:VCALENDAR