BEGIN:VCALENDAR
VERSION:2.0
PRODID:-//The Domme Kat - ECPv6.15.20//NONSGML v1.0//EN
CALSCALE:GREGORIAN
METHOD:PUBLISH
X-ORIGINAL-URL:https://www.thedominakatarina.com
X-WR-CALDESC:Events for The Domme Kat
REFRESH-INTERVAL;VALUE=DURATION:PT1H
X-Robots-Tag:noindex
X-PUBLISHED-TTL:PT1H
BEGIN:VTIMEZONE
TZID:America/New_York
BEGIN:DAYLIGHT
TZOFFSETFROM:-0500
TZOFFSETTO:-0400
TZNAME:EDT
DTSTART:20250309T070000
END:DAYLIGHT
BEGIN:STANDARD
TZOFFSETFROM:-0400
TZOFFSETTO:-0500
TZNAME:EST
DTSTART:20251102T060000
END:STANDARD
BEGIN:DAYLIGHT
TZOFFSETFROM:-0500
TZOFFSETTO:-0400
TZNAME:EDT
DTSTART:20260308T070000
END:DAYLIGHT
BEGIN:STANDARD
TZOFFSETFROM:-0400
TZOFFSETTO:-0500
TZNAME:EST
DTSTART:20261101T060000
END:STANDARD
BEGIN:DAYLIGHT
TZOFFSETFROM:-0500
TZOFFSETTO:-0400
TZNAME:EDT
DTSTART:20270314T070000
END:DAYLIGHT
BEGIN:STANDARD
TZOFFSETFROM:-0400
TZOFFSETTO:-0500
TZNAME:EST
DTSTART:20271107T060000
END:STANDARD
END:VTIMEZONE
BEGIN:VEVENT
DTSTART;TZID=America/New_York:20260206T190000
DTEND;TZID=America/New_York:20260207T030000
DTSTAMP:20260423T190756
CREATED:20260206T033113Z
LAST-MODIFIED:20260206T033113Z
UID:1302-1770404400-1770433200@www.thedominakatarina.com
SUMMARY:Kinklesque: Cupid’s Hoedown - Kinky Variety Show and Play Party [PROMO CODES]
DESCRIPTION:Kinklesque: Cupid’s Hoedown – A Kinky Variety Show and Play Party like no other!\nA Pagans Paradise Kinky Immersive Theatre & Play Party \nTickets\nPlura: [https://plra.io/m/kinklesquecupidshoedownfeb6?r=dominuseros143] & Tickets Eventbrite: [https://kinklesquecupidshoedownfeb6.eventbrite.com]\nLower Tier are limited be sure to grab before they sell out! \nPssst! Save your coins with these limited promo codes: EROS10\, EROS20\, KLS20. \nFinal attendance will not be reflected on Fetlife as we advertise on multiple sites (Eventbrite\, Plura\, etc.) \n💘 KINKLESQUE: CUPID’S HOEDOWN 💘\nA Rhinestone Rodeo of Desire\, Drag & Delicious Sin \nY’all ready to get wrecked by love? \nWelcome to Cupid’s Hoedown\, where the cherubs wear spurs\, the angels are squaring off\, and love hits like a shot of whiskey straight to the heart. This is not a sweet Valentine—this is romance gone feral\, dipped in glitter\, leather\, and southern heat. \nKinklesque invites you into a twisted honky-tonk fantasy where country camp collides with kink cabaret. Expect rope-twirling Cupids\, heartbreak ballads turned body poetry\, high-drag cowfolk\, and performances that flirt\, tease\, and take you down. Love is the game—and everyone plays dirty. \nThis is a night of seduction with a southern drawl\, where lust rides bareback and pleasure answers to no law but desire. \nLast Kinklesque was on fire with amazing performers! If you missed out on last times sold out event\, be sure to grab your tickets now and don’t miss out this one of a kind spectacle! \n🌟 WHAT TO EXPECT 🌟\n💃 Burlesque that struts\, grinds\, and strips with outlaw charm\n🔗 Kink performances blending rope\, power\, and playful provocation\n👠 High drag cowboys\, cowgirls & cow-thems serving rhinestone realness\n🎤 Spoken word & performance art dripping with longing\, lust\, and loss\n🎪 Immersive sideshow & interactive moments that blur audience and act\n🎯 Themed surprises that might rope you into trouble—or crown you barn royalty\nThis is campy\, filthy\, flirty\, and cinematic—a variety show where love isn’t gentle\, it’s bold.\n🧃 Mocktail Mixology Bar\nCrafted by a pro mixologist with sinfully satisfying flavors—zero proof\, all punch.\n🛍️ Curated Vendors\n🎪 Side Performers & Pro Players\nRoaming talent and featured pro performers will spark your curiosity and guide your pleasure.\n🎁 Win Free Prizes! \n🎉AFTER PARTY🎉\nWhen the curtain drops\, the real play begins…\nStay for the after play party\, where connection and chaos continue deep into the night with music\, play areas\, and space to let loose.\nThis part of the evening is a full on Kink Play Party that will have tastings from pros\, kink and sideshow experiences with more performances plus open play time! \nFeaturing:\n@dominus_eros – Founder of Pagans Paradise\, Pleasure & Intimacy Guide/Instructor/Coach\, Pro Dom and Tantrika. Dominus will be your host of the evening MCing alongside @SparkyKlown! \nPerformers:\n@VictorViero\, Queerly Femmetastic\, Shay AuLait\, Maddafestation\, Pineapple and Alana! \nSideshow Pro Experiences:\nKink Stations with Various Pros!\nFeatured Pros \n💖 THE VIBE 💖\nKinklesque is a playground of performance\, pleasure\, and indulgence—a place to show out\, take risks\, and revel in desire without apology.\nSo saddle up\, sweetheart.\nCupid’s aiming crooked—and everybody’s a target. \n👢 DRESS CODE: COUNTRY CARNAL 👢\nThink rodeo meets red-light romance.\n🤠 Western Fantasy – Cowfolk\, ranch hands\, saloon sirens\, line-dance heartbreakers\n💘 Cupid Gone Rogue – Wings\, harnesses\, bows\, arrows\, hearts with attitude\n🔥 Honky-Tonk Heat – Fringe\, denim\, chaps\, corsets\, boots\, fishnets\, leather\n✨ Drag & Glam – Rhinestones\, lashes\, latex\, sparkle\, drama encouraged\n🚫 No casual wear (jeans unless it is part of a country/western outfit\, sneakers\, basic tees).\nDress like you’re here to steal hearts or break them.\n(You may be turned away if no effort is made.) \nEVENT DETAILS\n💜 Doors Open: 7:00 PM (doors close at 7:30 PM sharp)\n💜 After Party Doors Open: 10:30pm (doors close 11pm sharp)\n💜 Event Ends: 3:00 AM\n💜 Location: Private studio near Union Square (details in confirmation email)\n💜 Accessibility: Walk up 2 flights. \nWHAT TO BRING\nDollar Bills for tips (we will have singles to exchange)\nCash\, Venmo\, Cashapp for vendors and pro tastings\nBYOB/BYOT For After Party – (Your favorite beverages & items/accessories) \nTICKETS (Tier Pricing\, Get the tier that is best for you\, lower tiers exist for accessibility. Tickets offer show only as well as combo show and party to save money!)\n🎟️ General Admission Show Only & Show and Party\n🎟️ Preferred Seating Show Only & Show and Party (access to first 2 rows of chaired seating)\n🎟️ VIP Package (Front-row seating\, Time with a pro\, 1 Free drink\, early access to party elements\, and goodies which includes promo tickets for workshops/parties!)\n🎟️ After Party Only\n21+ age to join. \nLATE ENTRY & REFUNDS\nTo protect the space and ensure a seamless experience for all\, doors will close promptly. Late arrivals may not be admitted\, and refunds will not be available. No Refunds for this event. \nIMPORTANT NOTICE:\nPagans Paradise events are intended for educational and entertainment purposes\, and attendees participate at their own risk. Some events may involve physical or emotional exploration\, and by attending\, you agree to take personal responsibility for your well-being. By attending\, you agree to participate at your own risk\, conduct your own risk management\, and agree to hold the event facilitators and facility harmless for any type of harm that may occur. \nTRIGGER WARNING:\nThe show is meant to be provocative and might have elements that can be triggering for some. Please take care of yourself and take breaks if you need to\, feel free to reach out to staff if you need help. By coming you are also acknowledging that you have be warned of material that might be challenging\, art is art and it may not be for everyone. No refunds will be given in the case that you might have to leave due to show elements. \nABOUT US\nAt Pagans Paradise\, we believe in creating a welcoming\, joyful space for everyone to explore connection\, dive into a range of educational resources\, and nurture their authentic selves.\n📸 Connect with us on Instagram @pagansparadise.\n📩 Join our newsletter at www.pagansparadise.com.\n📧 Any questions or concerns? Email us at PagansParadiseNYC@gmail.com.\nWant to see who’s going\, match\, chat\, and meet the community? Check out on the Plura Community app: https://plra.io/m/org/pagans-paradise\nPagans Paradise has been fostering joy and connection in the community for 10 years.
URL:https://www.thedominakatarina.com/event/kinklesque-cupids-hoedown-kinky-variety-show-and-play-party-promo-codes/
LOCATION:Address given in email confirmation. Please contact Pagans Paradise if paying at door.\, New York\, NY\, United States
CATEGORIES:MiniSessions,Party,Play Party,Play Party,The Domme Kat at...
ATTACH;FMTTYPE=image/jpeg:https://www.thedominakatarina.com/wp-content/uploads/2026/02/Image-2-5-26-at-9.54-PM.jpeg
ORGANIZER;CN="Pagans Paradise":MAILTO:Hello@PagansParadise.com
END:VEVENT
BEGIN:VEVENT
DTSTART;TZID=America/New_York:20260216T190000
DTEND;TZID=America/New_York:20260216T213000
DTSTAMP:20260423T190756
CREATED:20260216T211133Z
LAST-MODIFIED:20260216T211133Z
UID:1317-1771268400-1771277400@www.thedominakatarina.com
SUMMARY:FemDom Wrestling 101 & 201 Workshops
DESCRIPTION:Experience the thrill of control — taking or losing it. Step onto the mat and learn the art of physical Domination and submission. \nJoin me and the Taillor Dommes every 3rd Monday for FemDom Wrestling 101 followed by Wrestling 201. Both classes give you fetish wrestling essentials with an emphasis on Domination by Fierce Femmes and Thems! \nFemDom Wrestling 101 will get you into the action more safely every third Monday of the month at 7 p.m. \nWrestling 201 will take you beyond the into into more classic fetish wrestling holds and submissions. Love pins and chokes? This is the class for you! FemDom Wrestling 201 is every third Monday of the month at 8:30 p.m. \nParticipating Dommes can try out their moves in real time matches with the submissives at the end of class\, if all participants consent. \nYou can come to just one of the workshops\, but I highly recommend coming to both! 101 acts as a prerequisite for the 201 class and repeating myself means less time to learn more advanced variations. \n\n\nTICKET OPTIONS\nReady to submit? Choose the participating sub ticket option and be our practice “dummy.” 😉 All genders welcome. \nAre you a FemDom or looking to learn how to Dominate using just your body? Grab a FemDom ticket and get your body moving on the mats. (Femme-identifying folks only. Sorry cis-men\, this one thing in the world isn’t for you). \nJust want to watch? You can do that\, too! \nATTIRE\nIf you’re getting on the mats with us\, please wear something you’re comfortable moving in. Yoga pants\, gym shorts and other sporty gear is perfect. Fetish wear welcome as long as it isn’t anything that will snag\, scratch or poke. You may come 10 minutes early and get changed in the bathroom. There are small lockers for your stuff. \nPlease\, no: \n\njewelry\, watches or anything pokey that can puncture the mats\, scratch your wrestling partner or snag and injure you.\nshoes on the mats unless they are specifically wrestling boots or a non-street shoe like ballet slippers. You can have bare feet or wear socks\, pantyhose or other foot coverings.\n\nHEALTH AND HYGIENE\nIf you are a human who shaves\, I recommend shaving the night before so you don’t have any broken skin touching the communal mats. Make sure your toenails are trimmed\, you are clean and smell fresh (this includes your breath). Please check yourself for any signs of illness\, skin rashes or lesions. Cover any wounds. \nCurriculum developed by me; workshop produced by The Taillor Group. If you have any questions\, please contact The Crown. \nWe will be practicing RACK: Risk Aware Consensual Kink. BD$M can affect us in mental\, emotional and physical ways. Please check-in with yourself. As with any physical activity\, there is risk of injury. \nThese events are intended for educational and entertainment purposes and attendees participate at their own risk. Some events may involve physical or emotional exploration and by attending\, you agree to take personal responsibility for your well-being. By attending\, you agree to participate at your own risk\, conduct your own risk management and agree to hold the event facilitators and facility harmless for any type of harm that may occur. The Domme Kat and The Taillor Group upholds this platforms community guidelines and all activities within her events are consensual\, respectful and professionally guided. This event is not s3x-based\, hookup style\, explicit or p0rnographic.
URL:https://www.thedominakatarina.com/event/femdom-wrestling-101-201-workshops/
LOCATION:The Crown\, Brooklyn\, NY\, 11207\, United States
CATEGORIES:The Domme Kat at...,Workshops
ATTACH;FMTTYPE=image/jpeg:https://www.thedominakatarina.com/wp-content/uploads/2025/07/PROMO-TheDommeKat-DominaKatarina-Wrestling-CharlotteTaillor-MadameX_CJ_06480-scaled.jpg
END:VEVENT
BEGIN:VEVENT
DTSTART;TZID=America/New_York:20260225T190000
DTEND;TZID=America/New_York:20260225T220000
DTSTAMP:20260423T190756
CREATED:20260115T093202Z
LAST-MODIFIED:20260224T210129Z
UID:1270-1772046000-1772056800@www.thedominakatarina.com
SUMMARY:SOLD OUT! 🎉 | Taste: Wrestling and Ropes (a bondage wrestling workshop and jam) | SOLD OUT! 🎉
DESCRIPTION:SOLD OUT! 🎉\nhttps://forbiddentickets.com/events/the-domme-kat/af9369e3bf \nVoyeur tickets only available. Only door sales available for voyeurs (not for participation). \n \nTICKETS \nWhether you’re just curious or want to take your skills to the next level\, come find out what happens when you wrestle and add ropes to the mix!\nLearn a few ties and tips before letting loose and wrestling with ropes! \nWe start with: \n\nintro and ice breakers\nconsent and scene/match negotiations\nwrestling safety\nrope safety\nuseful ties and positions using specific bondage wrestling ropes (provided)\n\nThen\, go forth and conquer… on the mats! Grab one of your classmates (consensually) and try out your new skills in a mini-match with lots of room to move around. The jam will begin about 8 p.m. \nBeginners welcome.\nAlready a bondage wrestling pro? This jam is part social/part open wrestle time\, so come share the mats! \nParticipation is highly encouraged! Come with a friend or come solo. While a wrestling partner isn’t guaranteed\, you will have an opportunity to connect with other kinksters and bondage wrestling enthusiasts. \nTICKET OPTIONS:\n\nWORKSHOP and JAM: Early Bird Ticket: Single ticket ($25) – still available 1/15/26\nWORKSHOP ONLY: Early Bird Ticket: Single ticket ($20) – still available 1/15/26\nJAM ONLY: Early Bird Ticket: Single ticket ($20) – still available 1/15/26\nWORKSHOP and JAM: Single ticket ($35)\nWORKSHOP ONLY: Single ticket ($25)\nJAM ONLY: Single ticket ($25)\nWORKSHOP – Katarina’s Designated Demo Bottom: Single ticket ($100) – only 1 available!\nWORKSHOP and/or JAM: Registration Only – Pay At The Door ($45)\nWORKSHOP and/or JAM: Pay-What-You-Can for SW\, QTPOC and Financial Hardship – limited number\, min. ticket price $3\nWORKSHOP and/or JAM: Pay-What-You-Can for @thetaillorgroup Dommes – limited number\, min. ticket price $3\nWORKSHOP and/or JAM: Discount Code for (current) @SurrenderParties Volunteers ($15)\nDONATION ONLY (not for entry): Buy a ticket for someone in need! ($25)\n\nWant to be Katarina’s demo bottom? Pick the “Designated Demo Bottom” ticket option and be the person she demonstrates the wrestling moves and ties on! \nATTIRE:\nWear something that you can move freely in (shorts\, yoga pants\, sports bra\, tight fitting t-shirt or rash guard\, bikini). Please leave jewelry at home and avoid anything sharp that could scratch you\, your partner or puncture the mats. \nPLEASE NOTE:\nWe will be practicing RACK: Risk Aware Consensual Kink. BD$M can affect us in mental\, emotional and physical ways. Please check-in with yourself. As with any physical activity\, there is risk of injury. \nThese events are intended for educational and entertainment purposes and attendees participate at their own risk. Some events may involve physical or emotional exploration and by attending\, you agree to take personal responsibility for your well-being. By attending\, you agree to participate at your own risk\, conduct your own risk management and agree to hold the event facilitators and facility harmless for any type of harm that may occur. The Domme Kat upholds this platforms community guidelines and all activities within her events are consensual\, respectful and professionally guided. This event is not s3x-based\, hookup style\, explicit or p0rnographic. \nTICKETS
URL:https://www.thedominakatarina.com/event/taste-wrestling-and-ropes-a-bondage-wrestling-workshop-and-jam/
LOCATION:provided in ticket confirmation email\, near Union Square\, New York\, NY\, United States
CATEGORIES:Jam,Socials,The Domme Kat at...,Workshops
ATTACH;FMTTYPE=image/png:https://www.thedominakatarina.com/wp-content/uploads/2026/01/Taste-Wrestling-Ropes-Bondage-Wrestling-Workshop-and-Jam.png
ORGANIZER;CN="The Domme Kat":MAILTO:theDommeKat@protonmail.com
END:VEVENT
END:VCALENDAR