BEGIN:VCALENDAR
VERSION:2.0
PRODID:-//The Domme Kat - ECPv6.15.20//NONSGML v1.0//EN
CALSCALE:GREGORIAN
METHOD:PUBLISH
X-ORIGINAL-URL:https://www.thedominakatarina.com
X-WR-CALDESC:Events for The Domme Kat
REFRESH-INTERVAL;VALUE=DURATION:PT1H
X-Robots-Tag:noindex
X-PUBLISHED-TTL:PT1H
BEGIN:VTIMEZONE
TZID:America/New_York
BEGIN:DAYLIGHT
TZOFFSETFROM:-0500
TZOFFSETTO:-0400
TZNAME:EDT
DTSTART:20250309T070000
END:DAYLIGHT
BEGIN:STANDARD
TZOFFSETFROM:-0400
TZOFFSETTO:-0500
TZNAME:EST
DTSTART:20251102T060000
END:STANDARD
BEGIN:DAYLIGHT
TZOFFSETFROM:-0500
TZOFFSETTO:-0400
TZNAME:EDT
DTSTART:20260308T070000
END:DAYLIGHT
BEGIN:STANDARD
TZOFFSETFROM:-0400
TZOFFSETTO:-0500
TZNAME:EST
DTSTART:20261101T060000
END:STANDARD
BEGIN:DAYLIGHT
TZOFFSETFROM:-0500
TZOFFSETTO:-0400
TZNAME:EDT
DTSTART:20270314T070000
END:DAYLIGHT
BEGIN:STANDARD
TZOFFSETFROM:-0400
TZOFFSETTO:-0500
TZNAME:EST
DTSTART:20271107T060000
END:STANDARD
END:VTIMEZONE
BEGIN:VEVENT
DTSTART;TZID=America/New_York:20260316T190000
DTEND;TZID=America/New_York:20260316T203000
DTSTAMP:20260423T191552
CREATED:20260302T040512Z
LAST-MODIFIED:20260312T035153Z
UID:1362-1773687600-1773693000@www.thedominakatarina.com
SUMMARY:FemDom Wrestling 101 & 201 Workshops
DESCRIPTION:Experience the thrill of control — taking or losing it. Step onto the mat and learn the art of physical Domination and submission. \nJoin me and the Taillor Dommes every 3rd Monday for FemDom Wrestling 101 followed by Wrestling 201. Both classes give you fetish wrestling essentials with an emphasis on Domination by Fierce Femmes and Thems! \nFemDom Wrestling 101 will get you into the action more safely every third Monday of the month at 7 p.m. \nWrestling 201 will take you beyond the into into more classic fetish wrestling holds and submissions. Love pins and chokes? This is the class for you! FemDom Wrestling 201 is every third Monday of the month at 8:30 p.m. \nParticipating Dommes can try out their moves in real time matches with the submissives at the end of class\, if all participants consent. \nYou can come to just one of the workshops\, but I highly recommend coming to both! 101 acts as a prerequisite for the 201 class and repeating myself means less time to learn more advanced variations. \n\n\nTICKET OPTIONS\nReady to submit? Choose the participating sub ticket option and be our practice “dummy.” 😉 All genders welcome. \nAre you a FemDom or looking to learn how to Dominate using just your body? Grab a FemDom ticket and get your body moving on the mats. (Femme-identifying folks only. Sorry cis-men\, this one thing in the world isn’t for you). \nJust want to watch? You can do that\, too! \nATTIRE\nIf you’re getting on the mats with us\, please wear something you’re comfortable moving in. Yoga pants\, gym shorts and other sporty gear is perfect. Fetish wear welcome as long as it isn’t anything that will snag\, scratch or poke. You may come 10 minutes early and get changed in the bathroom. There are small lockers for your stuff. \nPlease\, no: \n\njewelry\, watches or anything pokey that can puncture the mats\, scratch your wrestling partner or snag and injure you.\nshoes on the mats unless they are specifically wrestling boots or a non-street shoe like ballet slippers. You can have bare feet or wear socks\, pantyhose or other foot coverings.\n\nHEALTH AND HYGIENE\nIf you are a human who shaves\, I recommend shaving the night before so you don’t have any broken skin touching the communal mats. Make sure your toenails are trimmed\, you are clean and smell fresh (this includes your breath). Please check yourself for any signs of illness\, skin rashes or lesions. Cover any wounds. \nCurriculum developed by me; workshop produced by The Taillor Group. If you have any questions\, please contact The Crown. \nWe will be practicing RACK: Risk Aware Consensual Kink. BD$M can affect us in mental\, emotional and physical ways. Please check-in with yourself. As with any physical activity\, there is risk of injury. \nThese events are intended for educational and entertainment purposes and attendees participate at their own risk. Some events may involve physical or emotional exploration and by attending\, you agree to take personal responsibility for your well-being. By attending\, you agree to participate at your own risk\, conduct your own risk management and agree to hold the event facilitators and facility harmless for any type of harm that may occur. The Domme Kat and The Taillor Group upholds this platforms community guidelines and all activities within her events are consensual\, respectful and professionally guided. This event is not s3x-based\, hookup style\, explicit or p0rnographic.
URL:https://www.thedominakatarina.com/event/femdom-wrestling-101-201-workshops-2/
LOCATION:The Crown\, Brooklyn\, NY\, 11207\, United States
CATEGORIES:The Domme Kat at...,Workshops
ATTACH;FMTTYPE=image/jpeg:https://www.thedominakatarina.com/wp-content/uploads/2021/10/DominaKatarinatheDommeKatshooting.jpg
END:VEVENT
END:VCALENDAR