BEGIN:VCALENDAR
VERSION:2.0
PRODID:-//The Domme Kat - ECPv6.15.20//NONSGML v1.0//EN
CALSCALE:GREGORIAN
METHOD:PUBLISH
X-ORIGINAL-URL:https://www.thedominakatarina.com
X-WR-CALDESC:Events for The Domme Kat
REFRESH-INTERVAL;VALUE=DURATION:PT1H
X-Robots-Tag:noindex
X-PUBLISHED-TTL:PT1H
BEGIN:VTIMEZONE
TZID:America/New_York
BEGIN:DAYLIGHT
TZOFFSETFROM:-0500
TZOFFSETTO:-0400
TZNAME:EDT
DTSTART:20240310T070000
END:DAYLIGHT
BEGIN:STANDARD
TZOFFSETFROM:-0400
TZOFFSETTO:-0500
TZNAME:EST
DTSTART:20241103T060000
END:STANDARD
BEGIN:DAYLIGHT
TZOFFSETFROM:-0500
TZOFFSETTO:-0400
TZNAME:EDT
DTSTART:20250309T070000
END:DAYLIGHT
BEGIN:STANDARD
TZOFFSETFROM:-0400
TZOFFSETTO:-0500
TZNAME:EST
DTSTART:20251102T060000
END:STANDARD
BEGIN:DAYLIGHT
TZOFFSETFROM:-0500
TZOFFSETTO:-0400
TZNAME:EDT
DTSTART:20260308T070000
END:DAYLIGHT
BEGIN:STANDARD
TZOFFSETFROM:-0400
TZOFFSETTO:-0500
TZNAME:EST
DTSTART:20261101T060000
END:STANDARD
END:VTIMEZONE
BEGIN:VEVENT
DTSTART;VALUE=DATE:20250805
DTEND;VALUE=DATE:20251001
DTSTAMP:20260425T112527
CREATED:20250806T003500Z
LAST-MODIFIED:20250905T074029Z
UID:1046-1754352000-1759276799@www.thedominakatarina.com
SUMMARY:Let's celebrate the end of summer with a special on sessions! [EXTENDED]
DESCRIPTION:i haven’t been to the beach all summer! I’m looking forward to a day off and finally having a beach day! And one of the fun parts of living life with gratitude means I get to share that feeling with others\, like you. \nHOW TO GET THE SUMMER SPECIAL PRICE\nIf you’re a good pet or someone who makes moves to get what they want\, you know the way to kneel before Me is through My contact form. As you also know\, darling kitten\, screening is mandatory. \nNEXT STEPS\n\nCommunicate with Me briefly to arrange a date\, time (location must be Brooklyn)\nSend the non-refundable deposit\nConsent to inviting My Taillor Domme Friends to watch\n\nExtra good human points if you tip the Dommes who watch. If you’d like Them to participate\, additional tribute applies. \nSpecial can also be applied to 30 minute sessions (Mondays only in Brooklyn). \nOffer ends September 30\, 2025. \nIf you’re ready to feel gratitude (and lots of other things)\, request your session here!\nSome of my friends that can join us:\nDiosa Holly Peño \n \n  \n  \n  \n  \nHurricane Liza \n \n  \n  \n  \n  \n  \nRoyal Payne \n \n  \n  \n  \n  \nCreator X \n \n  \n  \n  \n  \n  \nNina \n \n  \n  \n  \n  \nPriestess Vesta \n  \nDomina Vi \n \n  \n 
URL:https://www.thedominakatarina.com/event/summer-celebration-wrestling-sessions/
LOCATION:The Crown\, Brooklyn\, NY\, 11207\, United States
CATEGORIES:Announcements & Social Media,Sessions,Specials and Sales
ATTACH;FMTTYPE=image/png:https://www.thedominakatarina.com/wp-content/uploads/2025/08/KatBeach.png
ORGANIZER;CN="The Domme Kat":MAILTO:theDommeKat@protonmail.com
END:VEVENT
BEGIN:VEVENT
DTSTART;TZID=America/New_York:20250907T180000
DTEND;TZID=America/New_York:20250907T184500
DTSTAMP:20260425T112527
CREATED:20250905T053819Z
LAST-MODIFIED:20250905T055855Z
UID:1089-1757268000-1757270700@www.thedominakatarina.com
SUMMARY:Forced Bi The Taillors – a Mini-Party!
DESCRIPTION:Ready to be FORCED BI me and the Taillor Dommes? \nFROM THE TAILLOR GROUP:\nNo Voyeur option. Strictly participant only event\, if a ticket holder decides to not participate\, we respect his/her decision but there will be no refunds. \nBe guided and entranced with the erotic joys of man-on-man under the direction of a welcoming Domina. You’ll be gently seduced into my own personal gay fantasy and ordered into all sorts of positions. So cum play with gentlemen\, pretty-boys. \nTICKETS:\nhttps://forcedbi.eventbrite.com\n#KINKY #PLAY #FORCEDBI #M4M \nWho are we?\nThe Taillor Group is a collective of fierce femme-identifying Dommes headquartered in our beautiful residential dungeon in Brooklyn. We are dedicated to the BDSM lifestyle and community\, and offer a range of ways to be involved. \n#TaillorCollective #ToEitherPleaseOrEducate \nWhat is this event?\nOur workshops are social\, group gatherings that bring members of the BDSM community together in a playful and educational setting. Workshops generally run one hour long are intended to be spaces of learning\, and practicing techniques honed in the class. Workshops are not open play-time (unless specifically stated otherwise). \nWhere is The Crown located?\nIn Prospect Lefferts Garden\, Brooklyn. Walking distance from the train. Exact address on confirmation page\, and ticket after purchasing. \nDOOR TIMES:\nDoors for the event will open precisely 5 minutes before starting time and close precisely at 10 minutes after. Please arrive on time for all events. \nTICKETS:\n\nEarly Tickets (Top\, Bottom or Switch) $80;\nLate Tickets (Top\, Bottom or Switch) $120.\n\nNo voyeurs; participant only event. \nGOOD TO KNOW:\nThis event is 21+. The Taillor Collective plays SSC (safe\, sane\, and consensual). \nThe Crown is a space for everyone to feel safe and welcomed. We have a zero-tolerance policy towards any kind of hate within our space. Ableism\, racism\, fatphobia\, transphobia\, homophobia\, misogyny\, and/or misogynoir will result in immediate expulsion. \nSTILL HAVE QUESTIONS?\nCall or text us at +1 (347) 855 4877\, or send an email to events@taillors.com
URL:https://www.thedominakatarina.com/event/forced-bi-the-taillors-a-mini-party-2/
LOCATION:The Crown\, Brooklyn\, NY\, 11207\, United States
CATEGORIES:Party,Socials
ATTACH;FMTTYPE=image/jpeg:https://www.thedominakatarina.com/wp-content/uploads/2025/09/IMG_2135-scaled.jpeg
ORGANIZER;CN="The Domme Kat":MAILTO:theDommeKat@protonmail.com
END:VEVENT
BEGIN:VEVENT
DTSTART;VALUE=DATE:20250922
DTEND;VALUE=DATE:20250924
DTSTAMP:20260425T112527
CREATED:20250921T070407Z
LAST-MODIFIED:20250921T070407Z
UID:1118-1758499200-1758671999@www.thedominakatarina.com
SUMMARY:Monday in Brooklyn: Wax Workshop + Discounted Doubles and Smothering
DESCRIPTION:I’m at The Crown on Monday offering 30-minute (and longer) sessions\, discounted sessions with some of my Taillor group friends and teaching my wax play workshop. (I’ll take your breath away in the Taillors’ smothering workshop on Tuesday). \n7 p.m. DRIP: A Wax Play Workshop\nTICKETS:\nhttps://dripping.eventbrite.com \nBDSM isn’t all about whips and chains; there’s a softer side! Sensation play focuses on the dance our five senses do. With wax play\, we’ll focus on the skin and the pleasure we receive through it. And cleaning up can be just as fun as getting messy! We’ll discuss the various ways to remove the wax from your partner’s skin. From sensual oil massage to the sting of hot wax dripping on bare skin\, let’s explore together. \n$80 – Get a participating sub ticket to be one of my demo bottoms and experience wax play with me and other Dommes. All genders welcome as submissives! \n$15 – If you’re a Femme-identifying Dominant\, there’s a specially priced ticket for you to come and participate under my experienced guidance. \n$30 – Just want to watch? There’s a ticket option for that\, too! \nAll tickets available now! \nThe workshop was developed by me and produced by the Taillor Group (@theTaillorGroup on Fetlife). For even more information\, see the Taillor Group events calendar. \nStreet-wear accepted. CDUS (Clothed Dominant\, Unclothed Submissive) encouraged. Cross-Dressing and fetish wear appreciated. \nWax Play is R.A.C.K. (Risk-Aware Consensual Kink)
URL:https://www.thedominakatarina.com/event/monday-in-brooklyn-wax-workshop-discounted-doubles-and-smothering/
LOCATION:The Crown\, Brooklyn\, NY\, 11207\, United States
CATEGORIES:Double Sessions,Sessions,Specials and Sales,The Domme Kat at...,Workshops
ATTACH;FMTTYPE=image/jpeg:https://www.thedominakatarina.com/wp-content/uploads/2025/09/Image-6-19-25-at-9.49-PM.jpeg
END:VEVENT
END:VCALENDAR