BEGIN:VCALENDAR
VERSION:2.0
PRODID:-//The Domme Kat - ECPv6.15.20//NONSGML v1.0//EN
CALSCALE:GREGORIAN
METHOD:PUBLISH
X-ORIGINAL-URL:https://www.thedominakatarina.com
X-WR-CALDESC:Events for The Domme Kat
REFRESH-INTERVAL;VALUE=DURATION:PT1H
X-Robots-Tag:noindex
X-PUBLISHED-TTL:PT1H
BEGIN:VTIMEZONE
TZID:America/New_York
BEGIN:DAYLIGHT
TZOFFSETFROM:-0500
TZOFFSETTO:-0400
TZNAME:EDT
DTSTART:20250309T070000
END:DAYLIGHT
BEGIN:STANDARD
TZOFFSETFROM:-0400
TZOFFSETTO:-0500
TZNAME:EST
DTSTART:20251102T060000
END:STANDARD
BEGIN:DAYLIGHT
TZOFFSETFROM:-0500
TZOFFSETTO:-0400
TZNAME:EDT
DTSTART:20260308T070000
END:DAYLIGHT
BEGIN:STANDARD
TZOFFSETFROM:-0400
TZOFFSETTO:-0500
TZNAME:EST
DTSTART:20261101T060000
END:STANDARD
BEGIN:DAYLIGHT
TZOFFSETFROM:-0500
TZOFFSETTO:-0400
TZNAME:EDT
DTSTART:20270314T070000
END:DAYLIGHT
BEGIN:STANDARD
TZOFFSETFROM:-0400
TZOFFSETTO:-0500
TZNAME:EST
DTSTART:20271107T060000
END:STANDARD
END:VTIMEZONE
BEGIN:VEVENT
DTSTART;TZID=America/New_York:20260126T190000
DTEND;TZID=America/New_York:20260126T213000
DTSTAMP:20260424T004914
CREATED:20260123T054219Z
LAST-MODIFIED:20260125T035428Z
UID:1276-1769454000-1769463000@www.thedominakatarina.com
SUMMARY:POSTPONED DUE TO WEATHER: Wax Play and Pegging How-To in Brooklyn
DESCRIPTION:More The Domme Kat\, more fun and it’s a double dose of your favorite Domina on Monday at The Crown in Bushwick! \n \nDrip: A Wax Play Workshop\n\nJanuary 26\, 2026 | 7:00 pm – 8:00 pm | $17.85 – $87.21\n\nTICKETS: https://dripping.eventbrite.com \nBDSM isn’t all about whips and chains; there’s a softer side! Sensation play focuses on the dance our five senses do. With wax play\, we’ll focus on the skin and the pleasure we receive through it. And cleaning up can be just as fun as getting messy! We’ll discuss the various ways to remove the wax from your partner’s skin. From sensual oil massage to the sting of hot wax dripping on bare skin\, let’s explore together.\n$80 – Get a participating sub ticket to be one of my demo bottoms and experience wax play with me and other Dommes. All genders welcome as submissives! \n$15 – If you’re a Femme-identifying Dominant\, there’s a specially priced ticket for you to come and participate under my experienced guidance. \n$30 – Not a Femme and/or just looking to watch? There’s a ticket option for that\, too! \nAll tickets available now!\nThe workshop was developed by me and produced by the Taillor Group (@theTaillorGroup on Fetlife). For even more information\, see the main event listing on Fetlife from @TheTaillorGroup or on the Taillor Group events calendar. \nStreet-wear accepted. CDUS (Clothed Dominant\, Unclothed Submissive) encouraged. Cross-Dressing and fetish wear appreciated. \nWax Play is R.A.C.K. (Risk-Aware Consensual Kink)\n \n\n \nThe Taillor Group’s famous PEGFEST!\nJanuary 26\, 2026 | 8:30 pm – 9:30 pm | $17.89 – $102.35 \nTICKETS: https://pegging.eventbrite.com \n\n\nStart with safety and end with… well\, that depends on the ticket you get!\nOne of the main missions of the Taillor Group is to train budding ProDommes. When you buy a ticket to be a participating sub*\, you’re giving us the opportunity to teach\, give demos and provide education to our Domme apprentices. What do you get? You get used by the instructor and the Dommes during the workshop! \nNot a Taillor Domme? That’s OK! Join us if you’re a Dominant Femme.** \nCurious\, but not looking for a hands-on experience? Select a general admission ticket to watch! \nFollow the Taillor Group on FetLife. \n* Submissives of all genders and welcome! \n** CisWomen\, TransWomen\, TransMen and AFAB Non-Binary welcome as Dominants. CisMen\, please buy either a participating sub or general admission ticket. \nIf you’ve never taken my pegging class\, you don’t want to miss this one produced by the Taillor Group (@theTaillorGroup on Fetlife). For even more information\, see the Taillor Group events calendar. \n\n\n\nWhat is The Taillor Group?\nThe Taillor Group is a collective of fierce femme-identifying Dommes headquartered in our beautiful residential dungeon in Brooklyn. We are dedicated to the BDSM lifestyle and community\, and offer a range of ways to be involved. \nWhat is this event?\nOur workshops are social\, group gatherings that bring members of the BDSM community together in a playful and educational setting. Workshops generally run one hour long are intended to be spaces of learning and practicing techniques honed in the class. Workshops are not open play-time (unless specifically stated otherwise). \nWhere is The Crown located?\nIn Bushwick\, Brooklyn. Walking distance from the L train and about a 15 minute walk from the J. Exact address on confirmation page and ticket after purchasing. SCROLL DOWN WHEN YOU RECEIVE THE TICKET CONFIRMATION EMAIL FOR THE EXACT ADDRESS. \nDoor Times:\nDoors for the event will open precisely 10 minutes before starting time and class will start 5 minutes after. Please arrive on time for all events. \nTickets:\nParticipating Sub Ticket: to participate and be used. We welcome participating subs of all genders. \nVoyeur Ticket: only to watch \nParticipating Domme Ticket: for outside Dommes or Dominant Femme identifying folk who wish to try out what they learn in class \nSingle submissive attendees are especially encouraged to attend\, as we use workshops to hone our techniques and better our craft as Dommes. We know you need us… desperately. But\, we need you! \nDress Code:\nCDUS (Clothed Dominant\, Unclothed Submissive) permitted. Cross-dressing and fetish wear appreciated. \nGood To Know:\nThis event is 21+- The Taillor Collective plays SSC (safe\, sane\, and consensual). \nSTILL HAVE QUESTIONS?\nCall or text us at +1 (347) 855 4877\, or send an email to events@taillors.com \nNO REFUNDS\n 
URL:https://www.thedominakatarina.com/event/wax-play-and-pegging-how-to-in-brooklyn/
LOCATION:The Crown\, Brooklyn\, NY\, 11207\, United States
CATEGORIES:The Domme Kat at...,Workshops
ATTACH;FMTTYPE=image/jpeg:https://www.thedominakatarina.com/wp-content/uploads/2024/07/IMG_7522.jpeg
END:VEVENT
END:VCALENDAR