BEGIN:VCALENDAR
VERSION:2.0
PRODID:-//The Domme Kat - ECPv6.15.20//NONSGML v1.0//EN
CALSCALE:GREGORIAN
METHOD:PUBLISH
X-WR-CALNAME:The Domme Kat
X-ORIGINAL-URL:https://www.thedominakatarina.com
X-WR-CALDESC:Events for The Domme Kat
REFRESH-INTERVAL;VALUE=DURATION:PT1H
X-Robots-Tag:noindex
X-PUBLISHED-TTL:PT1H
BEGIN:VTIMEZONE
TZID:America/New_York
BEGIN:DAYLIGHT
TZOFFSETFROM:-0500
TZOFFSETTO:-0400
TZNAME:EDT
DTSTART:20250309T070000
END:DAYLIGHT
BEGIN:STANDARD
TZOFFSETFROM:-0400
TZOFFSETTO:-0500
TZNAME:EST
DTSTART:20251102T060000
END:STANDARD
BEGIN:DAYLIGHT
TZOFFSETFROM:-0500
TZOFFSETTO:-0400
TZNAME:EDT
DTSTART:20260308T070000
END:DAYLIGHT
BEGIN:STANDARD
TZOFFSETFROM:-0400
TZOFFSETTO:-0500
TZNAME:EST
DTSTART:20261101T060000
END:STANDARD
BEGIN:DAYLIGHT
TZOFFSETFROM:-0500
TZOFFSETTO:-0400
TZNAME:EDT
DTSTART:20270314T070000
END:DAYLIGHT
BEGIN:STANDARD
TZOFFSETFROM:-0400
TZOFFSETTO:-0500
TZNAME:EST
DTSTART:20271107T060000
END:STANDARD
END:VTIMEZONE
BEGIN:VEVENT
DTSTART;TZID=America/New_York:20260224T190000
DTEND;TZID=America/New_York:20260224T200000
DTSTAMP:20260423T190548
CREATED:20260224T204818Z
LAST-MODIFIED:20260224T205052Z
UID:1329-1771959600-1771963200@www.thedominakatarina.com
SUMMARY:Smothering 101 - A BDSM Workshop
DESCRIPTION:Guess who’s stepping in tonight? \nOr rather sitting on? \nWax play and pegging were cancelled on Monday due to the snow (and Taste: Wrestling and Rope – a bondage wrestling workshop and jam is SOLD OUT tomorrow)\, but you can get your The Domme Kat fix TONIGHT at The Crown in Bushwick! \nMy ass is going to high-5 your face along with my Domme friends’ so get your last minute ticket now or purchase at the door. xo \n\nJoin @theTaillorGroup to learn about smothering (or to get smothered)! \nAbout this event:\nThis workshop will be covering Smothering and Breath Play! \nHave you ever been asked to do butt drops\, but weren’t sure exactly what that entailed? Now you will (and you will find out how much fun they are!). Learn how to smother safely\, incorporate other kinks into it\, make smothering interesting for yourself\, pros/cons of different positions\, and maybe play a game of peek-a-boo with participating subs and your butt haha. You will also learn about safety and ways to do breath play\, and have an introduction on how to incorporate that into your scenes. Open to all skill levels. \n#TaillorCollective #ToEitherPleaseOrEducate \nWho are we?\nThe Taillor Group is a collective of fierce femme-identifying Dommes headquartered in our beautiful residential dungeon in Bushwick. We are dedicated to the BDSM lifestyle and community\, and offer a range of ways to be involved. \nWhat is this event?\nOur workshops are social\, group gatherings that bring members of the BDSM community together in a playful and educational setting. Workshops generally run one hour long are intended to be spaces of learning\, and practicing techniques honed in the class. Workshops are not open play-time (unless specifically stated otherwise). \nWhere is The Crown located?\nIn Bushwick\, Brooklyn. Walking distance from the train. Exact address on confirmation page\, and ticket after purchasing. \nDOOR TIMES:\nDoors for the event will open precisely 5 minutes before starting time and close precisely at 10 minutes after. Please arrive on time for all events. \nTICKETS:\n\nParticipating Sub Ticket: to participate and be used during demos. We welcome participating subs of all genders.\nGeneral Admission Ticket: only to watch.\nParticipating Domme Ticket: For outside dommes\, or dominant femme identifying folk who wish to try out what they learn in class.\n\nSingle submissive attendees are especially encouraged to attend\, as we use workshops to hone our techniques and better our craft as Dommes. We know you need us… desperately. But\, we need you! \nDress Code:\nCDUS (Clothed Dominant\, Unclothed Submissive) encouraged. Cross-Dressing and fetishwear appreciated. \nGOOD TO KNOW:\nThis event is 21+. The Taillor Collective plays SSC (safe\, sane\, and consensual). \nThe Crown is a space for everyone to feel safe and welcomed. We have a zero-tolerance policy towards any kind of hate within our space. Ableism\, racism\, fatphobia\, transphobia\, homophobia\, misogyny\, and/or misogynoir will result in immediate expulsion. \nSTILL HAVE QUESTIONS?\nCall or text us at +1 (347) 855 4877\, or send an email to events@taillors.com \nNO REFUNDS
URL:https://www.thedominakatarina.com/event/smothering-101-a-bdsm-workshop/
LOCATION:The Crown\, Brooklyn\, NY\, 11207\, United States
CATEGORIES:The Domme Kat at...,Workshops
ATTACH;FMTTYPE=image/jpeg:https://www.thedominakatarina.com/wp-content/uploads/2026/02/BigBooty-GetMoreInFanClub-bit.ly_Loyal2Kat-BigAss-BigButt.jpg
END:VEVENT
END:VCALENDAR