BEGIN:VCALENDAR
VERSION:2.0
PRODID:-//The Domme Kat - ECPv6.15.20//NONSGML v1.0//EN
CALSCALE:GREGORIAN
METHOD:PUBLISH
X-ORIGINAL-URL:https://www.thedominakatarina.com
X-WR-CALDESC:Events for The Domme Kat
REFRESH-INTERVAL;VALUE=DURATION:PT1H
X-Robots-Tag:noindex
X-PUBLISHED-TTL:PT1H
BEGIN:VTIMEZONE
TZID:America/New_York
BEGIN:DAYLIGHT
TZOFFSETFROM:-0500
TZOFFSETTO:-0400
TZNAME:EDT
DTSTART:20250309T070000
END:DAYLIGHT
BEGIN:STANDARD
TZOFFSETFROM:-0400
TZOFFSETTO:-0500
TZNAME:EST
DTSTART:20251102T060000
END:STANDARD
BEGIN:DAYLIGHT
TZOFFSETFROM:-0500
TZOFFSETTO:-0400
TZNAME:EDT
DTSTART:20260308T070000
END:DAYLIGHT
BEGIN:STANDARD
TZOFFSETFROM:-0400
TZOFFSETTO:-0500
TZNAME:EST
DTSTART:20261101T060000
END:STANDARD
BEGIN:DAYLIGHT
TZOFFSETFROM:-0500
TZOFFSETTO:-0400
TZNAME:EDT
DTSTART:20270314T070000
END:DAYLIGHT
BEGIN:STANDARD
TZOFFSETFROM:-0400
TZOFFSETTO:-0500
TZNAME:EST
DTSTART:20271107T060000
END:STANDARD
END:VTIMEZONE
BEGIN:VEVENT
DTSTART;TZID=America/New_York:20260423T190000
DTEND;TZID=America/New_York:20260423T220000
DTSTAMP:20260423T232259
CREATED:20260301T102450Z
LAST-MODIFIED:20260403T051706Z
UID:1349-1776970800-1776981600@www.thedominakatarina.com
SUMMARY:Pinned By Love: Sapphic Speed Dating and Wrestling
DESCRIPTION:I’m so excited to collaborate with @SheMagickEvents to bring you speed dating with a wrestling twist! Start off flirting\, end up wrestling. 😈 \n\nLooking for love and connection but would rather not do it the usual way\, whether at a bar or on an app? SheMagick Events and The Domme Kat present a fun and unique way to answer the “is there chemistry” question. Together we’ll explore\, movement\, touch\, and creativity with this sapphic wrestling dating event. No\, you won’t be body slamming your potential crush (not unless you want to\, of course😉. This is an event for beginners to be able to explore joy filled play while getting to know each other deeper. \nWrestling is sporty\, fun\, sexy and a super unique way to form connection. Whether you’re an athletic person or just curious about connecting with new partners or friends in a playful and exciting way\, come explore wrestling with your queer community.\nCome experience wrestling in a space built for sapphic\, T/GNC folks! This event is not for cis men. If you do not fit the demographic\, do NOT purchase a ticket. You will not be given a refund for a purchase “by mistake.” Trans Men are welcome! \nWhat Can I Expect?\nThe night will begin with icebreakers meant to help everyone get to know each other and loosen up. \nYou’ll then learn how to safely start the wrestling action\, a few easy and beginner moves to try out\, and some steamy ways to show off on the mats (or in the bedroom). \nAfter the structured\, learning portion open play will begin.\nVarious card and board games will be on hand (during open play) to allow for breaks and/or other ways to form connection outside of wrestling. \nAttire\nIf you’re getting on the mats with us\, please wear something you’re comfortable moving in. Yoga pants\, gym shorts\, sports bras\, and other sporty gear are perfect. Please leave jewelry at home and avoid anything sharp that could scratch you\, your new crush\, or puncture the mats. Even if NOT getting on the mats\, the venue is a shoeless space. You can wear socks or slippers if you don’t want to be barefooted (no street shoes). \nPlease No\nJewelry\, watches or anything pokey that can puncture the mats\, scratch your wrestling partner or snag and injure you.\nShoes on the mats unless they are specifically wrestling boots or a non-street shoe like ballet slippers. You can have bare feet\, socks\, or other soft foot coverings. \nBaggy clothes you and your new friend (or crush) will get tangled in. \nHealth And Hygiene\nIf you are a human who shaves\, I recommend shaving the night before so you don’t have any broken skin touching the communal mats. Make sure your toenails are trimmed\, you are clean and smell fresh (this includes your breath. You’re going to be getting close folks). Please check yourself for any signs of illness\, skin rashes or lesions. Cover any wounds. \nA limited number of donation based tickets are available for SW\, QTBIPOC folks\, & financial hardship. Suggested Donation: $10-$20 \nFAQ\nCan I come if I am poly and seeking more partner connections?\nYes\, you are welcome whether you are poly or monogamous. All relationship styles are welcome \nIs this event open to trans men?\nYes\, if women-aligned spaces work for you\, you are very welcome to join us. \nWill the wrestling be intense?\nNo\, this event is for beginners AND people seeking romantic connections. The wrestling will allow for connection and be kept easy for you to learn and try out. You do not need to be some super athlete to come and enjoy. \nCan I bring a friend?\nOf course\, you are welcome to bring someone who fits the demographic of this event. Especially if they will help you feel comfortable\, and will enjoy participating\, watching\, or playing the card/board games on the side and chatting with others in the space. \nDo I have to participate in the open play afterwards?\nNo\, there will be other games and activities in the space for folks to still be able to connect. \nWill there be refreshments?\nYes\, we will have a few snack items to munch on! We will also have red and white wine available. \n \n\nWant to see more of what I have coming up? Check out my events calendar\, LinkTree\, and join my Fetlife group “The Domme Kat’s Events.”
URL:https://www.thedominakatarina.com/event/save-the-date-sapphic-speed-dating-and-wrestling/
LOCATION:provided in ticket confirmation email\, near Union Square\, New York\, NY\, United States
CATEGORIES:Guest Instructor or Collaboration,Party
ATTACH;FMTTYPE=image/jpeg:https://www.thedominakatarina.com/wp-content/uploads/2026/03/FLYER_PinnedByLove-Wrestling-SpeedDating-Sapphic_SheMagick-TheDommeKat-copy-scaled.jpg
ORGANIZER;CN="The Domme Kat":MAILTO:theDommeKat@protonmail.com
END:VEVENT
BEGIN:VEVENT
DTSTART;TZID=America/New_York:20260426T160000
DTEND;TZID=America/New_York:20260426T170000
DTSTAMP:20260423T232259
CREATED:20260416T091158Z
LAST-MODIFIED:20260416T094425Z
UID:1458-1777219200-1777222800@www.thedominakatarina.com
SUMMARY:DATE CHANGE! Consensual SPH Workshop
DESCRIPTION:Small Penis Humiliation is usually on the 3rd Sunday of the month\, but I’ll be celebrating my birthday that weekend. Instead\, I’ll see you the following Sunday as I get in from my trip to Poughkeepsie… and I’ll probably be mean and definitely ready to laugh. 😉 \nFrom The Taillor Group\n\n\nA workshop about ethical erotic humiliation and SPH\n\n\n\nEthical & Consensual\nErotic Humiliation with focus on SPH (Small Penis Humiliation) \nYes\, it’s a thing and\, yes\, respectful newbies are welcome. \nThis is a 21+ event. \n#EroticHumiliation #SoTiny #SPH #BDSM #TaillorCollective #ToEitherPleaseOrEducate\nWho are we? \nThe Taillors are a group of kinksters led by femme-identifying Dommes. We’re headquartered in a residential dungeon in Brooklyn\, but also host events in partner spaces in Manhattan. We are dedicated to the BDSM lifestyle and community\, and offer a range of ways to be involved. \nWhat is this event? \nOur workshops are social\, group gatherings that bring members of the BDSM community together in a playful and educational setting. \nDOOR TIMES: \nDoors for the event will open precisely 5 minutes before starting time and close precisely at 10 minutes after. Please arrive on time for all events. \nTICKETS: \nParticipating Sub Ticket: get hurt. We welcome participating subs of all genders. \nParticipating Domme Ticket: For outside dommes\, or dominant femme identifying folk who wish to participate as much as allowed by the host. \nDress Code: \nCDUS (Clothed Dominant\, Unclothed Submissive) encouraged. Cross-Dressing and fetishwear appreciated. \nGOOD TO KNOW: \nThis event is 21+- The Taillor Collective plays SSC (safe\, sane\, and consensual) \nSTILL HAVE QUESTIONS? \nCall or text us at +1 (347) 855 4877\, or send an email to events@taillors.com \nNO REFUNDS
URL:https://www.thedominakatarina.com/event/date-change-consensual-sph-workshop-the-taillor-group/
LOCATION:secret location in lower Mahattan
CATEGORIES:The Domme Kat at...,Workshops
ATTACH;FMTTYPE=image/jpeg:https://www.thedominakatarina.com/wp-content/uploads/2026/04/SN_07878.jpg
END:VEVENT
BEGIN:VEVENT
DTSTART;TZID=America/New_York:20260426T160000
DTEND;TZID=America/New_York:20260426T170000
DTSTAMP:20260423T232259
CREATED:20260423T062411Z
LAST-MODIFIED:20260423T065424Z
UID:1470-1777219200-1777222800@www.thedominakatarina.com
SUMMARY:DATE CHANGE FOR Foot Fetish!
DESCRIPTION:Join me and The Taillor Group in a sexy spot in Manhattan THIS SUNDAY for Oh My Feet! A Foot Fetish Workshop at 4 p.m. Let’s talk about what we love doing with or having done to our feet. Why do we like them? Do we like shoes/socks/pantyhose? Come impress me with your best foot massage techniques!\nDid you forget a sweet gift for my birthday? There’s still time! Best gift? CASH or ZEC! But I also love gummy candy (like Nerds Clusters)\, 420 treats for sleep\, skincare for my booty\, sneakers (8.5 usually)\, workout clothes (XL pants\, L top is usually a safe guess)\, items from my wishlist\, gift cards (Seamless/GrubHub\, Lyft\, Amazon\, Visa). And the cafe next to the workshops makes an incredible pistachio latte! \nBe my demo bottom when you purchase the participating sub ticket. You might even get stepped on by the Taillor Dommes! Dominant Femmes\, opt for the FemDom ticket and get in on the fun. If you want to watch\, select the General Admission ticket. \nThis workshop is produced by The Taillor Group. If you have any questions\, please contact The Crown.
URL:https://www.thedominakatarina.com/event/date-time-change-for-foot-fetish/
LOCATION:secret location in lower Mahattan
CATEGORIES:The Domme Kat at...,Workshops
ATTACH;FMTTYPE=image/png:https://www.thedominakatarina.com/wp-content/uploads/2026/02/fsb_8.png
END:VEVENT
END:VCALENDAR