BEGIN:VCALENDAR
VERSION:2.0
PRODID:-//The Domme Kat - ECPv6.15.20//NONSGML v1.0//EN
CALSCALE:GREGORIAN
METHOD:PUBLISH
X-ORIGINAL-URL:https://www.thedominakatarina.com
X-WR-CALDESC:Events for The Domme Kat
REFRESH-INTERVAL;VALUE=DURATION:PT1H
X-Robots-Tag:noindex
X-PUBLISHED-TTL:PT1H
BEGIN:VTIMEZONE
TZID:America/New_York
BEGIN:DAYLIGHT
TZOFFSETFROM:-0500
TZOFFSETTO:-0400
TZNAME:EDT
DTSTART:20240310T070000
END:DAYLIGHT
BEGIN:STANDARD
TZOFFSETFROM:-0400
TZOFFSETTO:-0500
TZNAME:EST
DTSTART:20241103T060000
END:STANDARD
BEGIN:DAYLIGHT
TZOFFSETFROM:-0500
TZOFFSETTO:-0400
TZNAME:EDT
DTSTART:20250309T070000
END:DAYLIGHT
BEGIN:STANDARD
TZOFFSETFROM:-0400
TZOFFSETTO:-0500
TZNAME:EST
DTSTART:20251102T060000
END:STANDARD
BEGIN:DAYLIGHT
TZOFFSETFROM:-0500
TZOFFSETTO:-0400
TZNAME:EDT
DTSTART:20260308T070000
END:DAYLIGHT
BEGIN:STANDARD
TZOFFSETFROM:-0400
TZOFFSETTO:-0500
TZNAME:EST
DTSTART:20261101T060000
END:STANDARD
END:VTIMEZONE
BEGIN:VEVENT
DTSTART;TZID=America/New_York:20251221T170000
DTEND;TZID=America/New_York:20251221T180000
DTSTAMP:20260424T050036
CREATED:20251217T073305Z
LAST-MODIFIED:20251217T073305Z
UID:1234-1766336400-1766340000@www.thedominakatarina.com
SUMMARY:Impact 101 by The Taillor Group in Manhattan
DESCRIPTION:Learn and Experience Impact Play with The Taillors! \nWhether you’re looking to get struck on the spot or to learn the basics of a good hit\, don’t hesitate. Get in on this thrilling experience! \n#BDSM #Impact #TaillorCollective #ToEitherPleaseOrEducate \nTICKETS:\n🎟️ https://impactbasics.eventbrite.com \nParticipating Sub Ticket: get hurt. We welcome participating subs of all genders.\nParticipating Domme Ticket: For outside dommes\, or dominant femme identifying folk who wish to participate as much as allowed by the host. \nDress Code:\nCDUS (Clothed Dominant\, Unclothed Submissive) encouraged. Cross-Dressing and fetishwear appreciated. \nThis is a 21+ event.\n#TaillorCollective #ToEitherPleaseOrEducate\nThe Taillor Collective plays SSC (safe\, sane\, and consensual).\nQuestions? Call or text us at +1 (347) 855 4877\, or send an email to events@taillors.com
URL:https://www.thedominakatarina.com/event/impact-101-taillor-group-nyc/
LOCATION:secret location in lower Mahattan
CATEGORIES:The Domme Kat at...,Workshops
ATTACH;FMTTYPE=image/png:https://www.thedominakatarina.com/wp-content/uploads/2025/12/images.png
END:VEVENT
END:VCALENDAR