BEGIN:VCALENDAR
VERSION:2.0
PRODID:-//The Domme Kat - ECPv6.15.20//NONSGML v1.0//EN
CALSCALE:GREGORIAN
METHOD:PUBLISH
X-ORIGINAL-URL:https://www.thedominakatarina.com
X-WR-CALDESC:Events for The Domme Kat
REFRESH-INTERVAL;VALUE=DURATION:PT1H
X-Robots-Tag:noindex
X-PUBLISHED-TTL:PT1H
BEGIN:VTIMEZONE
TZID:America/New_York
BEGIN:DAYLIGHT
TZOFFSETFROM:-0500
TZOFFSETTO:-0400
TZNAME:EDT
DTSTART:20250309T070000
END:DAYLIGHT
BEGIN:STANDARD
TZOFFSETFROM:-0400
TZOFFSETTO:-0500
TZNAME:EST
DTSTART:20251102T060000
END:STANDARD
BEGIN:DAYLIGHT
TZOFFSETFROM:-0500
TZOFFSETTO:-0400
TZNAME:EDT
DTSTART:20260308T070000
END:DAYLIGHT
BEGIN:STANDARD
TZOFFSETFROM:-0400
TZOFFSETTO:-0500
TZNAME:EST
DTSTART:20261101T060000
END:STANDARD
BEGIN:DAYLIGHT
TZOFFSETFROM:-0500
TZOFFSETTO:-0400
TZNAME:EDT
DTSTART:20270314T070000
END:DAYLIGHT
BEGIN:STANDARD
TZOFFSETFROM:-0400
TZOFFSETTO:-0500
TZNAME:EST
DTSTART:20271107T060000
END:STANDARD
END:VTIMEZONE
BEGIN:VEVENT
DTSTART;TZID=America/New_York:20260417T160000
DTEND;TZID=America/New_York:20260417T170000
DTSTAMP:20260423T173205
CREATED:20260416T085701Z
LAST-MODIFIED:20260416T092920Z
UID:1448-1776441600-1776445200@www.thedominakatarina.com
SUMMARY:Foot Fetish for My Birthday Weekend!
DESCRIPTION:Join me and the Taillor Group in a sexy spot in Manhattan THIS FRIDAY for Oh My Feet! A Foot Fetish Workshop at 4 p.m. Let’s talk about what we love doing with or having done to our feet. Why do we like them? Do we like shoes/socks/pantyhose? I know I love a good foot massage!\nRemembering a sweet gift for my birthday weekend would be much appreciated! I always spoil those who spoil me back… Best gift? CASH or ZEC! But I also love gummy candy (like Peelerz and High Chew)\, edible 420 treats for sleep\, skincare for my booty\, a mani/pedicure\, chocolate-covered strawberries and cherries\, sneakers (8.5 usually)\, workout clothes (XL pants\, L top is usually a safe guess)\, items from my wishlist\, gift cards (Seamless/GrubHub\, Lyft\, Amazon\, Visa).  \nBe my demo bottom when you purchase the participating sub ticket. You might even get stepped on by the Taillor Dommes! Dominant Femmes\, opt for the FemDom ticket and get in on the fun. If you want to watch\, select the General Admission ticket. \n\nThis workshop is produced by The Taillor Group. If you have any questions\, please contact The Crown.
URL:https://www.thedominakatarina.com/event/foot-fetish-for-my-birthday-weekend/
LOCATION:secret location in lower Mahattan
CATEGORIES:Announcements & Social Media,The Domme Kat at...,Workshops
ATTACH;FMTTYPE=image/png:https://www.thedominakatarina.com/wp-content/uploads/2026/02/fsb_8.png
END:VEVENT
END:VCALENDAR