BEGIN:VCALENDAR
VERSION:2.0
PRODID:-//The Domme Kat - ECPv6.15.20//NONSGML v1.0//EN
CALSCALE:GREGORIAN
METHOD:PUBLISH
X-WR-CALNAME:The Domme Kat
X-ORIGINAL-URL:https://www.thedominakatarina.com
X-WR-CALDESC:Events for The Domme Kat
REFRESH-INTERVAL;VALUE=DURATION:PT1H
X-Robots-Tag:noindex
X-PUBLISHED-TTL:PT1H
BEGIN:VTIMEZONE
TZID:America/New_York
BEGIN:DAYLIGHT
TZOFFSETFROM:-0500
TZOFFSETTO:-0400
TZNAME:EDT
DTSTART:20240310T070000
END:DAYLIGHT
BEGIN:STANDARD
TZOFFSETFROM:-0400
TZOFFSETTO:-0500
TZNAME:EST
DTSTART:20241103T060000
END:STANDARD
BEGIN:DAYLIGHT
TZOFFSETFROM:-0500
TZOFFSETTO:-0400
TZNAME:EDT
DTSTART:20250309T070000
END:DAYLIGHT
BEGIN:STANDARD
TZOFFSETFROM:-0400
TZOFFSETTO:-0500
TZNAME:EST
DTSTART:20251102T060000
END:STANDARD
BEGIN:DAYLIGHT
TZOFFSETFROM:-0500
TZOFFSETTO:-0400
TZNAME:EDT
DTSTART:20260308T070000
END:DAYLIGHT
BEGIN:STANDARD
TZOFFSETFROM:-0400
TZOFFSETTO:-0500
TZNAME:EST
DTSTART:20261101T060000
END:STANDARD
END:VTIMEZONE
BEGIN:VEVENT
DTSTART;TZID=America/New_York:20251212T190000
DTEND;TZID=America/New_York:20251213T030000
DTSTAMP:20260424T060346
CREATED:20251112T023543Z
LAST-MODIFIED:20251112T023543Z
UID:1212-1765566000-1765594800@www.thedominakatarina.com
SUMMARY:Kinklesque: The North Pole - Kinky Variety Show & Party
DESCRIPTION:A Pagans Paradise Kinky Immersive Theatre & Play Party \nKinklesque: The North Pole – A Kinky Variety Show and Play Party like no other! \nTickets Plura: [https://plra.io/m/kinklesquethenorthpoledec12?r=dominuseros143] & Tickets Eventbrite: [https://kinklesquethenorthpoledec12.eventbrite.com]\nLower Tier are limited be sure to grab before they sell out! \nFinal attendance will not be reflected here as we advertise on multiple sites (eventbrite\, plura\, etc) \n🎄The North Pole – A Naughty Holiday Cabaret 🎅✨ \nWelcome to The North Pole\, where the tinsel twirls\, the elves serve looks\, and Santa’s got a brand-new kind of lap dance. \nForget everything you thought you knew about the season of giving—this is where Christmas gets queer\, kinky\, and unapologetically extra. \nJoin us for a winter wonderland of burlesque\, drag\, pole\, poetry\, and performance that sleighs the line between naughty and nice. \nFrom gravity-defying pole dancers dripping in glitter to sultry burlesque elves and high-drama drag divas\, our performers will melt the snow right off your boots. \nOur North Pole isn’t about toy workshops or reindeer games—it’s a glittering cabaret run by the fiercest Santa in town\, serving sass\, smut\, and seasonal spice in equal measure.\nExpect jaw-dropping acts\, immersive surprises\, and a cast of iconic misfits who redefine what it means to be on the “nice list.” \nWhen the curtain falls\, the afterparty begins—where the drinks are flowing\, the music is hot\, and the elves are absolutely not on their best behavior. \n💋 Kinklesque: The North Pole—where every stocking gets stuffed\, and everyone leaves a little more jolly. \nLast Kinklesque was on fire with amazing performers! If you missed out on last times sold out event\, be sure to grab your tickets now and don’t miss out this one of a kind spectacle! \n🌟 Expect the Unexpected — this is a sleigh ride through glitter\, grit\, and sinful holiday glam. 🌟\n🔥 Burlesque that unpacks Santa’s naughtiest secrets\n🔗 Kink performances wrapped in ribbons and red-hot desire\n💋 Slam poetry that toasts to lust\, love\, and late-night miracles\n👠 Drag so iconic it could melt the North Pole\n🎪 Sideshow & immersive moments that blur naughty and nice\n🎭 Themed surprises that might earn you a kiss—or get you on Santa’s bad list \n🧃 Mocktail Mixology Bar\nCrafted by a pro mixologist with sinfully satisfying flavors—zero proof\, all punch.\n🛍️ Curated Vendors\n🎪 Side Performers & Pro Players\nRoaming talent and featured pro performers will spark your curiosity and guide your pleasure.\n🎁 Win Free Prizes! \n🎉AFTER PARTY🎉\nWhen the curtain drops\, the real play begins…\nStay for the after play party\, where connection and chaos continue deep into the night with music\, play areas\, and space to let loose.\nThis part of the evening is a full on Kink Play Party that will have tastings from pros\, kink and sideshow experiences with more performances plus open play time! \nFeaturing:\nDominus Eros – Founder of Pagans Paradise\, Pleasure & Intimacy Guide/Instructor/Coach\, Pro Dom and Tantrika. Dominus will be your host of the evening MCing alongside Angel! \nPerformers:\nVictor Viero\, Godis Niya Love\, Bruce Whee\, Pineapple and Alana! \nSideshow Pro Experiences:\nKink Stations with Various Pros!\nFeatured Pros \nKinklesque: The North Pole is a glittering den of performance\, pleasure\, and play—serve looks\, slay the holiday\, and revel in sinful cheer. \n👗 DRESS CODE: Naughty or Ice Queen Chic\n✨ North Pole Glam – Glittering snow angels\, rhinestone reindeer\, sexy Santas\, sugar plum vixens\, or elf-on-elf action.\n💋 Holiday Cabaret – Corsets\, sequins\, bodysuits\, velvet robes\, or pole-ready attire with a festive twist.\n🖤 Fet Flair – Harnesses\, leather\, latex\, or winter lace encouraged. Add fur trims\, candy cane cuffs\, or a bow on top.\n🚫 No casual wear (jeans\, T-shirts\, sneakers\, or hoodies).\nMake it frosty\, make it filthy—make it iconic.\n(You can be turned away at the door if you do not put in effort.) \nEVENT DETAILS\n💜 Doors Open: 7:00 PM (doors close at 7:30 PM sharp)\n💜 After Party Doors Open: 10:30pm (doors close 11pm sharp)\n💜 Event Ends: 3:00 AM\n💜 Location: Private studio near Union Square(details in confirmation email)\n💜 Accessibility: Walk up 2 flights. \nWHAT TO BRING\nDollar Bills for tips (we will have singles to exchange)\nCash\, Venmo\, Cashapp for vendors and pro tastings\nBYOB/BYOT For After Party – (Your favorite beverages & items/accessories) \nTICKETS (Tier Pricing\, Get the tier that is best for you\, lower tiers exist for accessibility)(Tickets offer show only as well as combo show and party to save money!)\n🎟️ General Admission Show Only & Show and Party\n🎟️ Preferred Seating Show Only & Show and Party (access to first 2 rows of chaired seating)\n🎟️ VIP Package (Front-row seating\, Time with a pro\, 1 Free drink\, early access to party elements\, and goodies which includes promo tickets for workshops/parties!)\n🎟️ After Party Only\n21+ age to join. \nLATE ENTRY & REFUNDS\nTo protect the space and ensure a seamless experience for all\, doors will close promptly. Late arrivals may not be admitted\, and refunds will not be available. No Refunds for this event. \nIMPORTANT NOTICE\nPagans Paradise events are intended for educational and entertainment purposes\, and attendees participate at their own risk. Some events may involve physical or emotional exploration\, and by attending\, you agree to take personal responsibility for your well-being. By attending\, you agree to participate at your own risk\, conduct your own risk management\, and agree to hold the event facilitators and facility harmless for any type of harm that may occur. \nTRIGGER WARNING: The show is meant to be provocative and might have elements that can be triggering for some. Please take care of yourself and take breaks if you need to\, feel free to reach out to staff if you need help. By coming you are also acknowledging that you have be warned of material that might be challenging\, art is art and it may not be for everyone. No refunds will be given in the case that you might have to leave due to show elements. \nABOUT US\nAt Pagans Paradise\, we believe in creating a welcoming\, joyful space for everyone to explore connection\, dive into a range of educational resources\, and nurture their authentic selves.\n📸 Connect with us on Instagram @pagansparadise.\n📩 Join our newsletter at www.pagansparadise.com.\n📧 Any questions or concerns? Email us at PagansParadiseNYC@gmail.com.\nWant to see who’s going\, match\, chat\, and meet the community? Check out on the Plura Community app: https://plra.io/m/org/pagans-paradise\nPagans Paradise has been fostering joy and connection in the community for 10 years.
URL:https://www.thedominakatarina.com/event/kinklesque-the-north-pole-kinky-variety-show-play-party/
LOCATION:provided in ticket confirmation email\, near Union Square\, New York\, NY\, United States
CATEGORIES:Announcements & Social Media,MiniSessions,Party,Play Party,Play Party,The Domme Kat at...
ATTACH;FMTTYPE=image/jpeg:https://www.thedominakatarina.com/wp-content/uploads/2025/11/Kinklesque-Dec12-NYC.jpg
ORGANIZER;CN="Pagans Paradise":MAILTO:Hello@PagansParadise.com
END:VEVENT
BEGIN:VEVENT
DTSTART;TZID=America/New_York:20251213T200000
DTEND;TZID=America/New_York:20251213T230000
DTSTAMP:20260424T060346
CREATED:20251112T021750Z
LAST-MODIFIED:20251112T021750Z
UID:1209-1765656000-1765666800@www.thedominakatarina.com
SUMMARY:Domme-Nation NYC @ The Hit Me Up Loft!
DESCRIPTION:Femdom Hosts: The Domme Kat\, Moonlight & Valoria!!\nDOMME-NATION NYC\n\nEventbrite Link: Coming soon…\n\nFemdom Hosts: \n\nDomina Katarina @theDommeKat\nMoonlight @xXxM00N \nEmpress Valoria @Empress_Valoria\nGoddess Valentina @succubusval will be bartending!\n\nA Femdom/ALL gender subs/slaves event hosted at the Hit Me Up Loft in Chinatown!! Eventbrite link for tix will be posted soon. \n\nPricing on Eventbrite – $30. Price at the door $40.\nRules To Follow..\n\n\nNever Touch ANYBODY without consent.\nNo pictures or videos allowed. If you would like a picture in your outfit/scene\, you may ask the Host or a DM for permission and they will arrange it and watch over it and do it very quickly so that everyone’s privacy is respected.\nAlways treat others with respect.\nDo NOT interrupt a scene in progress\, give the people in the scene respectful distance while watching and if you would like to speak to them…give them time to come down from the scene they were just partaking in before approaching them.\nClean ALL furniture/toys used after use so that the next person(s) may begin with clean equipment.\nDo NOT harass anybody to play. If you ask and they say no\, leave them be and do not ask them again. If they want to play with you\, they will let you know.\nNO ALWAYS MEANS NO.\nIf we need to correct you on any of these rules more than once\, you will be escorted out by security. Once is a mistake\, twice is disrespect. There is no 3rd strike.
URL:https://www.thedominakatarina.com/event/domme-nation-nyc-the-hit-me-up-loft/
LOCATION:Hit Me Up\, 120 Walker Street\, 10013\, United States
CATEGORIES:Party,Play Party,Play Party,The Domme Kat at...
ATTACH;FMTTYPE=image/jpeg:https://www.thedominakatarina.com/wp-content/uploads/2025/11/6899213751963292418.jpg
END:VEVENT
BEGIN:VEVENT
DTSTART;TZID=America/New_York:20251219T200000
DTEND;TZID=America/New_York:20251219T230000
DTSTAMP:20260424T060346
CREATED:20251009T021512Z
LAST-MODIFIED:20251218T041255Z
UID:1153-1766174400-1766185200@www.thedominakatarina.com
SUMMARY:HAPPY WHORELIDAYS! I’m hosting the Taillor’s famous FemDom token party!
DESCRIPTION:♡ EVERYONE’S NEW FAVORITE FEMDOM PLAY PARTY ♡ \n🪙 Activities\, raffles and specials always depend on the dommes hosting the event; but all parties will have domme stations – where you can turn a token into a magical kinky experience. \n⚜️ Tokens: Tokens are the cute little wooden crown coins accepted at prodomme stations. All guests are welcome to purchase and use tokens.\n🎟️ Exclusive raffles: amazing prizes\, such as getting double-dommed for 15 minutes\, an entire month of taillor events\, and more!\n👑 Hosts: Weekly announced on our calendar on the website:\n*https://www.taillors.com/calendar\n \nAbout this event:\nThis is a femdom play-party. We welcome new and experienced kinksters alike to our play space. Be respectful. Make friends. \nTOKENS\nPlease note tokens are only valid until the end of the party in which you purchase them. If you are not able to spend them all\, please speak to the token trader before you leave. \n\n\n\n\nBYOB:\nBring some tasty treats or beverages and share responsibly. The refrigerator is at your disposal. We’ll provide the cups! But please note: While this is not a sober space\, intoxication will not be tolerated in play. Be mindful of your consumption and behavior or you will be asked to leave. \nHouse Rules:\nThe Crown is a space for everyone to feel safe\, welcome\, and uplifted. \nWe have a zero-tolerance policy towards any kind of hate within our space. Ableism\, racism\, fatphobia\, transphobia\, homophobia\, misogyny\, and/or misogynoir will result in immediate expulsion. If you see this occurring or you are being bullied or harassed\, please immediately report this to any of our Taillor’s domme/xs present and we will take care of the matter. \nConsent is mandatory for all activities. Please always ASK FIRST prior to touching\, photographing\, filming\, or engaging in any type of play with another person or people\, and please maintain ongoing enthusiastic consent during play. If someone is making you uncomfortable\, violating your boundaries\, or harassing you\, please immediately report this to any of our Taillor’s domme/xs present and we will help you. Stay safe and have fun! \nDress Code:\nCDUS (Clothed Dominant\, Unclothed Submissive) and fetish gear encouraged. For playsubs\, undressing is allowed however full nudity only by request (just so nothing leaks out of your holes and onto our furniture). \nWho are we again?\nThe Taillor Group is a collective of fierce femme-identifying prodommes headquartered in our residential dungeon in Brooklyn. We are dedicated to the BDSM lifestyle and community\, and offer a range of ways to be involved. \nWhere is The Crown located?\nIn Prospect Lefferts Garden\, Brooklyn. Walking distance from the train. Exact address on confirmation page\, and ticket after purchasing. \nDOOR TIMES:\nDoors for the event will open precisely 5 minutes before starting time. Please do not arrive earlier\, unless you are a volunteer working at the party. \nSTILL HAVE QUESTIONS?\nCall or text us at +1 (347) 855 4877\, or send an email to events@taillors.com \nNO REFUNDS \n\n\n\n\nPlease Note *MUST READ*: this is a supportive\, DIY community environment. Any kind of hate is not welcome in our space – that means no racism\, homophobia\, misogyny or misogynoir\, kinkshaming\, fatphobia or body shaming\, ableism\, etc. Consent is MANDATORY for all interactions. If you are violated or discriminated against\, please find one of our hosts or any Taillor’s dommes and report if you are comfortable doing so so that we can do our best to remove the threat and make you feel safe. In kind\, if you are found violating anybody’s consent or discriminating against anybody and being a lame hater\, you will be ejected without a refund and you will not be welcome back into our space. \nThis event is 21+. The Taillor Group plays R.A.C.K. (Risk Aware Consensual Kink).
URL:https://www.thedominakatarina.com/event/im-hosting-the-taillors-famous-femdom-token-party/
LOCATION:The Crown\, Brooklyn\, NY\, 11207\, United States
CATEGORIES:MiniSessions,Party,Play Party,Play Party
ATTACH;FMTTYPE=image/png:https://www.thedominakatarina.com/wp-content/uploads/2025/09/Workshops_3x4_10.png
END:VEVENT
END:VCALENDAR