BEGIN:VCALENDAR
VERSION:2.0
PRODID:-//The Domme Kat - ECPv6.15.20//NONSGML v1.0//EN
CALSCALE:GREGORIAN
METHOD:PUBLISH
X-WR-CALNAME:The Domme Kat
X-ORIGINAL-URL:https://www.thedominakatarina.com
X-WR-CALDESC:Events for The Domme Kat
REFRESH-INTERVAL;VALUE=DURATION:PT1H
X-Robots-Tag:noindex
X-PUBLISHED-TTL:PT1H
BEGIN:VTIMEZONE
TZID:America/New_York
BEGIN:DAYLIGHT
TZOFFSETFROM:-0500
TZOFFSETTO:-0400
TZNAME:EDT
DTSTART:20240310T070000
END:DAYLIGHT
BEGIN:STANDARD
TZOFFSETFROM:-0400
TZOFFSETTO:-0500
TZNAME:EST
DTSTART:20241103T060000
END:STANDARD
BEGIN:DAYLIGHT
TZOFFSETFROM:-0500
TZOFFSETTO:-0400
TZNAME:EDT
DTSTART:20250309T070000
END:DAYLIGHT
BEGIN:STANDARD
TZOFFSETFROM:-0400
TZOFFSETTO:-0500
TZNAME:EST
DTSTART:20251102T060000
END:STANDARD
BEGIN:DAYLIGHT
TZOFFSETFROM:-0500
TZOFFSETTO:-0400
TZNAME:EDT
DTSTART:20260308T070000
END:DAYLIGHT
BEGIN:STANDARD
TZOFFSETFROM:-0400
TZOFFSETTO:-0500
TZNAME:EST
DTSTART:20261101T060000
END:STANDARD
END:VTIMEZONE
BEGIN:VEVENT
DTSTART;VALUE=DATE:20250527
DTEND;VALUE=DATE:20251111
DTSTAMP:20260424T122646
CREATED:20250526T043935Z
LAST-MODIFIED:20251116T074506Z
UID:941-1748304000-1762819199@www.thedominakatarina.com
SUMMARY:Introducing 30 Minute Mondays in Brooklyn
DESCRIPTION:you know how I recommend two hours for a session? And how I don’t offer half-hour sessions? \nWell… \nI’m pleased to introduce 30 Minute Mondays! Book your 30 minutes with Me and experience pain and pleasure in an abridged session only on Mondays and only at The Crown in Flatbush\, Brooklyn. \nScreening\, scene negotiations\, aftercare are still mandatory\, so W/we won’t be able to indulge certain fetishes and kinks (like oil wrestling\, pegging\, feminization\, wax play). Contact Me to inquire if you aren’t certain W/we can accommodate your request: BOOKtheDommeKat@protonmail.com \nIf you’re open to the Taillor Dommes watching or would like a Taiilor Domme to join U/us during the session\, please indicate it when you make your session request. Additional tribute or tip-in may be required. \nMy time begins at $200 plus room rental.
URL:https://www.thedominakatarina.com/event/introducing-30-minute-mondays-in-brooklyn/
LOCATION:The Crown\, Brooklyn\, NY\, 11207\, United States
CATEGORIES:Announcements & Social Media,Sessions,Specials and Sales
ATTACH;FMTTYPE=image/jpeg:https://www.thedominakatarina.com/wp-content/uploads/2025/05/FemDom-BDSM-Domina-Goddess-Altar-TheCrown-TaillorGroup_CJ.jpg
ORGANIZER;CN="The Domme Kat":MAILTO:theDommeKat@protonmail.com
END:VEVENT
BEGIN:VEVENT
DTSTART;TZID=America/New_York:20251003T160000
DTEND;TZID=America/New_York:20251003T170000
DTSTAMP:20260424T122646
CREATED:20251002T042917Z
LAST-MODIFIED:20251002T042917Z
UID:1122-1759507200-1759510800@www.thedominakatarina.com
SUMMARY:Sit & Punish—Smothering\, Breath Play Workshop
DESCRIPTION:Curious about smothering and face sitting? Learn how to smother more safely\, the pros and cons of different positions and how to incorporate other kinks to upgrade the experience for you and your sub. \nWe’ll also cover breath play safety and how to integrate it into your scenes. This FemDom workshop is open to all skill levels and is designed to help you step up your body worship and master the art of physical domination. \n🎟 GET TICKETS:\nhttps://sitpunish.eventbrite.com \nTICKET TYPES:\nParticipating Sub Ticket: to participate and be used. We welcome participating subs of all genders. \nVoyeur Ticket: only to watch. \nParticipating Domme Ticket: For outside dommes\, or dominant femme identifying folk who wish to try out what they learn in class. \nSingle submissive attendees are especially encouraged to attend\, as we use workshops to hone our techniques and better our craft as Dommes. We know you need us… desperately. But\, we need you! \nGOOD TO KNOW:\nThis event is 21+- The Taillor Collective plays SSC (safe\, sane\, and consensual) \nSTILL HAVE QUESTIONS?\nCall or text us at +1 (347) 855 4877 or send an email to events@taillors.com
URL:https://www.thedominakatarina.com/event/sit-punish-smothering-breath-play-workshop/
LOCATION:secret location in lower Mahattan
CATEGORIES:The Domme Kat at...,Workshops
ATTACH;FMTTYPE=image/jpeg:https://www.thedominakatarina.com/wp-content/uploads/2025/07/DSC02072-scaled.jpeg
END:VEVENT
BEGIN:VEVENT
DTSTART;TZID=America/New_York:20251003T190000
DTEND;TZID=America/New_York:20251004T040000
DTSTAMP:20260424T122646
CREATED:20251002T051841Z
LAST-MODIFIED:20251002T052615Z
UID:1124-1759518000-1759550400@www.thedominakatarina.com
SUMMARY:Kinklesque: Monsters Ball - A Kinky Variety Show and Play Party like no other!
DESCRIPTION:A Pagans Paradise Kinky Immersive Theatre & Play Party \nTickets Plura: [https://plra.io/m/kinklesquemonstersballoct3?r=dominuseros143] & Tickets Eventbrite: [https://kinklesquemonstersballoct3.eventbrite.com]\nLower Tier are limited be sure to grab before they sell out!\n \nPssst… Save with Promo codes EROS10 & EROS20 \nFinal attendance will not be reflected here as we advertise on multiple sites (Eventbrite\, Plura\, etc.) \nA decadent night where monsters vogue\, vampires strip\, and creatures of the night collide with high drag glamour. \nStep into a haunted ballroom dripping with eerie elegance and dark campy delight. This Kinklesque edition summons the spirit of Halloween with a mash-up of classic horror icons\, seductive freaks\, and high-drama drag divas that would make Dracula gag.\nExpect a variety spectacle of kink\, burlesque\, drag\, immersive theater\, sideshow\, poetry\, and surprise performances—each one a monstrous twist on seduction and spectacle. From Franken-queens and vampiric vamps to ghouls that glitter\, this ball is where the weird\, the wicked\, and the fabulous come alive. \nStay after the show for our Monster After-Party\, where the haunted cabaret transforms into a playground of beats\, bodies\, and otherworldly delights. \nLast Kinklesque was on fire with amazing performers! If you missed out on last times sold out event\, be sure to grab your tickets now and don’t miss out this one of a kind spectacle! \n🌟 Expect the Unexpected —this is a ball of blood\, glitter\, and pure monstrous glam.🌟\n🔥 Bold burlesque that peels back more than layers\n🔗 Kink performances that push boundaries with elegance and edge\n💋 Slam poetry that seduces and subverts\n👠 Iconic drag that praises the profane\n🎪 Sideshow & immersive elements that blur performer and voyeur\n🎭 Themed surprises that might seduce you into power—or mark you as prey beneath the chandeliers\n🧃 Mocktail Mixology Bar\nCrafted by a pro mixologist with sinfully satisfying flavors—zero proof\, all punch.\n🛍️ Curated Vendors\n🎪 Side Performers & Pro Players\nRoaming talent and featured pro performers will spark your curiosity and guide your pleasure.\n🎁 Win Free Prizes! \n🎉AFTER PARTY🎉\nWhen the curtain drops\, the real play begins…\nStay for the after play party\, where connection and chaos continue deep into the night with music\, play areas\, and space to let loose.\nThis part of the evening is a full on Kink Play Party that will have tastings from pros\, kink and sideshow experiences with more performances plus open play time! \nFeaturing:\nDominus Eros – Founder of Pagans Paradise\, Pleasure & Intimacy Guide/Instructor/Coach\, Pro Dom and Tantrika. Dominus will be your host of the evening MCing alongside Angel! \nPerformers:\nVictor Viero\, Queerly Femmetastic\, Godis Niya Love\, Phoenix Fvcktoy\, Pineapple and Alana! \nSideshow Pro Experiences:\nKink Stations with Various Pros!\nFeatured Pros \nKinklesque Monsters Ball is a decadent lair of performance\, pleasure\, and play—serve looks\, slay the night\, and revel in monstrous pleasure. \n👗 DRESS CODE: MONSTROUS GLAM\nChannel your inner creature of the night with a fierce\, fabulous twist!\n🦇 Classic Monsters – Vampires\, werewolves\, witches\, mummies\, ghouls.\n👠 Drag & Ballroom Extravagance – Sequins\, gowns\, heels\, face paint\, wigs.\n💀 Dark Fantasy – Gothic glamour\, eerie elegance\, haunted haute couture.\n🖤 Fet Flair Welcome – Latex\, leather\, corsets\, harnesses\, collars\, cuffs.\n🚫 What to Avoid: Jeans\, sneakers\, casual wear\, gym clothes.\nDress to slay the night—make it monstrous\, make it camp\, make it unforgettable.\n(You may be turned away at the door if you do not put in effort.) \nEVENT DETAILS\n💜 Doors Open: 7:00 PM (doors close at 7:30 PM sharp)\n💜 After Party Doors Open: 10:30pm (doors close 11pm sharp)\n💜 Event Ends: 3:00 AM\n💜 Location: Private studio near Union Square(details in confirmation email)\n💜 Accessibility: Walk up 2 flights. \nWHAT TO BRING\nDollar Bills for tips (we will have singles to exchange)\nCash\, Venmo\, Cashapp for vendors and pro tastings\nBYOB/BYOT For After Party – (Your favorite beverages & items/accessories) \nTICKETS (Tier Pricing\, Get the tier that is best for you\, lower tiers exist for accessibility)(Tickets offer show only as well as combo show and party to save money!)\n🎟️ General Admission Show Only & Show and Party\n🎟️ Preferred Seating Show Only & Show and Party (access to first 2 rows of chaired seating)\n🎟️ VIP Package (Front-row seating\, Time with a pro\, 1 Free drink\, early access to party elements\, and goodies which includes promo tickets for workshops/parties!)\n🎟️ After Party Only\n21+ age to join. \nLATE ENTRY & REFUNDS\nTo protect the space and ensure a seamless experience for all\, doors will close promptly. Late arrivals may not be admitted\, and refunds will not be available. No Refunds for this event. \nIMPORTANT NOTICE\nPagans Paradise events are intended for educational and entertainment purposes\, and attendees participate at their own risk. Some events may involve physical or emotional exploration\, and by attending\, you agree to take personal responsibility for your well-being. By attending\, you agree to participate at your own risk\, conduct your own risk management\, and agree to hold the event facilitators and facility harmless for any type of harm that may occur. \nTRIGGER WARNING: The show is meant to be provocative and might have elements that can be triggering for some. Please take care of yourself and take breaks if you need to\, feel free to reach out to staff if you need help. By coming you are also acknowledging that you have be warned of material that might be challenging\, art is art and it may not be for everyone. No refunds will be given in the case that you might have to leave due to show elements. \nABOUT US\nAt Pagans Paradise\, we believe in creating a welcoming\, joyful space for everyone to explore connection\, dive into a range of educational resources\, and nurture their authentic selves.\n📸 Connect with us on Instagram @pagansparadise.\n📩 Join our newsletter at www.pagansparadise.com.\n📧 Any questions or concerns? Email us at PagansParadiseNYC@gmail.com.\nPagans Paradise has been fostering joy and connection in the community for 10 years.
URL:https://www.thedominakatarina.com/event/kinklesque-monsters-ball-a-kinky-variety-show-and-play-party-like-no-other/
LOCATION:Address given in email confirmation. Please contact Pagans Paradise if paying at door.\, New York\, NY\, United States
CATEGORIES:MiniSessions,Party,Play Party,Play Party,The Domme Kat at...
ATTACH;FMTTYPE=image/jpeg:https://www.thedominakatarina.com/wp-content/uploads/2025/10/Old-Dominus-Event-Banners-7.jpg
ORGANIZER;CN="Pagans Paradise":MAILTO:Hello@PagansParadise.com
END:VEVENT
BEGIN:VEVENT
DTSTART;TZID=America/New_York:20251017T180000
DTEND;TZID=America/New_York:20251017T230000
DTSTAMP:20260424T122646
CREATED:20241212T110143Z
LAST-MODIFIED:20251009T073002Z
UID:664-1760724000-1760742000@www.thedominakatarina.com
SUMMARY:Surrender: Wrestling and Pet Play (a kinky wrestling play party)
DESCRIPTION:Friday\, October 17\n6 p.m. – 11 p.m.\nNear Union Square\, NYC (address in confirmation email)\nYour favorite kinky\, queer wrestling party is back—this time with a tail-wagging twist: PET PLAY 🐾 \nWhether you’re a playful pup\, a curious kitten\, a mischievous bunny or just love the energy of the animal kingdom\, tonight’s your chance to romp\, wrestle and explore your inner creature. Dress-up encouraged—collars\, ears\, tails\, harnesses\, paw gloves\, muzzles\, masks… the more animalistic\, the better. \n🐕 New to pet play? Don’t miss the included pre-party workshop\, where TBA will guide you through the roles\, dynamics and body language of pets and handlers. Learn how to embody your animal self\, negotiate play and find your stride (or slink\, or scamper) in the kink menagerie. \n✨ Already in your beast mode? Strut your tail\, practice your best purr or challenge a fellow creature on the mats. \n💥 WHAT TO EXPECT:\nSurrender isn’t just one thing—it’s a house party\, a kink-positive lab\, and a body-positive mat-fueled fantasy. \n💪 Open mat wrestling all night long — take down your prey\, tussle with the pack\, or let your handler show you off in style \n🧠 Consent + safety briefings + intro lessons (perfect for first-timers\, whether you’re new to wrestling\, pet play or both) \n🔥 Workshop: Pet Play 101 \n🎁 Vendors: Elevated treats\, flash tattoo\, SW Survival Guide\, Fantasy Features \n🧸 Cuddle puddle room (designated smoke & chill zone) — perfect for curling up with fellow pets after a good romp \n🛡️ Referees present to keep play consensual & safe \nAll types of fetish wrestling welcome: struggle play\, primal grappling\, BJJ\, Judo\, pins\, rope wrestling\, tickle fights\, submission\, fantasy\, Zentai… The style is yours to choose. The vibe is RACK: Risk-Aware Consensual Kink. \nhttps://www.thedominakatarina.com/wp-content/uploads/2024/12/Sweet-Dreams.mp4\n🌟 FIRST TIME WRESTLING?\nYou’re in the right place. The party begins with safety demos and consent primers\, and our team of referees will be available all night to monitor the mats. Play is at your own risk\, but our top priority is ensuring you have what you need to explore with confidence. \n❤️ SAFETY\, CONSENT & COMMUNITY\nWe have a zero tolerance policy for harassment or boundary violations. Consent is always mandatory. If anything feels off\, speak to Katarina\, GlittersaurusRex or one of our LED-armband consent monitors. \nThis is a welcoming space for all identities. Discrimination of any kind—including racism\, transphobia\, fatphobia\, kink shaming or ableism—will not be tolerated. \n🚫 Unfortunately\, the venue is not wheelchair accessible.\n🌡️ No-touch temperature checks will be taken at the door or Covid tests will be required. TBD. \n🎟️ TICKETS & ACCESS\nOnline sales close: October 17 at 12 a.m. ET\nDoor tickets: $80 (register online to get the address + info) \nNo refunds \n🎟️ Queer and transgender people of color and sex workers can request a pay-what-you-can code from Katarina. (Limited number available)\n🎁 Want to help make the party more accessible? Add a donation to support community ticketing. \n🛑 Reminder:\nSurrender Parties are intended for educational and entertainment purposes. All activities are consensual\, respectful\, and professionally guided. Attendees participate at their own risk and agree to take personal responsibility for their well-being.
URL:https://www.thedominakatarina.com/event/coming-soon-surrender-x-bite-club-wrestling-play-party/
LOCATION:provided in ticket confirmation email\, near Union Square\, New York\, NY\, United States
CATEGORIES:Guest Instructor or Collaboration,MiniSessions,Party,Play Party,Play Party,SessionGirls,Visiting Providers in NYC,Workshops
ATTACH;FMTTYPE=image/jpeg:https://www.thedominakatarina.com/wp-content/uploads/2024/12/SURRENDER-PET-10_17-Main-with-The-Cheshire-Domme-Kat-2.jpg
ORGANIZER;CN="The Domme Kat":MAILTO:theDommeKat@protonmail.com
END:VEVENT
BEGIN:VEVENT
DTSTART;TZID=America/New_York:20251020T190000
DTEND;TZID=America/New_York:20251020T213000
DTSTAMP:20260424T122646
CREATED:20251009T015348Z
LAST-MODIFIED:20251009T020008Z
UID:1139-1760986800-1760995800@www.thedominakatarina.com
SUMMARY:FemDom Wrestling 101 and 201 – Workshops
DESCRIPTION:Experience the thrill of control — taking or losing it. Step onto the mat and learn the art of physical Domination and submission. \nJoin me and the Taillor Dommes every 3rd Monday for FemDom Wrestling 101 followed by Wrestling 201. Both classes give you fetish wrestling essentials with an emphasis on Domination by Fierce Femmes and Thems! \nFemDom Wrestling 101 will get you into the action more safely every third Monday of the month at 7 p.m. \nWrestling 201 will take you beyond the into into more classic fetish wrestling holds and submissions. Love pins and chokes? This is the class for you. FemDom Wrestling 201 is every third Monday of the month at 8:30 p.m. \nEach class ends with some live action where participating Dommes can try out their moves in real time matches with the submissives. \nYou can come to just one of the workshops\, but I highly recommend coming to both! 101 acts as a prerequisite for the 201 class and repeating myself means less time to learn more advanced variations. \nTICKET OPTIONS\nReady to submit? Choose the participating sub ticket option and be our practice “dummy.” 😉 All genders welcome. \nAre you a FemDom or looking to learn how to Dominate using just your body? Grab a FemDom ticket and get your body moving on the mats. \nJust want to watch? You can do that\, too! \nATTIRE\nIf you’re getting on the mats with us\, please wear something you’re comfortable moving in. Yoga pants\, gym shorts and other sporty gear is perfect. Fetish wear welcome as long as it isn’t anything that will snag\, scratch or poke. You may come 10 minutes early and get changed in one of the two bathrooms. \nPlease\, no: \n\njewelry\, watches or anything pokey that can puncture the mats\, scratch your wrestling partner or snag and injure you.\nshoes on the mats unless they are specifically wrestling boots or a non-street shoe like ballet slippers. You can have bare feet or wear socks\, pantyhose or other foot coverings.\n\nHEALTH AND HYGIENE\nIf you are a human who shaves\, I recommend shaving the night before so you don’t have any broken skin touching the communal mats. Make sure your toenails are trimmed\, you are clean and smell fresh. Please check yourself for any signs of illness\, skin rashes or lesions. Cover any wounds. \nThis workshop is produced by The Taillor Group. If you have any questions\, please contact The Crown.
URL:https://www.thedominakatarina.com/event/femdom-wrestling-101-and-201-workshops-8/
LOCATION:The Crown\, Brooklyn\, NY\, 11207\, United States
CATEGORIES:The Domme Kat at...,Workshops
ATTACH;FMTTYPE=image/png:https://www.thedominakatarina.com/wp-content/uploads/2025/07/RNC-ZackLittle-TheDommeKat.png
END:VEVENT
END:VCALENDAR