BEGIN:VCALENDAR
VERSION:2.0
PRODID:-//The Domme Kat - ECPv6.15.20//NONSGML v1.0//EN
CALSCALE:GREGORIAN
METHOD:PUBLISH
X-WR-CALNAME:The Domme Kat
X-ORIGINAL-URL:https://www.thedominakatarina.com
X-WR-CALDESC:Events for The Domme Kat
REFRESH-INTERVAL;VALUE=DURATION:PT1H
X-Robots-Tag:noindex
X-PUBLISHED-TTL:PT1H
BEGIN:VTIMEZONE
TZID:America/New_York
BEGIN:DAYLIGHT
TZOFFSETFROM:-0500
TZOFFSETTO:-0400
TZNAME:EDT
DTSTART:20250309T070000
END:DAYLIGHT
BEGIN:STANDARD
TZOFFSETFROM:-0400
TZOFFSETTO:-0500
TZNAME:EST
DTSTART:20251102T060000
END:STANDARD
BEGIN:DAYLIGHT
TZOFFSETFROM:-0500
TZOFFSETTO:-0400
TZNAME:EDT
DTSTART:20260308T070000
END:DAYLIGHT
BEGIN:STANDARD
TZOFFSETFROM:-0400
TZOFFSETTO:-0500
TZNAME:EST
DTSTART:20261101T060000
END:STANDARD
BEGIN:DAYLIGHT
TZOFFSETFROM:-0500
TZOFFSETTO:-0400
TZNAME:EDT
DTSTART:20270314T070000
END:DAYLIGHT
BEGIN:STANDARD
TZOFFSETFROM:-0400
TZOFFSETTO:-0500
TZNAME:EST
DTSTART:20271107T060000
END:STANDARD
END:VTIMEZONE
BEGIN:VEVENT
DTSTART;TZID=America/New_York:20260423T190000
DTEND;TZID=America/New_York:20260423T220000
DTSTAMP:20260423T174039
CREATED:20260301T102450Z
LAST-MODIFIED:20260403T051706Z
UID:1349-1776970800-1776981600@www.thedominakatarina.com
SUMMARY:Pinned By Love: Sapphic Speed Dating and Wrestling
DESCRIPTION:I’m so excited to collaborate with @SheMagickEvents to bring you speed dating with a wrestling twist! Start off flirting\, end up wrestling. 😈 \n\nLooking for love and connection but would rather not do it the usual way\, whether at a bar or on an app? SheMagick Events and The Domme Kat present a fun and unique way to answer the “is there chemistry” question. Together we’ll explore\, movement\, touch\, and creativity with this sapphic wrestling dating event. No\, you won’t be body slamming your potential crush (not unless you want to\, of course😉. This is an event for beginners to be able to explore joy filled play while getting to know each other deeper. \nWrestling is sporty\, fun\, sexy and a super unique way to form connection. Whether you’re an athletic person or just curious about connecting with new partners or friends in a playful and exciting way\, come explore wrestling with your queer community.\nCome experience wrestling in a space built for sapphic\, T/GNC folks! This event is not for cis men. If you do not fit the demographic\, do NOT purchase a ticket. You will not be given a refund for a purchase “by mistake.” Trans Men are welcome! \nWhat Can I Expect?\nThe night will begin with icebreakers meant to help everyone get to know each other and loosen up. \nYou’ll then learn how to safely start the wrestling action\, a few easy and beginner moves to try out\, and some steamy ways to show off on the mats (or in the bedroom). \nAfter the structured\, learning portion open play will begin.\nVarious card and board games will be on hand (during open play) to allow for breaks and/or other ways to form connection outside of wrestling. \nAttire\nIf you’re getting on the mats with us\, please wear something you’re comfortable moving in. Yoga pants\, gym shorts\, sports bras\, and other sporty gear are perfect. Please leave jewelry at home and avoid anything sharp that could scratch you\, your new crush\, or puncture the mats. Even if NOT getting on the mats\, the venue is a shoeless space. You can wear socks or slippers if you don’t want to be barefooted (no street shoes). \nPlease No\nJewelry\, watches or anything pokey that can puncture the mats\, scratch your wrestling partner or snag and injure you.\nShoes on the mats unless they are specifically wrestling boots or a non-street shoe like ballet slippers. You can have bare feet\, socks\, or other soft foot coverings. \nBaggy clothes you and your new friend (or crush) will get tangled in. \nHealth And Hygiene\nIf you are a human who shaves\, I recommend shaving the night before so you don’t have any broken skin touching the communal mats. Make sure your toenails are trimmed\, you are clean and smell fresh (this includes your breath. You’re going to be getting close folks). Please check yourself for any signs of illness\, skin rashes or lesions. Cover any wounds. \nA limited number of donation based tickets are available for SW\, QTBIPOC folks\, & financial hardship. Suggested Donation: $10-$20 \nFAQ\nCan I come if I am poly and seeking more partner connections?\nYes\, you are welcome whether you are poly or monogamous. All relationship styles are welcome \nIs this event open to trans men?\nYes\, if women-aligned spaces work for you\, you are very welcome to join us. \nWill the wrestling be intense?\nNo\, this event is for beginners AND people seeking romantic connections. The wrestling will allow for connection and be kept easy for you to learn and try out. You do not need to be some super athlete to come and enjoy. \nCan I bring a friend?\nOf course\, you are welcome to bring someone who fits the demographic of this event. Especially if they will help you feel comfortable\, and will enjoy participating\, watching\, or playing the card/board games on the side and chatting with others in the space. \nDo I have to participate in the open play afterwards?\nNo\, there will be other games and activities in the space for folks to still be able to connect. \nWill there be refreshments?\nYes\, we will have a few snack items to munch on! We will also have red and white wine available. \n \n\nWant to see more of what I have coming up? Check out my events calendar\, LinkTree\, and join my Fetlife group “The Domme Kat’s Events.”
URL:https://www.thedominakatarina.com/event/save-the-date-sapphic-speed-dating-and-wrestling/
LOCATION:provided in ticket confirmation email\, near Union Square\, New York\, NY\, United States
CATEGORIES:Guest Instructor or Collaboration,Party
ATTACH;FMTTYPE=image/jpeg:https://www.thedominakatarina.com/wp-content/uploads/2026/03/FLYER_PinnedByLove-Wrestling-SpeedDating-Sapphic_SheMagick-TheDommeKat-copy-scaled.jpg
ORGANIZER;CN="The Domme Kat":MAILTO:theDommeKat@protonmail.com
END:VEVENT
BEGIN:VEVENT
DTSTART;TZID=America/New_York:20260425T160000
DTEND;TZID=America/New_York:20260425T220000
DTSTAMP:20260423T174039
CREATED:20260301T104127Z
LAST-MODIFIED:20260416T091348Z
UID:1352-1777132800-1777154400@www.thedominakatarina.com
SUMMARY:POUGHKEEPSIE: Wrestling 101\, Bondage Wrestling Workshops and Jam at Less Dead Studio
DESCRIPTION:I’m thrilled to announce that I’ll be teaching some workshops and hosting a jam for Less Dead Studio. We’ll start with a beginners wrestling workshop\, move into wrestling with ropes and then cap the night off with some playtime on the mats!\n\n\n\n🤼 Wrestling 101\n4-6pm\nWhether you want to wrestle sexy\, wrestle playful or wrestle for dominance\, basics make everything better. 3 Demo Bottom tickets available (full details at link below) \n🤼‍♀️ Bondage Wrestling + Jam\n7-10pm\nWhether you’re just curious or ready to level up your wrestling play\, come explore what happens when you add rope to the mix. 1 Demo Bottom ticket available (full details at link below) \nFacilitated by @TheDommeKat of @SurrenderParties \nFull Details and tickets HERE\n💌New? Nervous? Need something? Please\, reach out in the comments/DMs! \nPLEASE NOTE: FL attendance does not reflect actual guest list. You must complete the screening process to get the address. If it is your first time with us\, please submit your vetting form at least 4 DAYS before the event date and be sure to check your inbox + spam folder for the reply (including our venue address). \n\n\n\n \nI’m not sure if I’ll be offering sessions the night before\, the day after\, both or not at all… your deposits are the only way to vote. Make your voice heard: closed mouths don’t get sat on.
URL:https://www.thedominakatarina.com/event/save-the-date-poughkeepsie-wrestling-101-bondage-wrestling-workshops-and-jam-at-less-dead-studio/
LOCATION:Less Dead Studio\, Poughkeepsie\, NY
CATEGORIES:Jam,Socials,The Domme Kat at...,Workshops
ATTACH;FMTTYPE=image/png:https://www.thedominakatarina.com/wp-content/uploads/2026/03/Wrestling-Bondage-LessDeadStudio-Poughkeepsie.png
END:VEVENT
BEGIN:VEVENT
DTSTART;TZID=America/New_York:20260430T190000
DTEND;TZID=America/New_York:20260430T210000
DTSTAMP:20260423T174039
CREATED:20260405T100112Z
LAST-MODIFIED:20260405T100112Z
UID:1442-1777575600-1777582800@www.thedominakatarina.com
SUMMARY:Kink & Kayfabe: Pro-Wrestling in The Ring 101
DESCRIPTION:Step between the ropes and learn how to work your body\, the crowd and in cooperation with your opponent.\nLIMITED EARLY BIRD TICKETS AVAILABLE \n\nThis is your chance to experience the world of pro-style wrestling—whether you’ve never set foot in a ring or you’ve got some scrappy instincts you’re ready to sharpen. We’re taking it off the mats and into the ring where we’ll be lead by pro-wrestler\, CPA.\nExpect a mix of foundational drills\, ring awareness and the building blocks of pro-style movement. You might explore character\, presence and how to sell a moment and tell a story with your body. \nDON’T MISS THIS ONE-OF-A-KIND EXPERIENCE \nThis is designed to be accessible but exciting: all experience levels welcome\, especially those ready to try something bold\, physical and a little theatrical. \nCome ready to move\, play and maybe discover a new side of yourself in the ropes. \nLimited to 20 participants for safety and quality. No late entry.\nTickets\nParticipation (In-Ring Experience)\nAdvance Sales (first 10 spots): $35\nEarly Bird spots tend to go quickly.\nGeneral Admission (final 10 spots): $45\nLimited Door Tickets: $50 (if space allows)\nDoor tickets are full price. No discounts. \nObservation (Watch Only) — 20 available\nAdvance Sales (online sales): $20\nOnce they’re gone\, they’re gone!\nGeneral Admission (online sales): $25\nLimited Door Tickets (if space allows): $30\nNo discounts at the door. \nCommunity Support Tickets (Suggested $15)\nReserved for SWers\, queer & trans BIPOC and those experiencing financial hardship. Pay what you can (less or more as needed).\nMin. $3 to cover platform fees. \n\nABOUT CPA:\nCPA (he/him) has sacrificed a life of 9-5 Excel spreadsheet doldrums to excel at spreading his portfolio for 13 years\, wrestling in WWE\, AEW\, GCW\, Create A Pro and dozens of other top promotions. Let’s go girls! \nABOUT THE DOMME KAT:\nKatarina “The Domme Kat” Pierce (any pronouns) is a Dominatrix\, kinky wrestler and adult entertainer in NYC. She co-founded SW Survival Guide with Tiana GlittersaurusRex\, a SW-run org offering free education for SWs and allies—because survival shouldn’t be a luxury! \nWhen she’s not choking people with her thick thighs\, Katarina produces kinky\, queer-inclusive events and hosts Surrender\, a wrestling and fetish party. She’s also a dynamic educator\, teaching everything from BDSM 101 and consent to wrestling\, smothering\, choking\, foot Domination\, face sitting\, scissorholds\, trash and dirty talk\, primal play\, pegging\, wax play\, impact and more. \nKnown for sensual Domination\, her casually cruel trash talk\, eloquent humiliation style and her unbelievable curves\, she’s just as happy face sitting as she is slapping willing victims with her perfect size 8.5 feet. \nABOUT THE VENUE:\nLocated in Williamsburg\, Brooklyn\, the venue is home to a wrestling academy shaping the next generation of professional wrestlers by not only focusing on in-ring character development\, but also fostering personal growth in an environment of love and unwavering support that has become a safe haven for any and all to learn. \nThe academy prides themselves on their atmosphere and DOES NOT tolerate any sort of racism\, homophobia\, transphobia or hatred of ANY KIND. \nGet the address and learn more about the academy when you register for your ticket online. \nTICKETS 
URL:https://www.thedominakatarina.com/event/kink-kayfabe-pro-wrestling-in-the-ring-101/
LOCATION:provided in ticket confirmation email\, near Union Square\, New York\, NY\, United States
CATEGORIES:Guest Instructor or Collaboration,Workshops
ATTACH;FMTTYPE=image/png:https://www.thedominakatarina.com/wp-content/uploads/2026/04/Kink-Kayfabe_-Pro-Wrestling-in-The-Ring-101-by-The-Domme-Kat-with-CPA.png
ORGANIZER;CN="The Domme Kat":MAILTO:theDommeKat@protonmail.com
END:VEVENT
BEGIN:VEVENT
DTSTART;TZID=America/New_York:20260501T160000
DTEND;TZID=America/New_York:20260501T170000
DTSTAMP:20260423T174039
CREATED:20260423T065341Z
LAST-MODIFIED:20260423T065341Z
UID:1476-1777651200-1777654800@www.thedominakatarina.com
SUMMARY:Sit & Punish— Face Sitting\, Smothering\, Breath Play Workshop
DESCRIPTION:Face sitting (and breath play) is one of my absolute favorite things to do. That’s probably why the energy in the workshops is always full of infectious joy! I love seeing everyone try new moves and positions. Are you ready to add new favorite positions to your Domination tool box? \nCurious about smothering and face sitting? Learn how to smother more safely\, the pros and cons of different positions and how to incorporate other kinks to upgrade the experience for you and your sub. \nWe’ll also cover breath play safety and how to integrate it into your scenes. This FemDom workshop is open to all skill levels and is designed to help you step up your body worship and master the art of physical domination. \n🎟 GET TICKETS:\nhttps://sitpunish.eventbrite.com \nWorkshop curriculum by me. Produced by @TheTaillorGroup.  For even more information\, see the Taillor Group events calendar. \n\n\n\nWhat is The Taillor Group?\nThe Taillor Group is a collective of fierce femme-identifying Dommes headquartered in our beautiful residential dungeon in Brooklyn. We are dedicated to the BDSM lifestyle and community\, and offer a range of ways to be involved. \nWhat is this event?\nOur workshops are social\, group gatherings that bring members of the BDSM community together in a playful and educational setting. Workshops generally run one hour long are intended to be spaces of learning and practicing techniques honed in the class. Workshops are not open play-time (unless specifically stated otherwise). \nWhere is the workshop?\nIn lower Manhattan. Exact address on confirmation page and ticket after purchasing. SCROLL DOWN WHEN YOU RECEIVE THE TICKET CONFIRMATION EMAIL FOR THE EXACT ADDRESS. \nDoor Times:\nDoors for the event will open precisely 10 minutes before starting time and class will start 5 minutes after. Please arrive on time for all events. \nTickets:\nParticipating Sub Ticket: to participate and be used. We welcome participating subs of all genders. \nVoyeur Ticket: only to watch \nParticipating Domme Ticket: for outside Dommes or Dominant Femme identifying folk who wish to try out what they learn in class
URL:https://www.thedominakatarina.com/event/sit-punish-face-sitting-smothering-breath-play-workshop/
LOCATION:secret location in lower Mahattan
CATEGORIES:The Domme Kat at...,Workshops
ATTACH;FMTTYPE=image/jpeg:https://www.thedominakatarina.com/wp-content/uploads/2026/03/sitpunish_taillors.jpg
END:VEVENT
BEGIN:VEVENT
DTSTART;TZID=America/New_York:20260506T190000
DTEND;TZID=America/New_York:20260506T220000
DTSTAMP:20260423T174039
CREATED:20260423T071018Z
LAST-MODIFIED:20260423T071018Z
UID:1479-1778094000-1778104800@www.thedominakatarina.com
SUMMARY:Taste: Wrestling and Ropes - Bondage Wrestling Workshop and Jam
DESCRIPTION:Whether you’re just curious or want to take your skills to the next level\, come find out what happens when you wrestle and add ropes to the mix! \nTICKETS \nWhether you’re just curious or want to take your skills to the next level\, come find out what happens when you wrestle and add ropes to the mix! \nLearn a few ties and tips before letting loose and wrestling with ropes.\nWe’ll begin with a guided class covering: \n\nIntroductions and icebreakers\nConsent and scene/match negotiation\nWrestling safety\nRope safety\nUseful ties and positions using specific bondage wrestling ropes (provided)\n\nThen… go forth and conquer the mats. \nGrab a classmate (consensually) and try out your new skills in a mini-match\, with plenty of space to move\, explore and play. The open wrestling jam begins around 9 PM. \nAll levels welcome. \nAlready a bondage wrestling pro? Come through! The jam is part social\, part open mat\, and a great space to connect\, play and share skills. \nParticipation is highly encouraged. Come solo or with a friend. While partners aren’t guaranteed\, there will be opportunities to meet and connect with fellow kinksters and bondage wrestling enthusiasts. \nLight snacks and water will be provided. \nWant to be Katarina’s demo bottom?\nSelect the “Designated Demo Bottom” ticket and be the one she demonstrates ties and wrestling techniques on during class. \nWhat to Wear\n\nClothing you can move freely in: shorts\, leggings\, sports bra\, rash guard\, tight tee\, bikini\, etc.\nSkip jewelry and avoid anything sharp that could scratch skin or damage the mats\n\nSafety + Awareness\nWe practice RACK (Risk Aware Consensual Kink). BDSM can impact us physically\, mentally and emotionally. Please check in with yourself and honor your limits. As with any physical activity\, there is inherent risk of injury. \nLiability\nThese events are educational and entertainment-based. By attending\, you acknowledge personal responsibility for your well-being and agree to participate at your own risk. You also agree to hold facilitators and the venue harmless for any potential harm. \nAll activities are consensual\, respectful and professionally guided. This is not a sex-based\, hookup-style or pornographic event. \nA limited number of pay-what-you-can tickets are available for SW\, QTPOC and those experiencing financial hardship. \nOnline ticket sales end 5/6/26 at 12 noon. Discounts are not valid at the door. \nREFUNDS available up to 7 days before the event.
URL:https://www.thedominakatarina.com/event/taste-wrestling-and-ropes-bondage-wrestling-workshop-and-jam/
LOCATION:provided in ticket confirmation email\, near Union Square\, New York\, NY\, United States
CATEGORIES:Jam,Socials,Workshops
ATTACH;FMTTYPE=image/png:https://www.thedominakatarina.com/wp-content/uploads/2026/04/Taste-Wrestling-Ropes-Bondage-TheDommeKat-1.png
ORGANIZER;CN="The Domme Kat":MAILTO:theDommeKat@protonmail.com
END:VEVENT
BEGIN:VEVENT
DTSTART;TZID=America/New_York:20260513T190000
DTEND;TZID=America/New_York:20260513T220000
DTSTAMP:20260423T174039
CREATED:20260423T073704Z
LAST-MODIFIED:20260423T073754Z
UID:1484-1778698800-1778709600@www.thedominakatarina.com
SUMMARY:Sapphic Wrestling Workshop & Jam
DESCRIPTION:Wrestling for Sapphics by The Domme Kat\nWrestling is playful\, physical\, a little competitive and undeniably intimate. \nThis sapphic-centered workshop and jam brings wrestling off the bright mats and into something closer\, queerer and more connected. Think body-to-body pressure\, slower movement and deliberate control\, where sport meets kink in a way that feels both grounded and electric. \nWhether you’re athletic\, brand new or somewhere in between\, this is your space to explore submission wrestling through a sapphic lens\, then actually play with it. \nWhat You’ll Learn\nWe begin with guided instruction\, then open into a structured\, facilitated jam. \nWorkshop includes: \n\nFoundations of submission wrestling in a safer\, accessible way\nHow to initiate\, negotiate and build a wrestling dynamic\nClose-contact and bed-style adaptations (less impact\, more tension)\nPins\, holds and transitions designed for intimacy and control\nWays to layer in dominance\, playfulness and sensuality\nLight\, guided practice so you can feel what you’re learning\n\nThen we jam: \nAn open\, guided space to wrestle\, experiment and connect at your own pace. \nBeginners Welcome \nNo experience needed. Come solo or with a partner. \nWhile partners aren’t guaranteed\, there will be opportunities to practice and connect. \nWhat to Wear\nWear something you can move and grapple in: \n\nShorts\, leggings\, sports bras\, fitted tops or swimwear\nClothing that stays on your body (avoid baggy fits)\nAvoid anything sharp or scratchy\nNo jewelry\n\nWhat This Is (and Isn’t)\nThis is an educational workshop + guided jam\, not a play party. \nParticipation is encouraged and always optional. You’re welcome to observe\, ease in or fully engage. \nSafety & Consent\nWe practice RACK (Risk Aware Consensual Kink). \nThis is a physical experience. Expect: \n\nBody contact\nCommunication exercises\nLight exertion\n\nYou are always in charge of your boundaries. Check in with yourself and your partner throughout. \nAccessibility note: The event space is located down a short flight of steep steps and may not be accessible for all mobility needs. \nWho This Space Is For\nThis workshop centers the sapphic experience. \nSapphic includes women and woman-aligned people who are attracted to women or woman-aligned genders\, including: \n\nLesbians\nBisexual and pansexual folks\nQueer women\nWoman-aligned non-binary people\nTrans folks\n\nThis space is intentionally built for you. \nPlease read carefully (no refunds): If you do not identify within this spectrum\, please attend a different offering. Cis men are not permitted at this event. \nCommunity Expectations\nRespect\, consent and awareness are non-negotiable. \nKatarina reserves the right to remove anyone whose behavior misaligns with community values or disrupts the safety or integrity of the space. \nAdditional Notes\nThis experience is educational\, guided and exploratory. It is not explicit\, hookup-focused or pornographic. \nAttendees participate at their own risk and are responsible for their physical and emotional well-being. \nGET YOUR TICKETS NOW… SPACE IS LIMITED! \nAbout The Domme Kat\nKatarina “The Domme Kat” Pierce (any pronouns) is a Dominatrix\, kinky wrestler and adult entertainer based in NYC. She is the co-founder of SW Survival Guide\, a SW–run organization providing free education and resources for SW and allies\, grounded in the belief that survival should never be a luxury. \nBeyond her performance work\, Katarina produces kinky\, queer-inclusive events and hosts Surrender\, a wrestling and kink party known for its high-energy\, community-focused atmosphere. \nShe is also an experienced educator\, teaching a wide range of classes including BDSM fundamentals\, consent and negotiation\, wrestling\, primal play\, impact\, wax play and more\, with a focus on communication\, embodiment and safer exploration. \nTICKETS ON SALE! \nWho are we?\nThe Taillor Group is a collective of fierce femme-identifying Dommes headquartered in our beautiful residential dungeon in Brooklyn. We are dedicated to the BDSM lifestyle and community\, and offer a range of ways to be involved. \nWhat is this event?\nOur workshops are social\, group gatherings that bring members of the BDSM community together in a playful and educational setting. \nWhere is The Crown located?\nIn Bushwick\, Brooklyn. Walking distance from the train. Exact address on confirmation page\, and ticket after purchasing. \nGOOD TO KNOW\nThis event is 21+- The Taillor Collective plays SSC (safe\, sane\, and consensual) \nSTILL HAVE QUESTIONS?\nCall or text us at +1 (347) 855 4877\, or send an email to events@taillors.com \nNO REFUNDS
URL:https://www.thedominakatarina.com/event/sapphic-wrestling-workshop-jam/
LOCATION:The Crown\, Brooklyn\, NY\, 11207\, United States
CATEGORIES:Jam,Socials,The Domme Kat at...,Workshops
ATTACH;FMTTYPE=image/png:https://www.thedominakatarina.com/wp-content/uploads/2026/04/PUZZLE-MATS_Sapphic-Wrestling-Workshop-Kink-Jam_TheDommeKat.png
END:VEVENT
END:VCALENDAR