BEGIN:VCALENDAR
VERSION:2.0
PRODID:-//The Domme Kat - ECPv6.15.20//NONSGML v1.0//EN
CALSCALE:GREGORIAN
METHOD:PUBLISH
X-WR-CALNAME:The Domme Kat
X-ORIGINAL-URL:https://www.thedominakatarina.com
X-WR-CALDESC:Events for The Domme Kat
REFRESH-INTERVAL;VALUE=DURATION:PT1H
X-Robots-Tag:noindex
X-PUBLISHED-TTL:PT1H
BEGIN:VTIMEZONE
TZID:America/New_York
BEGIN:DAYLIGHT
TZOFFSETFROM:-0500
TZOFFSETTO:-0400
TZNAME:EDT
DTSTART:20240310T070000
END:DAYLIGHT
BEGIN:STANDARD
TZOFFSETFROM:-0400
TZOFFSETTO:-0500
TZNAME:EST
DTSTART:20241103T060000
END:STANDARD
BEGIN:DAYLIGHT
TZOFFSETFROM:-0500
TZOFFSETTO:-0400
TZNAME:EDT
DTSTART:20250309T070000
END:DAYLIGHT
BEGIN:STANDARD
TZOFFSETFROM:-0400
TZOFFSETTO:-0500
TZNAME:EST
DTSTART:20251102T060000
END:STANDARD
BEGIN:DAYLIGHT
TZOFFSETFROM:-0500
TZOFFSETTO:-0400
TZNAME:EDT
DTSTART:20260308T070000
END:DAYLIGHT
BEGIN:STANDARD
TZOFFSETFROM:-0400
TZOFFSETTO:-0500
TZNAME:EST
DTSTART:20261101T060000
END:STANDARD
END:VTIMEZONE
BEGIN:VEVENT
DTSTART;VALUE=DATE:20250527
DTEND;VALUE=DATE:20251111
DTSTAMP:20260425T152718
CREATED:20250526T043935Z
LAST-MODIFIED:20251116T074506Z
UID:941-1748304000-1762819199@www.thedominakatarina.com
SUMMARY:Introducing 30 Minute Mondays in Brooklyn
DESCRIPTION:you know how I recommend two hours for a session? And how I don’t offer half-hour sessions? \nWell… \nI’m pleased to introduce 30 Minute Mondays! Book your 30 minutes with Me and experience pain and pleasure in an abridged session only on Mondays and only at The Crown in Flatbush\, Brooklyn. \nScreening\, scene negotiations\, aftercare are still mandatory\, so W/we won’t be able to indulge certain fetishes and kinks (like oil wrestling\, pegging\, feminization\, wax play). Contact Me to inquire if you aren’t certain W/we can accommodate your request: BOOKtheDommeKat@protonmail.com \nIf you’re open to the Taillor Dommes watching or would like a Taiilor Domme to join U/us during the session\, please indicate it when you make your session request. Additional tribute or tip-in may be required. \nMy time begins at $200 plus room rental.
URL:https://www.thedominakatarina.com/event/introducing-30-minute-mondays-in-brooklyn/
LOCATION:The Crown\, Brooklyn\, NY\, 11207\, United States
CATEGORIES:Announcements & Social Media,Sessions,Specials and Sales
ATTACH;FMTTYPE=image/jpeg:https://www.thedominakatarina.com/wp-content/uploads/2025/05/FemDom-BDSM-Domina-Goddess-Altar-TheCrown-TaillorGroup_CJ.jpg
ORGANIZER;CN="The Domme Kat":MAILTO:theDommeKat@protonmail.com
END:VEVENT
BEGIN:VEVENT
DTSTART;VALUE=DATE:20250805
DTEND;VALUE=DATE:20251001
DTSTAMP:20260425T152718
CREATED:20250806T003500Z
LAST-MODIFIED:20250905T074029Z
UID:1046-1754352000-1759276799@www.thedominakatarina.com
SUMMARY:Let's celebrate the end of summer with a special on sessions! [EXTENDED]
DESCRIPTION:i haven’t been to the beach all summer! I’m looking forward to a day off and finally having a beach day! And one of the fun parts of living life with gratitude means I get to share that feeling with others\, like you. \nHOW TO GET THE SUMMER SPECIAL PRICE\nIf you’re a good pet or someone who makes moves to get what they want\, you know the way to kneel before Me is through My contact form. As you also know\, darling kitten\, screening is mandatory. \nNEXT STEPS\n\nCommunicate with Me briefly to arrange a date\, time (location must be Brooklyn)\nSend the non-refundable deposit\nConsent to inviting My Taillor Domme Friends to watch\n\nExtra good human points if you tip the Dommes who watch. If you’d like Them to participate\, additional tribute applies. \nSpecial can also be applied to 30 minute sessions (Mondays only in Brooklyn). \nOffer ends September 30\, 2025. \nIf you’re ready to feel gratitude (and lots of other things)\, request your session here!\nSome of my friends that can join us:\nDiosa Holly Peño \n \n  \n  \n  \n  \nHurricane Liza \n \n  \n  \n  \n  \n  \nRoyal Payne \n \n  \n  \n  \n  \nCreator X \n \n  \n  \n  \n  \n  \nNina \n \n  \n  \n  \n  \nPriestess Vesta \n  \nDomina Vi \n \n  \n 
URL:https://www.thedominakatarina.com/event/summer-celebration-wrestling-sessions/
LOCATION:The Crown\, Brooklyn\, NY\, 11207\, United States
CATEGORIES:Announcements & Social Media,Sessions,Specials and Sales
ATTACH;FMTTYPE=image/png:https://www.thedominakatarina.com/wp-content/uploads/2025/08/KatBeach.png
ORGANIZER;CN="The Domme Kat":MAILTO:theDommeKat@protonmail.com
END:VEVENT
BEGIN:VEVENT
DTSTART;TZID=America/New_York:20250815T180000
DTEND;TZID=America/New_York:20250815T230000
DTSTAMP:20260425T152718
CREATED:20241212T105223Z
LAST-MODIFIED:20250606T024911Z
UID:662-1755280800-1755298800@www.thedominakatarina.com
SUMMARY:Surrender: Wrestling & Feminization Play Party
DESCRIPTION:NYC’s hottest wrestling and fetish party for adults looking to do something a little different on their Friday night.\n\nYour favorite wrestling house party is back with a new theme: Feminization! \nYou’re oh-so-pretty! And if you aren’t yet\, you will be (if you consent).\nDon’t understand gender play? Be sure to check out the workshop by the incredible The Commandant before the party starts! \nFriday\, August 15\n6 p.m. – 11 p.m.\nNYC near Union Square (address provided in ticket confirmation email) \nStruggle play\, grappling\, BJJ\, Judo\, primal play\, wrestling for pins\, tickle wrestling\, wrestling with ropes\, submission wrestling\, fantasy wrestling\, Zentai… it’s up to you! All types of fetish wrestling are welcome at Surrender. \nSurrender is one party with lots to do!\n\nWrestle on the open public mat with the friends you bring and the ones you’ll make\nLearn safety and maybe a few new moves\nParticipate in the included workshop with The Commandant\nVisit our vendors: elevated treats\, flash tattoo\, SW Survival Guide\, Fantasy Features\nChill out in the cuddle puddle room (designated smoke & chill area)\n…and always a few surprises!\n\nNever wrestled? This is the perfect place to try it! The party begins with lessons\, demos and primers on wrestling safety and consent. Referees will be available on the public mat to monitor safety. Wrestling is RACK (Risk Aware Consensual Kink). While safety measures have been put in place\, play at your own risk.\n \nAlways ASK before touching anyone. If someone is violating your boundaries or harassing you\, please speak to Katarina\, GlittersaurusRex or consent monitors wearing LED armbands. We have a zero tolerance policy for harassment. If you feel something\, say something. \nThis is a space for everyone to feel welcome. Racism\, sexism\, ableism\, ageism\, fatphobia\, homophobia\, transphobia\, kink shaming or any other form of discrimination will not be tolerated. \nThe space is unfortunately not wheelchair accessible. \nLive stream option TBA \nIn the interest of harm reduction\, a no-touch temperature check will be taken at the door.\nAll online ticket sales will end on August 15 at 12 a.m. ET. Door tickets ($80): Register to get the address and other party info.\nNO REFUNDS \nTransgender people of color (QTPOC) and SWs can ask for a promo code to get pay-what-you-can tickets. There are a limited number available. Ask Katarina for the code if you qualify. \nGuests can purchase an add-on donation to make more tickets available for those with financial hardship \nDemo bottom option TBA \nJoin us on FetLife to stay in-the-know for upcoming parties\, connect with fetish wrestling community and get extra details on each party. Have a question? Check out the FAQs.
URL:https://www.thedominakatarina.com/event/save-the-date-surrender-wrestling-feminization/
LOCATION:provided in ticket confirmation email\, near Union Square\, New York\, NY\, United States
CATEGORIES:Guest Instructor or Collaboration,MiniSessions,Party,Play Party,Play Party,SessionGirls,Workshops
ATTACH;FMTTYPE=image/png:https://www.thedominakatarina.com/wp-content/uploads/2024/12/Surrender-August-Feminization.png
ORGANIZER;CN="The Domme Kat":MAILTO:theDommeKat@protonmail.com
END:VEVENT
END:VCALENDAR